PDS_VERSION_ID = PDS3
/* FILE DATA ELEMENTS */
RECORD_TYPE = UNDEFINED
/* POINTERS TO DATA OBJECTS */
^IMAGE = ("HN200_0000_BL4.TIF")
/* IDENTIFICATION DATA ELEMENTS */
DATA_SET_ID = "MEX-M-HRSC-4-REFDR-MAPPROJECT-EXT8-V4.0"
DATA_SET_NAME = "MARS EXPRESS HRSC MAP PROJECTED REFDR EXTENSION8 V4.0"
DETECTOR_ID = MEX_HRSC_BLUE
EVENT_TYPE = "MARS-LOCAL-MAPPING-Fl-Lc-La"
INSTRUMENT_HOST_ID = MEX
INSTRUMENT_HOST_NAME = "MARS EXPRESS"
INSTRUMENT_ID = HRSC
INSTRUMENT_NAME = "HIGH RESOLUTION STEREO CAMERA"
MISSION_NAME = "MARS EXPRESS"
MISSION_PHASE_NAME = ME_Phase_46
PROCESSING_LEVEL_ID = 4
PRODUCT_CREATION_TIME = 2023-01-28T22:22:56.000Z
PRODUCT_ID = "HN200_0000_BL4.TIF"
RELEASE_ID = 0004
REVISION_ID = 0000
/* QUALITY DATA ELEMENTS */
DATA_QUALITY_ID = 1
DATA_QUALITY_DESC = "Data calculated based on original SPICE kernels"
/* TIME DATA ELEMENTS */
SPACECRAFT_CLOCK_START_COUNT = "1/0600579385.24899"
SPACECRAFT_CLOCK_STOP_COUNT = "1/0600579706.56980"
START_TIME = 2022-05-14T03:37:33.228Z
STOP_TIME = 2022-05-14T03:40:59.059Z
/* ORBITAL DATA ELEMENTS */
ASCENDING_NODE_LONGITUDE = 141.66
MAXIMUM_RESOLUTION = 0.0707
FOOTPRINT_POINT_LATITUDE = (-31.7595,-31.7514,-31.7406,-31.7342, -31.7223,-31.7218,-31.7143,-31.3853, -30.943,-30.6053,-30.156,-29.8145, -29.3609,-29.0158,-28.7828,-28.5501, -28.3178,-27.9636,-27.7268,-27.4907, -27.252,-27.0092,-26.7678,-26.5271, -26.2823,-26.0374,-25.7928,-25.5455, -25.2969,-25.0504,-24.799,-24.4189, -24.1659,-23.9085,-23.6527,-23.2651, -23.0042,-22.744,-22.4794,-22.215, -21.9489,-21.6801,-21.4117,-21.0033, -20.731,-20.4547,-20.1792,-19.7604, -19.4801,-19.3379,-19.3351,-19.338, -19.3375,-19.3375,-19.3365,-19.3349, -19.3347,-19.3361,-19.7595,-20.1805, -20.4578,-20.7353,-21.0087,-21.4186, -21.6881,-22.0922,-22.4901,-22.7557, -23.0169,-23.2778,-23.5378,-23.7952, -24.053,-24.4354,-24.689,-24.9433, -25.1925,-25.4423,-25.8154,-26.0609, -26.3066,-26.5531,-26.7945,-27.0363, -27.2772,-27.6355,-27.8728,-28.1106, -28.3466,-28.5794,-28.8125,-29.0459, -29.2773,-29.7346,-30.304,-30.7532, -31.1994,-31.6418,-31.7521,-31.7595)
FOOTPRINT_POINT_LONGITUDE = (328.568,328.037,327.497,327.223, 326.772,326.755,326.727,326.731,326.735 ,326.732,326.728,326.729,326.74,326.739 ,326.738,326.737,326.736,326.734, 326.732,326.732,326.73,326.722,326.718, 326.715,326.714,326.712,326.709,326.707 ,326.706,326.71,326.706,326.699,326.694 ,326.689,326.689,326.683,326.679, 326.675,326.671,326.667,326.661,326.655 ,326.649,326.639,326.632,326.625,326.62 ,326.609,326.6,326.595,326.595,327.305, 327.657,328.132,328.46,328.786,328.806, 328.813,328.807,328.8,328.796,328.792, 328.788,328.781,328.777,328.771,328.764 ,328.76,328.755,328.751,328.746,328.742 ,328.737,328.73,328.726,328.721,328.716 ,328.711,328.704,328.699,328.694, 328.689,328.684,328.679,328.674,328.667 ,328.661,328.656,328.651,328.646,328.64 ,328.635,328.629,328.618,328.604, 328.593,328.581,328.57,328.567,328.568)
ORBIT_NUMBER = 23200
ORBITAL_ECCENTRICITY = 0.576
ORBITAL_INCLINATION = 87.03
ORBITAL_SEMIMAJOR_AXIS = 8780.82
PERIAPSIS_ALTITUDE = 340.98
PERIAPSIS_ARGUMENT_ANGLE = 304.94
PERIAPSIS_TIME = 2022-05-14T03:31:39.000Z
SPACECRAFT_ORIENTATION = (0.0,1.0,0.0)
^MEX_ORIENTATION_DESC = "MEX_ORIENTATION_DESC.TXT"
SPACECRAFT_POINTING_MODE = ACROSSTRACK
^MEX_POINTING_DESC = "MEX_POINTING_DESC.TXT"
RIGHT_ASCENSION = -1e+32
DECLINATION = -1e+32
OFFSET_ANGLE = 0.9
SPACECRAFT_SOLAR_DISTANCE = 2.08212e+08
TARGET_NAME = MARS
/* CAMERA DATA ELEMENTS */
DETECTOR_TEMPERATURE = 18.3705
FOCAL_PLANE_TEMPERATURE = 8.1755
INST_CMPRS_NAME = "DISCRETE COSINE TRANSFORMATION (DCT)"
INST_CMPRS_RATIO = 9.18563
INST_CMPRS_QUALITY = 0
INST_CMPRS_QUANTZ_TBL_ID = 0
INSTRUMENT_TEMPERATURE = 11.0301
LENS_TEMPERATURE = 8.7872
MACROPIXEL_SIZE = 4
MISSING_FRAMES = 0
PIXEL_SUBSAMPLING_FLAG = N
SIGNAL_CHAIN_ID = 2
/* RADIOMETRIC DATA ELEMENTS */
BANDWIDTH = 76.0
CENTER_FILTER_WAVELENGTH = 444.0
RADIANCE_OFFSET = 0.900559
RADIANCE_SCALING_FACTOR = 0.00129086
REFLECTANCE_SCALING_FACTOR = 5.74971e-05
MEX:REFLECTANCE_OFFSET = 0.0401124
/* IMAGE OBJECT DEFINITIONS */
OBJECT = IMAGE
  INTERCHANGE_FORMAT = BINARY
  LINES = 14718
  LINE_SAMPLES = 2533
  SAMPLE_TYPE = UNSIGNED_INTEGER
  SAMPLE_BITS = 8
  BANDS = 1
  BAND_STORAGE_TYPE = BAND_SEQUENTIAL
  MAXIMUM = 255
  MEAN = 128.788
  MINIMUM = 1
  STANDARD_DEVIATION = 27.2499
END_OBJECT = IMAGE
/* MAP OBJECT DEFINITIONS */
OBJECT = IMAGE_MAP_PROJECTION
  ^DATA_SET_MAP_PROJECTION_CATALOG= "DSMAP.CAT"
  A_AXIS_RADIUS = 3396.0
  B_AXIS_RADIUS = 3396.0
  C_AXIS_RADIUS = 3396.0
  CENTER_LATITUDE = 0.0
  CENTER_LONGITUDE = 328.0
  COORDINATE_SYSTEM_NAME = PLANETOGRAPHIC
  COORDINATE_SYSTEM_TYPE = "BODY-FIXED ROTATING"
  EASTERNMOST_LONGITUDE = 328.813
  FIRST_STANDARD_PARALLEL = "N/A"
  LINE_FIRST_PIXEL = 1
  LINE_LAST_PIXEL = 14718
  LINE_PROJECTION_OFFSET = -22923.625
  MAP_PROJECTION_ROTATION = 0.0
  MAP_PROJECTION_TYPE = SINUSOIDAL
  MAP_RESOLUTION = 1185.42760773333
  MAP_SCALE = 0.05
  MAXIMUM_LATITUDE = -19.3347
  MINIMUM_LATITUDE = -31.7595
  POSITIVE_LONGITUDE_DIRECTION = EAST
  REFERENCE_LATITUDE = "N/A"
  REFERENCE_LONGITUDE = "N/A"
  SAMPLE_FIRST_PIXEL = 1
  SAMPLE_LAST_PIXEL = 2533
  SAMPLE_PROJECTION_OFFSET = 1604.125
  SECOND_STANDARD_PARALLEL = "N/A"
  WESTERNMOST_LONGITUDE = 326.595
END_OBJECT = IMAGE_MAP_PROJECTION
END
