PDS_VERSION_ID = PDS3
/* FILE DATA ELEMENTS */
RECORD_TYPE = UNDEFINED
/* POINTERS TO DATA OBJECTS */
^IMAGE = ("HN201_0009_RE4.TIF")
/* IDENTIFICATION DATA ELEMENTS */
DATA_SET_ID = "MEX-M-HRSC-4-REFDR-MAPPROJECT-EXT8-V4.0"
DATA_SET_NAME = "MARS EXPRESS HRSC MAP PROJECTED REFDR EXTENSION8 V4.0"
DETECTOR_ID = MEX_HRSC_RED
EVENT_TYPE = "MARS-LOCAL-CARTOGRAPHY-Im-Gl-Pf"
INSTRUMENT_HOST_ID = MEX
INSTRUMENT_HOST_NAME = "MARS EXPRESS"
INSTRUMENT_ID = HRSC
INSTRUMENT_NAME = "HIGH RESOLUTION STEREO CAMERA"
MISSION_NAME = "MARS EXPRESS"
MISSION_PHASE_NAME = ME_Phase_46
PROCESSING_LEVEL_ID = 4
PRODUCT_CREATION_TIME = 2023-01-28T22:22:56.000Z
PRODUCT_ID = "HN201_0009_RE4.TIF"
RELEASE_ID = 0004
REVISION_ID = 0000
/* QUALITY DATA ELEMENTS */
DATA_QUALITY_ID = 1
DATA_QUALITY_DESC = "Data calculated based on original SPICE kernels"
/* TIME DATA ELEMENTS */
SPACECRAFT_CLOCK_START_COUNT = "1/0600603889.24903"
SPACECRAFT_CLOCK_STOP_COUNT = "1/0600604206.08357"
START_TIME = 2022-05-14T10:25:31.301Z
STOP_TIME = 2022-05-14T10:29:42.750Z
/* ORBITAL DATA ELEMENTS */
ASCENDING_NODE_LONGITUDE = 141.64
MAXIMUM_RESOLUTION = 0.0569
FOOTPRINT_POINT_LATITUDE = (-72.6121,-72.5672,-72.4932,-72.3916, -72.389,-72.3015,-71.9644,-71.4608, -70.962,-70.6286,-70.2979,-69.9716, -69.6445,-69.3169,-68.9878,-68.6587, -68.3358,-68.0042,-67.5045,-67.1709, -66.8348,-66.331,-65.8255,-65.4883, -64.981,-64.6426,-64.1744,-63.603, -63.3159,-62.8849,-62.3136,-62.0215, -61.5859,-61.1514,-60.8613,-60.5713, -60.2801,-59.9889,-59.698,-59.2604, -58.9684,-58.6751,-58.3822,-58.0889, -57.7955,-57.5032,-57.2092,-56.9156, -56.7679,-56.7392,-56.7794,-56.7979, -56.8143,-56.8148,-56.8155,-57.1109, -57.4066,-57.7017,-57.9971,-58.2919, -58.5866,-58.8806,-59.1741,-59.4681, -59.7612,-60.0546,-60.4951,-60.9342, -61.2261,-61.5175,-61.8093,-62.0994, -62.5345,-62.9692,-63.2586,-63.5474, -63.8361,-64.4124,-64.7356,-65.0777, -65.4148,-65.7606,-66.1009,-66.4414, -66.9503,-67.4582,-67.9649,-68.4617, -68.7943,-69.134,-69.6329,-70.1302, -70.4622,-70.7996,-71.1386,-71.4766, -71.8137,-72.3305,-72.5031,-72.6121)
FOOTPRINT_POINT_LONGITUDE = (223.98,222.787,221.165,219.341,219.298 ,219.247,219.477,219.802,220.103, 220.294,220.477,220.651,220.819,220.982 ,221.138,221.29,221.441,221.583,221.786 ,221.917,222.042,222.224,222.397, 222.508,222.668,222.771,222.908,223.066 ,223.142,223.252,223.395,223.461, 223.559,223.653,223.715,223.775,223.833 ,223.89,223.945,224.026,224.079,224.129 ,224.179,224.227,224.275,224.321, 224.366,224.411,224.432,224.436,225.427 ,225.954,226.584,226.604,226.611, 226.589,226.566,226.543,226.518,226.494 ,226.469,226.444,226.418,226.391, 226.364,226.336,226.291,226.246,226.215 ,226.184,226.151,226.119,226.069, 226.016,225.98,225.944,225.906,225.827, 225.782,225.732,225.686,225.628,225.574 ,225.517,225.429,225.337,225.24,225.148 ,225.082,225.004,224.894,224.778, 224.695,224.606,224.516,224.422,224.325 ,224.169,224.114,223.98)
ORBIT_NUMBER = 23201
ORBITAL_ECCENTRICITY = 0.576
ORBITAL_INCLINATION = 87.03
ORBITAL_SEMIMAJOR_AXIS = 8781.7
PERIAPSIS_ALTITUDE = 340.22
PERIAPSIS_ARGUMENT_ANGLE = 304.75
PERIAPSIS_TIME = 2022-05-14T10:30:34.000Z
SPACECRAFT_ORIENTATION = (0.0,1.0,0.0)
^MEX_ORIENTATION_DESC = "MEX_ORIENTATION_DESC.TXT"
SPACECRAFT_POINTING_MODE = NADIR
^MEX_POINTING_DESC = "MEX_POINTING_DESC.TXT"
RIGHT_ASCENSION = -1e+32
DECLINATION = -1e+32
OFFSET_ANGLE = -1e+32
SPACECRAFT_SOLAR_DISTANCE = 2.08188e+08
TARGET_NAME = MARS
/* CAMERA DATA ELEMENTS */
DETECTOR_TEMPERATURE = 19.39
FOCAL_PLANE_TEMPERATURE = 8.7872
INST_CMPRS_NAME = "DISCRETE COSINE TRANSFORMATION (DCT)"
INST_CMPRS_RATIO = 20.4513
INST_CMPRS_QUALITY = 0
INST_CMPRS_QUANTZ_TBL_ID = 0
INSTRUMENT_TEMPERATURE = 12.2535
LENS_TEMPERATURE = 9.6028
MACROPIXEL_SIZE = 4
MISSING_FRAMES = 0
PIXEL_SUBSAMPLING_FLAG = N
SIGNAL_CHAIN_ID = 2
/* RADIOMETRIC DATA ELEMENTS */
BANDWIDTH = 48.0
CENTER_FILTER_WAVELENGTH = 748.0
RADIANCE_OFFSET = 1.61193
RADIANCE_SCALING_FACTOR = 0.00831992
REFLECTANCE_SCALING_FACTOR = 0.000822923
MEX:REFLECTANCE_OFFSET = 0.159436
/* IMAGE OBJECT DEFINITIONS */
OBJECT = IMAGE
  INTERCHANGE_FORMAT = BINARY
  LINES = 18713
  LINE_SAMPLES = 3367
  SAMPLE_TYPE = UNSIGNED_INTEGER
  SAMPLE_BITS = 8
  BANDS = 1
  BAND_STORAGE_TYPE = BAND_SEQUENTIAL
  MAXIMUM = 255
  MEAN = 74.1163
  MINIMUM = 1
  STANDARD_DEVIATION = 62.8825
END_OBJECT = IMAGE
/* MAP OBJECT DEFINITIONS */
OBJECT = IMAGE_MAP_PROJECTION
  ^DATA_SET_MAP_PROJECTION_CATALOG= "DSMAP.CAT"
  A_AXIS_RADIUS = 3396.0
  B_AXIS_RADIUS = 3396.0
  C_AXIS_RADIUS = 3396.0
  CENTER_LATITUDE = 0.0
  CENTER_LONGITUDE = 224.0
  COORDINATE_SYSTEM_NAME = PLANETOGRAPHIC
  COORDINATE_SYSTEM_TYPE = "BODY-FIXED ROTATING"
  EASTERNMOST_LONGITUDE = 226.611
  FIRST_STANDARD_PARALLEL = "N/A"
  LINE_FIRST_PIXEL = 1
  LINE_LAST_PIXEL = 18713
  LINE_PROJECTION_OFFSET = -67232.375
  MAP_PROJECTION_ROTATION = 0.0
  MAP_PROJECTION_TYPE = SINUSOIDAL
  MAP_RESOLUTION = 1185.42760773333
  MAP_SCALE = 0.05
  MAXIMUM_LATITUDE = -56.7392
  MINIMUM_LATITUDE = -72.6121
  POSITIVE_LONGITUDE_DIRECTION = EAST
  REFERENCE_LATITUDE = "N/A"
  REFERENCE_LONGITUDE = "N/A"
  SAMPLE_FIRST_PIXEL = 1
  SAMPLE_LAST_PIXEL = 3367
  SAMPLE_PROJECTION_OFFSET = 1678.125
  SECOND_STANDARD_PARALLEL = "N/A"
  WESTERNMOST_LONGITUDE = 219.247
END_OBJECT = IMAGE_MAP_PROJECTION
END
