PDS_VERSION_ID = PDS3
/* FILE DATA ELEMENTS */
RECORD_TYPE = UNDEFINED
/* POINTERS TO DATA OBJECTS */
^IMAGE = ("HN203_0000_ND4.TIF")
/* IDENTIFICATION DATA ELEMENTS */
DATA_SET_ID = "MEX-M-HRSC-4-REFDR-MAPPROJECT-EXT8-V4.0"
DATA_SET_NAME = "MARS EXPRESS HRSC MAP PROJECTED REFDR EXTENSION8 V4.0"
DETECTOR_ID = MEX_HRSC_NADIR
EVENT_TYPE = "MARS-REGIONAL-MAPPING-Im-Eo-Mw"
INSTRUMENT_HOST_ID = MEX
INSTRUMENT_HOST_NAME = "MARS EXPRESS"
INSTRUMENT_ID = HRSC
INSTRUMENT_NAME = "HIGH RESOLUTION STEREO CAMERA"
MISSION_NAME = "MARS EXPRESS"
MISSION_PHASE_NAME = ME_Phase_46
PROCESSING_LEVEL_ID = 4
PRODUCT_CREATION_TIME = 2023-01-28T22:22:56.000Z
PRODUCT_ID = "HN203_0000_ND4.TIF"
RELEASE_ID = 0004
REVISION_ID = 0000
/* QUALITY DATA ELEMENTS */
DATA_QUALITY_ID = 1
DATA_QUALITY_DESC = "Data calculated based on original SPICE kernels"
/* TIME DATA ELEMENTS */
SPACECRAFT_CLOCK_START_COUNT = "1/0600654691.25968"
SPACECRAFT_CLOCK_STOP_COUNT = "1/0600654982.05666"
START_TIME = 2022-05-15T00:32:41.902Z
STOP_TIME = 2022-05-15T00:35:59.911Z
/* ORBITAL DATA ELEMENTS */
ASCENDING_NODE_LONGITUDE = 141.6
MAXIMUM_RESOLUTION = 0.0158
FOOTPRINT_POINT_LATITUDE = (-39.3793,-39.3846,-39.3878,-39.3917, -39.3926,-39.3926,-39.3915,-38.7198, -38.273,-37.815,-37.3576,-36.901, -36.5519,-36.3182,-36.0848,-35.8517, -35.6187,-35.3824,-35.144,-34.9059, -34.6679,-34.4303,-34.1898,-33.9467, -33.7039,-33.4615,-33.2193,-32.849, -32.6016,-32.3546,-32.1079,-31.8558, -31.6037,-31.3521,-30.9726,-30.7161, -30.4599,-30.204,-29.8138,-29.5531, -29.2928,-28.896,-28.631,-28.3664, -28.0967,-27.8272,-27.5581,-27.2847, -27.1479,-27.124,-27.1186,-27.1114, -27.102,-27.0893,-27.0887,-27.0888, -27.5004,-27.7697,-28.0397,-28.4431, -28.7085,-28.9742,-29.2392,-29.5, -29.7611,-30.1527,-30.4089,-30.6656, -30.9226,-31.1774,-31.4293,-31.6815, -31.934,-32.1843,-32.4316,-32.6792, -32.9272,-33.1746,-33.4172,-33.66, -33.9031,-34.1465,-34.3881,-34.626, -34.8643,-35.1028,-35.3416,-35.5788, -35.8121,-36.0457,-36.2794,-36.5132, -36.9778,-37.4352,-37.8935,-38.3498, -38.7976,-39.2461,-39.3584,-39.3793)
FOOTPRINT_POINT_LONGITUDE = (25.4636,25.0736,24.769,24.179,23.612, 23.5947,23.6112,23.5997,23.5899,23.5832 ,23.5759,23.5681,23.5612,23.5574, 23.5529,23.5486,23.5438,23.5376,23.5326 ,23.5272,23.523,23.518,23.5126,23.5079, 23.5025,23.4967,23.4908,23.4814,23.4751 ,23.4691,23.4634,23.4551,23.4502, 23.4436,23.433,23.4257,23.4183,23.4108, 23.3989,23.3908,23.3827,23.3702,23.3616 ,23.3525,23.3454,23.337,23.3278,23.318, 23.3104,23.3096,23.7806,24.2626,24.7772 ,25.3487,25.3705,25.3811,25.3858, 25.3953,25.3976,25.3926,25.3936,25.3977 ,25.4007,25.4039,25.4063,25.408,25.411, 25.4133,25.4156,25.4182,25.4189,25.4216 ,25.4241,25.4263,25.4279,25.4298, 25.4314,25.4337,25.437,25.4413,25.444, 25.4464,25.445,25.4485,25.4517,25.4547, 25.4581,25.4605,25.4644,25.4652,25.468, 25.4768,25.4784,25.4846,25.4913,25.4968 ,25.5014,25.5064,25.5072,25.4636)
ORBIT_NUMBER = 23203
ORBITAL_ECCENTRICITY = 0.576
ORBITAL_INCLINATION = 87.01
ORBITAL_SEMIMAJOR_AXIS = 8783.73
PERIAPSIS_ALTITUDE = 341.22
PERIAPSIS_ARGUMENT_ANGLE = 304.42
PERIAPSIS_TIME = 2022-05-15T00:28:34.000Z
SPACECRAFT_ORIENTATION = (0.0,1.0,0.0)
^MEX_ORIENTATION_DESC = "MEX_ORIENTATION_DESC.TXT"
SPACECRAFT_POINTING_MODE = ACROSSTRACK
^MEX_POINTING_DESC = "MEX_POINTING_DESC.TXT"
RIGHT_ASCENSION = -1e+32
DECLINATION = -1e+32
OFFSET_ANGLE = -1.724
SPACECRAFT_SOLAR_DISTANCE = 2.08142e+08
TARGET_NAME = MARS
/* CAMERA DATA ELEMENTS */
DETECTOR_TEMPERATURE = 18.3705
FOCAL_PLANE_TEMPERATURE = 8.7872
INST_CMPRS_NAME = "DISCRETE COSINE TRANSFORMATION (DCT)"
INST_CMPRS_RATIO = 6.87172
INST_CMPRS_QUALITY = 0
INST_CMPRS_QUANTZ_TBL_ID = 0
INSTRUMENT_TEMPERATURE = 11.4379
LENS_TEMPERATURE = 9.6028
MACROPIXEL_SIZE = 1
MISSING_FRAMES = 0
PIXEL_SUBSAMPLING_FLAG = N
SIGNAL_CHAIN_ID = 0
/* RADIOMETRIC DATA ELEMENTS */
BANDWIDTH = 177.0
CENTER_FILTER_WAVELENGTH = 677.5
RADIANCE_OFFSET = 5.47615
RADIANCE_SCALING_FACTOR = 0.0104473
REFLECTANCE_SCALING_FACTOR = 0.000240442
MEX:REFLECTANCE_OFFSET = 0.126032
/* IMAGE OBJECT DEFINITIONS */
OBJECT = IMAGE
  INTERCHANGE_FORMAT = BINARY
  LINES = 58338
  LINE_SAMPLES = 8768
  SAMPLE_TYPE = UNSIGNED_INTEGER
  SAMPLE_BITS = 8
  BANDS = 1
  BAND_STORAGE_TYPE = BAND_SEQUENTIAL
  MAXIMUM = 254
  MEAN = 116.48
  MINIMUM = 1
  STANDARD_DEVIATION = 32.9221
END_OBJECT = IMAGE
/* MAP OBJECT DEFINITIONS */
OBJECT = IMAGE_MAP_PROJECTION
  ^DATA_SET_MAP_PROJECTION_CATALOG= "DSMAP.CAT"
  A_AXIS_RADIUS = 3396.0
  B_AXIS_RADIUS = 3396.0
  C_AXIS_RADIUS = 3396.0
  CENTER_LATITUDE = 0.0
  CENTER_LONGITUDE = 24.0
  COORDINATE_SYSTEM_NAME = PLANETOGRAPHIC
  COORDINATE_SYSTEM_TYPE = "BODY-FIXED ROTATING"
  EASTERNMOST_LONGITUDE = 25.5072
  FIRST_STANDARD_PARALLEL = "N/A"
  LINE_FIRST_PIXEL = 1
  LINE_LAST_PIXEL = 58338
  LINE_PROJECTION_OFFSET = -128448.0
  MAP_PROJECTION_ROTATION = 0.0
  MAP_PROJECTION_TYPE = SINUSOIDAL
  MAP_RESOLUTION = 4741.71043093333
  MAP_SCALE = 0.0125
  MAXIMUM_LATITUDE = -27.0887
  MINIMUM_LATITUDE = -39.3926
  POSITIVE_LONGITUDE_DIRECTION = EAST
  REFERENCE_LATITUDE = "N/A"
  REFERENCE_LONGITUDE = "N/A"
  SAMPLE_FIRST_PIXEL = 1
  SAMPLE_LAST_PIXEL = 8768
  SAMPLE_PROJECTION_OFFSET = 2908.0
  SECOND_STANDARD_PARALLEL = "N/A"
  WESTERNMOST_LONGITUDE = 23.3096
END_OBJECT = IMAGE_MAP_PROJECTION
END
