PDS_VERSION_ID = PDS3
/* FILE DATA ELEMENTS */
RECORD_TYPE = UNDEFINED
/* POINTERS TO DATA OBJECTS */
^IMAGE = ("HN203_0000_P24.TIF")
/* IDENTIFICATION DATA ELEMENTS */
DATA_SET_ID = "MEX-M-HRSC-4-REFDR-MAPPROJECT-EXT8-V4.0"
DATA_SET_NAME = "MARS EXPRESS HRSC MAP PROJECTED REFDR EXTENSION8 V4.0"
DETECTOR_ID = MEX_HRSC_P2
EVENT_TYPE = "MARS-REGIONAL-MAPPING-Im-Eo-Mw"
INSTRUMENT_HOST_ID = MEX
INSTRUMENT_HOST_NAME = "MARS EXPRESS"
INSTRUMENT_ID = HRSC
INSTRUMENT_NAME = "HIGH RESOLUTION STEREO CAMERA"
MISSION_NAME = "MARS EXPRESS"
MISSION_PHASE_NAME = ME_Phase_46
PROCESSING_LEVEL_ID = 4
PRODUCT_CREATION_TIME = 2023-01-28T22:22:56.000Z
PRODUCT_ID = "HN203_0000_P24.TIF"
RELEASE_ID = 0004
REVISION_ID = 0000
/* QUALITY DATA ELEMENTS */
DATA_QUALITY_ID = 1
DATA_QUALITY_DESC = "Data calculated based on original SPICE kernels"
/* TIME DATA ELEMENTS */
SPACECRAFT_CLOCK_START_COUNT = "1/0600654691.25968"
SPACECRAFT_CLOCK_STOP_COUNT = "1/0600654982.05666"
START_TIME = 2022-05-15T00:32:18.282Z
STOP_TIME = 2022-05-15T00:35:28.525Z
/* ORBITAL DATA ELEMENTS */
ASCENDING_NODE_LONGITUDE = 141.6
MAXIMUM_RESOLUTION = 0.0317
FOOTPRINT_POINT_LATITUDE = (-39.3514,-39.3972,-39.4298,-39.4576, -39.4584,-39.43,-38.7468,-38.1836, -37.8421,-37.3871,-37.0467,-36.5891, -36.3554,-36.1228,-35.8897,-35.6569, -35.4263,-35.0734,-34.836,-34.596, -34.2384,-33.9996,-33.7573,-33.5136, -33.2703,-33.027,-32.7841,-32.5378, -32.288,-32.0384,-31.7915,-31.5414, -31.2877,-31.0339,-30.6534,-30.261, -30.002,-29.6143,-29.3557,-29.0918, -28.8278,-28.5644,-28.3021,-28.028, -27.6235,-27.3558,-27.2225,-27.1769, -27.1488,-27.1314,-27.1129,-27.0881, -27.05,-27.0483,-27.0484,-27.323, -27.5871,-27.8554,-28.1272,-28.5275, -28.7936,-29.0539,-29.3185,-29.5772, -29.8367,-30.0971,-30.3546,-30.7447, -30.9992,-31.254,-31.5059,-31.7545, -32.0032,-32.2529,-32.626,-32.8691, -33.1147,-33.359,-33.6006,-33.8433, -34.0815,-34.4414,-34.7983,-35.0367, -35.2725,-35.5051,-35.737,-35.9706, -36.2051,-36.4372,-36.6655,-36.8947, -37.2379,-37.8045,-38.2622,-38.6047, -38.9474,-39.1759,-39.2901,-39.3514)
FOOTPRINT_POINT_LONGITUDE = (25.4576,24.7498,24.1807,23.6339, 23.6171,23.6378,23.629,23.616,23.6115, 23.605,23.5994,23.5916,23.5882,23.5839, 23.58,23.5759,23.5701,23.5627,23.5574, 23.5539,23.547,23.5427,23.5378,23.5325, 23.5269,23.5213,23.5156,23.5097,23.5043 ,23.4989,23.4916,23.4865,23.4805, 23.4737,23.4635,23.453,23.4457,23.4344, 23.4269,23.4192,23.4113,23.4031,23.3939 ,23.3881,23.3759,23.3665,23.3601, 23.3585,23.8594,24.1438,24.4327,24.8048 ,25.3278,25.3484,25.3557,25.357,25.367, 25.3714,25.3712,25.3719,25.3722,25.3814 ,25.3808,25.3842,25.3868,25.3883, 25.3913,25.3957,25.3981,25.4005,25.4023 ,25.4054,25.4087,25.4108,25.4139, 25.4174,25.417,25.4191,25.4261,25.4301, 25.433,25.4333,25.4392,25.4428,25.4461, 25.4494,25.4544,25.4564,25.4572,25.4624 ,25.4728,25.4726,25.4737,25.4864, 25.4893,25.4934,25.4974,25.5004,25.5019 ,25.4576)
ORBIT_NUMBER = 23203
ORBITAL_ECCENTRICITY = 0.576
ORBITAL_INCLINATION = 87.01
ORBITAL_SEMIMAJOR_AXIS = 8783.73
PERIAPSIS_ALTITUDE = 341.22
PERIAPSIS_ARGUMENT_ANGLE = 304.42
PERIAPSIS_TIME = 2022-05-15T00:28:34.000Z
SPACECRAFT_ORIENTATION = (0.0,1.0,0.0)
^MEX_ORIENTATION_DESC = "MEX_ORIENTATION_DESC.TXT"
SPACECRAFT_POINTING_MODE = ACROSSTRACK
^MEX_POINTING_DESC = "MEX_POINTING_DESC.TXT"
RIGHT_ASCENSION = -1e+32
DECLINATION = -1e+32
OFFSET_ANGLE = -1.724
SPACECRAFT_SOLAR_DISTANCE = 2.08142e+08
TARGET_NAME = MARS
/* CAMERA DATA ELEMENTS */
DETECTOR_TEMPERATURE = 18.9822
FOCAL_PLANE_TEMPERATURE = 8.7872
INST_CMPRS_NAME = "DISCRETE COSINE TRANSFORMATION (DCT)"
INST_CMPRS_RATIO = 7.51749
INST_CMPRS_QUALITY = 0
INST_CMPRS_QUANTZ_TBL_ID = 0
INSTRUMENT_TEMPERATURE = 11.4379
LENS_TEMPERATURE = 9.6028
MACROPIXEL_SIZE = 2
PIXEL_SUBSAMPLING_FLAG = N
SIGNAL_CHAIN_ID = 3
/* RADIOMETRIC DATA ELEMENTS */
BANDWIDTH = 177.0
CENTER_FILTER_WAVELENGTH = 676.5
RADIANCE_OFFSET = 5.7619
RADIANCE_SCALING_FACTOR = 0.00941487
REFLECTANCE_SCALING_FACTOR = 0.000216268
MEX:REFLECTANCE_OFFSET = 0.132356
/* IMAGE OBJECT DEFINITIONS */
OBJECT = IMAGE
  INTERCHANGE_FORMAT = BINARY
  LINES = 29169
  LINE_SAMPLES = 4384
  SAMPLE_TYPE = UNSIGNED_INTEGER
  SAMPLE_BITS = 8
  BANDS = 1
  BAND_STORAGE_TYPE = BAND_SEQUENTIAL
  MAXIMUM = 255
  MEAN = 114.954
  MINIMUM = 1
  STANDARD_DEVIATION = 35.4759
END_OBJECT = IMAGE
/* MAP OBJECT DEFINITIONS */
OBJECT = IMAGE_MAP_PROJECTION
  ^DATA_SET_MAP_PROJECTION_CATALOG= "DSMAP.CAT"
  A_AXIS_RADIUS = 3396.0
  B_AXIS_RADIUS = 3396.0
  C_AXIS_RADIUS = 3396.0
  CENTER_LATITUDE = 0.0
  CENTER_LONGITUDE = 24.0
  COORDINATE_SYSTEM_NAME = PLANETOGRAPHIC
  COORDINATE_SYSTEM_TYPE = "BODY-FIXED ROTATING"
  EASTERNMOST_LONGITUDE = 25.5019
  FIRST_STANDARD_PARALLEL = "N/A"
  LINE_FIRST_PIXEL = 1
  LINE_LAST_PIXEL = 29169
  LINE_PROJECTION_OFFSET = -64224.25
  MAP_PROJECTION_ROTATION = 0.0
  MAP_PROJECTION_TYPE = SINUSOIDAL
  MAP_RESOLUTION = 2370.85521546667
  MAP_SCALE = 0.025
  MAXIMUM_LATITUDE = -27.0483
  MINIMUM_LATITUDE = -39.4584
  POSITIVE_LONGITUDE_DIRECTION = EAST
  REFERENCE_LATITUDE = "N/A"
  REFERENCE_LONGITUDE = "N/A"
  SAMPLE_FIRST_PIXEL = 1
  SAMPLE_LAST_PIXEL = 4384
  SAMPLE_PROJECTION_OFFSET = 1453.75
  SECOND_STANDARD_PARALLEL = "N/A"
  WESTERNMOST_LONGITUDE = 23.3585
END_OBJECT = IMAGE_MAP_PROJECTION
END
