PDS_VERSION_ID = PDS3
/* FILE DATA ELEMENTS */
RECORD_TYPE = UNDEFINED
/* POINTERS TO DATA OBJECTS */
^IMAGE = ("HN211_0000_RE4.TIF")
/* IDENTIFICATION DATA ELEMENTS */
DATA_SET_ID = "MEX-M-HRSC-4-REFDR-MAPPROJECT-EXT8-V4.0"
DATA_SET_NAME = "MARS EXPRESS HRSC MAP PROJECTED REFDR EXTENSION8 V4.0"
DETECTOR_ID = MEX_HRSC_RED
EVENT_TYPE = "MARS-LOCAL-CARTOGRAPHY-Te-La-Ts"
INSTRUMENT_HOST_ID = MEX
INSTRUMENT_HOST_NAME = "MARS EXPRESS"
INSTRUMENT_ID = HRSC
INSTRUMENT_NAME = "HIGH RESOLUTION STEREO CAMERA"
MISSION_NAME = "MARS EXPRESS"
MISSION_PHASE_NAME = ME_Phase_46
PROCESSING_LEVEL_ID = 4
PRODUCT_CREATION_TIME = 2023-01-28T22:22:56.000Z
PRODUCT_ID = "HN211_0000_RE4.TIF"
RELEASE_ID = 0004
REVISION_ID = 0000
/* QUALITY DATA ELEMENTS */
DATA_QUALITY_ID = 1
DATA_QUALITY_DESC = "Data calculated based on original SPICE kernels"
/* TIME DATA ELEMENTS */
SPACECRAFT_CLOCK_START_COUNT = "1/0600855651.25681"
SPACECRAFT_CLOCK_STOP_COUNT = "1/0600856132.55771"
START_TIME = 2022-05-17T08:21:31.479Z
STOP_TIME = 2022-05-17T08:27:47.731Z
/* ORBITAL DATA ELEMENTS */
ASCENDING_NODE_LONGITUDE = 141.46
MAXIMUM_RESOLUTION = 0.0569
FOOTPRINT_POINT_LATITUDE = (-51.1015,-51.1203,-51.1365,-51.1367, -51.0896,-50.6693,-50.2491,-49.6189, -48.9865,-48.565,-48.1427,-47.7214, -47.0901,-46.668,-46.0367,-45.6136, -45.1873,-44.3473,-43.9257,-43.2934, -42.5712,-42.0686,-41.3153,-40.5615, -40.0594,-39.5575,-39.0561,-38.304, -37.5523,-36.8028,-36.3031,-35.7948, -35.2839,-34.5126,-33.9937,-33.4695, -32.934,-32.3978,-31.8483,-31.2995, -30.7404,-29.8942,-29.3209,-28.7385, -28.1532,-27.5579,-26.9541,-26.6514, -26.5341,-26.502,-26.4557,-26.4548, -26.4557,-27.0613,-27.9579,-28.5467, -29.1313,-29.7034,-30.274,-30.8366, -31.3946,-31.9416,-32.4855,-33.0215, -33.5561,-34.0784,-34.8612,-35.3734, -36.142,-36.6384,-37.145,-37.8957, -38.3969,-38.8993,-39.4018,-39.9047, -40.408,-40.9078,-41.4159,-42.1709, -42.6747,-43.1597,-43.582,-44.0043, -44.6396,-45.0635,-45.488,-45.9112, -46.331,-46.7521,-47.1747,-47.8079, -48.23,-48.653,-49.2874,-49.709,-50.13, -50.7632,-50.9732,-51.1015)
FOOTPRINT_POINT_LONGITUDE = (287.238,286.472,285.35,285.332,285.348 ,285.369,285.388,285.416,285.442, 285.458,285.474,285.488,285.507,285.52, 285.536,285.547,285.558,285.574,285.582 ,285.592,285.602,285.608,285.615, 285.621,285.623,285.625,285.626,285.627 ,285.626,285.623,285.621,285.617, 285.613,285.606,285.599,285.593,285.586 ,285.578,285.57,285.561,285.551,285.535 ,285.523,285.51,285.497,285.482,285.467 ,285.459,285.456,286.375,287.395, 287.414,287.42,287.421,287.421,287.421, 287.42,287.42,287.419,287.417,287.415, 287.416,287.417,287.417,287.417,287.419 ,287.419,287.419,287.416,287.419, 287.412,287.411,287.41,287.408,287.406, 287.404,287.401,287.403,287.395,287.392 ,287.389,287.388,287.386,287.383, 287.377,287.372,287.366,287.362,287.362 ,287.36,287.356,287.35,287.346,287.34, 287.331,287.326,287.322,287.311,287.309 ,287.238)
ORBIT_NUMBER = 23211
ORBITAL_ECCENTRICITY = 0.576
ORBITAL_INCLINATION = 87.01
ORBITAL_SEMIMAJOR_AXIS = 8780.22
PERIAPSIS_ALTITUDE = 340.85
PERIAPSIS_ARGUMENT_ANGLE = 303.09
PERIAPSIS_TIME = 2022-05-17T08:20:30.000Z
SPACECRAFT_ORIENTATION = (0.0,1.0,0.0)
^MEX_ORIENTATION_DESC = "MEX_ORIENTATION_DESC.TXT"
SPACECRAFT_POINTING_MODE = ACROSSTRACK
^MEX_POINTING_DESC = "MEX_POINTING_DESC.TXT"
RIGHT_ASCENSION = -1e+32
DECLINATION = -1e+32
OFFSET_ANGLE = -0.95
SPACECRAFT_SOLAR_DISTANCE = 2.07964e+08
TARGET_NAME = MARS
/* CAMERA DATA ELEMENTS */
DETECTOR_TEMPERATURE = 18.3705
FOCAL_PLANE_TEMPERATURE = 8.1755
INST_CMPRS_NAME = "DISCRETE COSINE TRANSFORMATION (DCT)"
INST_CMPRS_RATIO = 19.7363
INST_CMPRS_QUALITY = 0
INST_CMPRS_QUANTZ_TBL_ID = 0
INSTRUMENT_TEMPERATURE = 11.234
LENS_TEMPERATURE = 8.5833
MACROPIXEL_SIZE = 4
MISSING_FRAMES = 0
PIXEL_SUBSAMPLING_FLAG = N
SIGNAL_CHAIN_ID = 2
/* RADIOMETRIC DATA ELEMENTS */
BANDWIDTH = 48.0
CENTER_FILTER_WAVELENGTH = 748.0
RADIANCE_OFFSET = 1.26228
RADIANCE_SCALING_FACTOR = 0.00379063
REFLECTANCE_SCALING_FACTOR = 0.000374127
MEX:REFLECTANCE_OFFSET = 0.124584
/* IMAGE OBJECT DEFINITIONS */
OBJECT = IMAGE
  INTERCHANGE_FORMAT = BINARY
  LINES = 29162
  LINE_SAMPLES = 2201
  SAMPLE_TYPE = UNSIGNED_INTEGER
  SAMPLE_BITS = 8
  BANDS = 1
  BAND_STORAGE_TYPE = BAND_SEQUENTIAL
  MAXIMUM = 255
  MEAN = 96.5257
  MINIMUM = 1
  STANDARD_DEVIATION = 24.069
END_OBJECT = IMAGE
/* MAP OBJECT DEFINITIONS */
OBJECT = IMAGE_MAP_PROJECTION
  ^DATA_SET_MAP_PROJECTION_CATALOG= "DSMAP.CAT"
  A_AXIS_RADIUS = 3396.0
  B_AXIS_RADIUS = 3396.0
  C_AXIS_RADIUS = 3396.0
  CENTER_LATITUDE = 0.0
  CENTER_LONGITUDE = 286.0
  COORDINATE_SYSTEM_NAME = PLANETOGRAPHIC
  COORDINATE_SYSTEM_TYPE = "BODY-FIXED ROTATING"
  EASTERNMOST_LONGITUDE = 287.421
  FIRST_STANDARD_PARALLEL = "N/A"
  LINE_FIRST_PIXEL = 1
  LINE_LAST_PIXEL = 29162
  LINE_PROJECTION_OFFSET = -31388.625
  MAP_PROJECTION_ROTATION = 0.0
  MAP_PROJECTION_TYPE = SINUSOIDAL
  MAP_RESOLUTION = 1185.42760773333
  MAP_SCALE = 0.05
  MAXIMUM_LATITUDE = -26.4548
  MINIMUM_LATITUDE = -51.1367
  POSITIVE_LONGITUDE_DIRECTION = EAST
  REFERENCE_LATITUDE = "N/A"
  REFERENCE_LONGITUDE = "N/A"
  SAMPLE_FIRST_PIXEL = 1
  SAMPLE_LAST_PIXEL = 2201
  SAMPLE_PROJECTION_OFFSET = 648.625
  SECOND_STANDARD_PARALLEL = "N/A"
  WESTERNMOST_LONGITUDE = 285.332
END_OBJECT = IMAGE_MAP_PROJECTION
END
