PDS_VERSION_ID = PDS3
/* FILE DATA ELEMENTS */
RECORD_TYPE = UNDEFINED
/* POINTERS TO DATA OBJECTS */
^IMAGE = ("HN215_0000_GR4.TIF")
/* IDENTIFICATION DATA ELEMENTS */
DATA_SET_ID = "MEX-M-HRSC-4-REFDR-MAPPROJECT-EXT8-V4.0"
DATA_SET_NAME = "MARS EXPRESS HRSC MAP PROJECTED REFDR EXTENSION8 V4.0"
DETECTOR_ID = MEX_HRSC_GREEN
EVENT_TYPE = "MARS-REGIONAL-MAPPING-Te-Gl-Pf"
INSTRUMENT_HOST_ID = MEX
INSTRUMENT_HOST_NAME = "MARS EXPRESS"
INSTRUMENT_ID = HRSC
INSTRUMENT_NAME = "HIGH RESOLUTION STEREO CAMERA"
MISSION_NAME = "MARS EXPRESS"
MISSION_PHASE_NAME = ME_Phase_46
PROCESSING_LEVEL_ID = 4
PRODUCT_CREATION_TIME = 2023-01-28T22:22:56.000Z
PRODUCT_ID = "HN215_0000_GR4.TIF"
RELEASE_ID = 0004
REVISION_ID = 0000
/* QUALITY DATA ELEMENTS */
DATA_QUALITY_ID = 1
DATA_QUALITY_DESC = "Data calculated based on original SPICE kernels"
/* TIME DATA ELEMENTS */
SPACECRAFT_CLOCK_START_COUNT = "1/0600955994.23973"
SPACECRAFT_CLOCK_STOP_COUNT = "1/0600956300.38747"
START_TIME = 2022-05-18T12:14:27.530Z
STOP_TIME = 2022-05-18T12:18:26.563Z
/* ORBITAL DATA ELEMENTS */
ASCENDING_NODE_LONGITUDE = 141.39
MAXIMUM_RESOLUTION = 0.0539
FOOTPRINT_POINT_LATITUDE = (-65.0999,-65.0685,-64.9882,-64.9869, -64.9946,-64.687,-64.3793,-64.0714, -63.7632,-63.4549,-62.9919,-62.6832, -62.2197,-61.9104,-61.601,-61.2922, -60.8289,-60.5188,-60.0537,-59.744, -59.4342,-58.9695,-58.6595,-58.3494, -58.0394,-57.7223,-57.4122,-57.1023, -56.7923,-56.3272,-56.0171,-55.5521, -55.0874,-54.7776,-54.3129,-53.8485, -53.5387,-53.2294,-52.7656,-52.4563, -52.1472,-51.8385,-51.5294,-50.9124, -50.296,-49.6802,-49.5264,-49.4734, -49.4917,-49.5072,-49.521,-49.5213, -49.5223,-50.1395,-50.4484,-50.7575, -51.0668,-51.3762,-51.6858,-51.9955, -52.3054,-52.6155,-52.9257,-53.236, -53.5464,-53.8569,-54.1675,-54.4782, -54.7889,-55.1006,-55.4108,-55.7218, -56.033,-56.3439,-56.656,-57.1223, -57.5893,-57.9007,-58.2198,-58.5307, -58.9982,-59.3105,-59.7771,-60.2433, -60.5545,-60.8654,-61.1778,-61.4877, -61.9545,-62.2657,-62.5767,-62.8875, -63.1982,-63.5088,-63.9746,-64.2849, -64.5951,-64.9043,-65.0599,-65.0999)
FOOTPRINT_POINT_LONGITUDE = (235.829,234.925,233.099,233.073, 233.007,233.097,233.184,233.269,233.351 ,233.432,233.548,233.622,233.731, 233.801,233.87,233.932,234.022,234.086, 234.178,234.234,234.29,234.369,234.421, 234.471,234.521,234.57,234.616,234.66, 234.704,234.767,234.809,234.868,234.924 ,234.96,235.014,235.064,235.098,235.129 ,235.174,235.204,235.233,235.26,235.288 ,235.34,235.388,235.434,235.445,235.449 ,236.04,236.633,237.296,237.313,237.319 ,237.288,237.272,237.256,237.239, 237.222,237.204,237.186,237.168,237.149 ,237.13,237.111,237.091,237.07,237.049, 237.028,237.006,236.985,236.96,236.937, 236.913,236.887,236.865,236.824,236.784 ,236.757,236.73,236.7,236.656,236.629, 236.58,236.528,236.493,236.458,236.427, 236.385,236.33,236.292,236.252,236.211, 236.169,236.126,236.06,236.014,235.967, 235.915,235.892,235.829)
ORBIT_NUMBER = 23215
ORBITAL_ECCENTRICITY = 0.576
ORBITAL_INCLINATION = 87.02
ORBITAL_SEMIMAJOR_AXIS = 8778.68
PERIAPSIS_ALTITUDE = 339.97
PERIAPSIS_ARGUMENT_ANGLE = 302.38
PERIAPSIS_TIME = 2022-05-18T12:16:19.000Z
SPACECRAFT_ORIENTATION = (0.0,1.0,0.0)
^MEX_ORIENTATION_DESC = "MEX_ORIENTATION_DESC.TXT"
SPACECRAFT_POINTING_MODE = NADIR
^MEX_POINTING_DESC = "MEX_POINTING_DESC.TXT"
RIGHT_ASCENSION = -1e+32
DECLINATION = -1e+32
OFFSET_ANGLE = -1e+32
SPACECRAFT_SOLAR_DISTANCE = 2.0788e+08
TARGET_NAME = MARS
/* CAMERA DATA ELEMENTS */
DETECTOR_TEMPERATURE = 18.3705
FOCAL_PLANE_TEMPERATURE = 8.5833
INST_CMPRS_NAME = "DISCRETE COSINE TRANSFORMATION (DCT)"
INST_CMPRS_RATIO = 15.3317
INST_CMPRS_QUALITY = 0
INST_CMPRS_QUANTZ_TBL_ID = 0
INSTRUMENT_TEMPERATURE = 11.234
LENS_TEMPERATURE = 9.6028
MACROPIXEL_SIZE = 4
MISSING_FRAMES = 1
PIXEL_SUBSAMPLING_FLAG = N
SIGNAL_CHAIN_ID = 2
/* RADIOMETRIC DATA ELEMENTS */
BANDWIDTH = 88.0
CENTER_FILTER_WAVELENGTH = 538.0
RADIANCE_OFFSET = 2.10201
RADIANCE_SCALING_FACTOR = 0.0020608
REFLECTANCE_SCALING_FACTOR = 7.66739e-05
MEX:REFLECTANCE_OFFSET = 0.0782074
/* IMAGE OBJECT DEFINITIONS */
OBJECT = IMAGE
  INTERCHANGE_FORMAT = BINARY
  LINES = 18538
  LINE_SAMPLES = 2524
  SAMPLE_TYPE = UNSIGNED_INTEGER
  SAMPLE_BITS = 8
  BANDS = 1
  BAND_STORAGE_TYPE = BAND_SEQUENTIAL
  MAXIMUM = 255
  MEAN = 138.114
  MINIMUM = 1
  STANDARD_DEVIATION = 42.7451
END_OBJECT = IMAGE
/* MAP OBJECT DEFINITIONS */
OBJECT = IMAGE_MAP_PROJECTION
  ^DATA_SET_MAP_PROJECTION_CATALOG= "DSMAP.CAT"
  A_AXIS_RADIUS = 3396.0
  B_AXIS_RADIUS = 3396.0
  C_AXIS_RADIUS = 3396.0
  CENTER_LATITUDE = 0.0
  CENTER_LONGITUDE = 236.0
  COORDINATE_SYSTEM_NAME = PLANETOGRAPHIC
  COORDINATE_SYSTEM_TYPE = "BODY-FIXED ROTATING"
  EASTERNMOST_LONGITUDE = 237.319
  FIRST_STANDARD_PARALLEL = "N/A"
  LINE_FIRST_PIXEL = 1
  LINE_LAST_PIXEL = 18538
  LINE_PROJECTION_OFFSET = -58663.625
  MAP_PROJECTION_ROTATION = 0.0
  MAP_PROJECTION_TYPE = SINUSOIDAL
  MAP_RESOLUTION = 1185.42760773333
  MAP_SCALE = 0.05
  MAXIMUM_LATITUDE = -49.4734
  MINIMUM_LATITUDE = -65.09990000000001
  POSITIVE_LONGITUDE_DIRECTION = EAST
  REFERENCE_LATITUDE = "N/A"
  REFERENCE_LONGITUDE = "N/A"
  SAMPLE_FIRST_PIXEL = 1
  SAMPLE_LAST_PIXEL = 2524
  SAMPLE_PROJECTION_OFFSET = 1510.625
  SECOND_STANDARD_PARALLEL = "N/A"
  WESTERNMOST_LONGITUDE = 233.007
END_OBJECT = IMAGE_MAP_PROJECTION
END
