PDS_VERSION_ID = PDS3
/* FILE DATA ELEMENTS */
RECORD_TYPE = UNDEFINED
/* POINTERS TO DATA OBJECTS */
^IMAGE = ("HN215_0000_P24.TIF")
/* IDENTIFICATION DATA ELEMENTS */
DATA_SET_ID = "MEX-M-HRSC-4-REFDR-MAPPROJECT-EXT8-V4.0"
DATA_SET_NAME = "MARS EXPRESS HRSC MAP PROJECTED REFDR EXTENSION8 V4.0"
DETECTOR_ID = MEX_HRSC_P2
EVENT_TYPE = "MARS-REGIONAL-MAPPING-Te-Gl-Pf"
INSTRUMENT_HOST_ID = MEX
INSTRUMENT_HOST_NAME = "MARS EXPRESS"
INSTRUMENT_ID = HRSC
INSTRUMENT_NAME = "HIGH RESOLUTION STEREO CAMERA"
MISSION_NAME = "MARS EXPRESS"
MISSION_PHASE_NAME = ME_Phase_46
PROCESSING_LEVEL_ID = 4
PRODUCT_CREATION_TIME = 2023-01-28T22:22:56.000Z
PRODUCT_ID = "HN215_0000_P24.TIF"
RELEASE_ID = 0004
REVISION_ID = 0000
/* QUALITY DATA ELEMENTS */
DATA_QUALITY_ID = 1
DATA_QUALITY_DESC = "Data calculated based on original SPICE kernels"
/* TIME DATA ELEMENTS */
SPACECRAFT_CLOCK_START_COUNT = "1/0600955994.23973"
SPACECRAFT_CLOCK_STOP_COUNT = "1/0600956300.38747"
START_TIME = 2022-05-18T12:14:00.549Z
STOP_TIME = 2022-05-18T12:18:00.541Z
/* ORBITAL DATA ELEMENTS */
ASCENDING_NODE_LONGITUDE = 141.39
MAXIMUM_RESOLUTION = 0.0278
FOOTPRINT_POINT_LATITUDE = (-65.2026,-65.1741,-65.1244,-65.0849, -65.0834,-65.0244,-64.722,-64.4186, -64.1153,-63.8116,-63.3554,-63.0512, -62.7459,-62.4407,-61.9833,-61.5223, -61.0586,-60.7481,-60.1386,-59.8301, -59.5211,-59.0567,-58.7471,-58.4377, -58.128,-57.6633,-57.3523,-57.0412, -56.7303,-56.4191,-56.1081,-55.7945, -55.3283,-55.0161,-54.5479,-54.0791, -53.766,-53.2977,-52.9848,-52.6706, -52.358,-52.0442,-51.5747,-51.2617, -50.9481,-50.6333,-50.3195,-50.0052, -49.6914,-49.5345,-49.4972,-49.5224, -49.5467,-49.547,-49.5475,-49.8624, -50.177,-50.6491,-50.9638,-51.4357, -51.7502,-52.0646,-52.3789,-52.8502, -53.3212,-53.6353,-53.9492,-54.4197, -54.7336,-55.0444,-55.3607,-55.674, -55.9869,-56.3007,-56.6099,-56.9253, -57.2373,-57.7052,-58.1703,-58.6384, -58.9484,-59.2558,-59.5708,-60.0374, -60.3473,-60.6576,-61.1176,-61.4304, -61.7405,-62.2017,-62.5093,-62.9705, -63.2778,-63.5844,-63.8905,-64.3496, -64.6553,-64.964,-65.11,-65.2026)
FOOTPRINT_POINT_LONGITUDE = (235.845,235.015,233.829,233.032, 233.004,232.954,233.044,233.132,233.217 ,233.3,233.421,233.498,233.574,233.647, 233.755,233.856,233.951,234.012,234.138 ,234.196,234.252,234.334,234.387, 234.438,234.489,234.562,234.609,234.654 ,234.699,234.742,234.784,234.824, 234.884,234.922,234.978,235.031,235.065 ,235.116,235.148,235.178,235.209, 235.238,235.281,235.309,235.336,235.361 ,235.386,235.41,235.434,235.446,235.448 ,236.222,237.285,237.303,237.31,237.294 ,237.279,237.255,237.238,237.213, 237.196,237.178,237.16,237.132,237.104, 237.084,237.064,237.033,237.011,236.992 ,236.967,236.944,236.921,236.896, 236.875,236.847,236.822,236.782,236.744 ,236.701,236.673,236.647,236.612, 236.564,236.532,236.499,236.452,236.413 ,236.376,236.322,236.284,236.225, 236.185,236.143,236.101,236.035,235.99, 235.939,235.923,235.845)
ORBIT_NUMBER = 23215
ORBITAL_ECCENTRICITY = 0.576
ORBITAL_INCLINATION = 87.02
ORBITAL_SEMIMAJOR_AXIS = 8778.68
PERIAPSIS_ALTITUDE = 339.97
PERIAPSIS_ARGUMENT_ANGLE = 302.38
PERIAPSIS_TIME = 2022-05-18T12:16:19.000Z
SPACECRAFT_ORIENTATION = (0.0,1.0,0.0)
^MEX_ORIENTATION_DESC = "MEX_ORIENTATION_DESC.TXT"
SPACECRAFT_POINTING_MODE = NADIR
^MEX_POINTING_DESC = "MEX_POINTING_DESC.TXT"
RIGHT_ASCENSION = -1e+32
DECLINATION = -1e+32
OFFSET_ANGLE = -1e+32
SPACECRAFT_SOLAR_DISTANCE = 2.0788e+08
TARGET_NAME = MARS
/* CAMERA DATA ELEMENTS */
DETECTOR_TEMPERATURE = 18.7783
FOCAL_PLANE_TEMPERATURE = 8.5833
INST_CMPRS_NAME = "DISCRETE COSINE TRANSFORMATION (DCT)"
INST_CMPRS_RATIO = 7.17618
INST_CMPRS_QUALITY = 0
INST_CMPRS_QUANTZ_TBL_ID = 0
INSTRUMENT_TEMPERATURE = 11.234
LENS_TEMPERATURE = 9.6028
MACROPIXEL_SIZE = 2
MISSING_FRAMES = 0
PIXEL_SUBSAMPLING_FLAG = N
SIGNAL_CHAIN_ID = 3
/* RADIOMETRIC DATA ELEMENTS */
BANDWIDTH = 177.0
CENTER_FILTER_WAVELENGTH = 676.5
RADIANCE_OFFSET = 5.72513
RADIANCE_SCALING_FACTOR = 0.00737917
REFLECTANCE_SCALING_FACTOR = 0.000169079
MEX:REFLECTANCE_OFFSET = 0.13118
/* IMAGE OBJECT DEFINITIONS */
OBJECT = IMAGE
  INTERCHANGE_FORMAT = BINARY
  LINES = 37075
  LINE_SAMPLES = 5047
  SAMPLE_TYPE = UNSIGNED_INTEGER
  SAMPLE_BITS = 8
  BANDS = 1
  BAND_STORAGE_TYPE = BAND_SEQUENTIAL
  MAXIMUM = 255
  MEAN = 130.147
  MINIMUM = 1
  STANDARD_DEVIATION = 36.0501
END_OBJECT = IMAGE
/* MAP OBJECT DEFINITIONS */
OBJECT = IMAGE_MAP_PROJECTION
  ^DATA_SET_MAP_PROJECTION_CATALOG= "DSMAP.CAT"
  A_AXIS_RADIUS = 3396.0
  B_AXIS_RADIUS = 3396.0
  C_AXIS_RADIUS = 3396.0
  CENTER_LATITUDE = 0.0
  CENTER_LONGITUDE = 236.0
  COORDINATE_SYSTEM_NAME = PLANETOGRAPHIC
  COORDINATE_SYSTEM_TYPE = "BODY-FIXED ROTATING"
  EASTERNMOST_LONGITUDE = 237.31
  FIRST_STANDARD_PARALLEL = "N/A"
  LINE_FIRST_PIXEL = 1
  LINE_LAST_PIXEL = 37075
  LINE_PROJECTION_OFFSET = -117326.75
  MAP_PROJECTION_ROTATION = 0.0
  MAP_PROJECTION_TYPE = SINUSOIDAL
  MAP_RESOLUTION = 2370.85521546667
  MAP_SCALE = 0.025
  MAXIMUM_LATITUDE = -49.4972
  MINIMUM_LATITUDE = -65.2026
  POSITIVE_LONGITUDE_DIRECTION = EAST
  REFERENCE_LATITUDE = "N/A"
  REFERENCE_LONGITUDE = "N/A"
  SAMPLE_FIRST_PIXEL = 1
  SAMPLE_LAST_PIXEL = 5047
  SAMPLE_PROJECTION_OFFSET = 3021.75
  SECOND_STANDARD_PARALLEL = "N/A"
  WESTERNMOST_LONGITUDE = 232.954
END_OBJECT = IMAGE_MAP_PROJECTION
END
