PDS_VERSION_ID = PDS3
/* FILE DATA ELEMENTS */
RECORD_TYPE = UNDEFINED
/* POINTERS TO DATA OBJECTS */
^IMAGE = ("HN215_0000_S24.TIF")
/* IDENTIFICATION DATA ELEMENTS */
DATA_SET_ID = "MEX-M-HRSC-4-REFDR-MAPPROJECT-EXT8-V4.0"
DATA_SET_NAME = "MARS EXPRESS HRSC MAP PROJECTED REFDR EXTENSION8 V4.0"
DETECTOR_ID = MEX_HRSC_S2
EVENT_TYPE = "MARS-REGIONAL-MAPPING-Te-Gl-Pf"
INSTRUMENT_HOST_ID = MEX
INSTRUMENT_HOST_NAME = "MARS EXPRESS"
INSTRUMENT_ID = HRSC
INSTRUMENT_NAME = "HIGH RESOLUTION STEREO CAMERA"
MISSION_NAME = "MARS EXPRESS"
MISSION_PHASE_NAME = ME_Phase_46
PROCESSING_LEVEL_ID = 4
PRODUCT_CREATION_TIME = 2023-01-28T22:22:56.000Z
PRODUCT_ID = "HN215_0000_S24.TIF"
RELEASE_ID = 0004
REVISION_ID = 0000
/* QUALITY DATA ELEMENTS */
DATA_QUALITY_ID = 1
DATA_QUALITY_DESC = "Data calculated based on original SPICE kernels"
/* TIME DATA ELEMENTS */
SPACECRAFT_CLOCK_START_COUNT = "1/0600955994.23973"
SPACECRAFT_CLOCK_STOP_COUNT = "1/0600956300.38747"
START_TIME = 2022-05-18T12:13:49.068Z
STOP_TIME = 2022-05-18T12:17:50.171Z
/* ORBITAL DATA ELEMENTS */
ASCENDING_NODE_LONGITUDE = 141.39
MAXIMUM_RESOLUTION = 0.0287
FOOTPRINT_POINT_LATITUDE = (-65.2403,-65.2015,-65.1678,-65.1188, -65.1173,-65.0298,-64.5791,-64.1262, -63.8241,-63.5217,-63.2187,-62.7636, -62.4593,-62.1562,-61.852,-61.39, -61.0831,-60.6173,-60.3169,-60.0094, -59.7008,-59.392,-59.0822,-58.617, -58.3075,-57.9973,-57.6875,-57.22, -56.9081,-56.5965,-56.129,-55.8133, -55.5041,-55.1895,-54.8758,-54.5627, -54.249,-53.7665,-53.2957,-52.9811, -52.6644,-52.3499,-52.034,-51.5617, -51.2466,-50.9296,-50.4542,-50.1366, -49.6615,-49.5031,-49.49,-49.5126, -49.5273,-49.5414,-49.5418,-49.5423, -49.8601,-50.1776,-50.6538,-50.9713, -51.4468,-51.7638,-52.0804,-52.3967, -52.7131,-53.187,-53.5031,-53.8188, -54.3022,-54.6178,-55.0861,-55.5629, -55.8768,-56.1916,-56.6582,-57.1312, -57.4445,-57.7563,-58.2202,-58.69, -58.9998,-59.3051,-59.6223,-60.0892, -60.3988,-60.7089,-61.166,-61.4814, -61.79,-62.2492,-62.5556,-62.862, -63.321,-63.6263,-64.083,-64.3873, -64.6915,-65.0,-65.1418,-65.2403)
FOOTPRINT_POINT_LONGITUDE = (235.862,234.768,233.986,233.01,232.982 ,232.94,233.074,233.203,233.287,233.368 ,233.446,233.561,233.634,233.707, 233.777,233.877,233.942,234.034,234.098 ,234.158,234.215,234.272,234.326, 234.405,234.457,234.507,234.556,234.626 ,234.672,234.716,234.781,234.821, 234.863,234.901,234.94,234.977,235.013, 235.067,235.118,235.15,235.181,235.212, 235.242,235.286,235.314,235.34,235.379, 235.404,235.44,235.452,235.453,236.1, 236.621,237.287,237.305,237.311,237.296 ,237.281,237.257,237.241,237.216, 237.199,237.181,237.163,237.145,237.117 ,237.097,237.078,237.046,237.025, 236.995,236.959,236.936,236.912,236.879 ,236.839,236.814,236.788,236.75,236.707 ,236.68,236.654,236.62,236.572,236.54, 236.507,236.462,236.422,236.386,236.333 ,236.296,236.258,236.198,236.158, 236.095,236.052,236.007,235.957,235.942 ,235.862)
ORBIT_NUMBER = 23215
ORBITAL_ECCENTRICITY = 0.576
ORBITAL_INCLINATION = 87.02
ORBITAL_SEMIMAJOR_AXIS = 8778.68
PERIAPSIS_ALTITUDE = 339.97
PERIAPSIS_ARGUMENT_ANGLE = 302.38
PERIAPSIS_TIME = 2022-05-18T12:16:19.000Z
SPACECRAFT_ORIENTATION = (0.0,1.0,0.0)
^MEX_ORIENTATION_DESC = "MEX_ORIENTATION_DESC.TXT"
SPACECRAFT_POINTING_MODE = NADIR
^MEX_POINTING_DESC = "MEX_POINTING_DESC.TXT"
RIGHT_ASCENSION = -1e+32
DECLINATION = -1e+32
OFFSET_ANGLE = -1e+32
SPACECRAFT_SOLAR_DISTANCE = 2.0788e+08
TARGET_NAME = MARS
/* CAMERA DATA ELEMENTS */
DETECTOR_TEMPERATURE = 18.7783
FOCAL_PLANE_TEMPERATURE = 8.5833
INST_CMPRS_NAME = "DISCRETE COSINE TRANSFORMATION (DCT)"
INST_CMPRS_RATIO = 13.2195
INST_CMPRS_QUALITY = 0
INST_CMPRS_QUANTZ_TBL_ID = 0
INSTRUMENT_TEMPERATURE = 11.234
LENS_TEMPERATURE = 9.6028
MACROPIXEL_SIZE = 2
MISSING_FRAMES = 3
PIXEL_SUBSAMPLING_FLAG = N
SIGNAL_CHAIN_ID = 1
/* RADIOMETRIC DATA ELEMENTS */
BANDWIDTH = 178.0
CENTER_FILTER_WAVELENGTH = 679.0
RADIANCE_OFFSET = 6.21495
RADIANCE_SCALING_FACTOR = 0.00742595
REFLECTANCE_SCALING_FACTOR = 0.000169944
MEX:REFLECTANCE_OFFSET = 0.14223
/* IMAGE OBJECT DEFINITIONS */
OBJECT = IMAGE
  INTERCHANGE_FORMAT = BINARY
  LINES = 37075
  LINE_SAMPLES = 5047
  SAMPLE_TYPE = UNSIGNED_INTEGER
  SAMPLE_BITS = 8
  BANDS = 1
  BAND_STORAGE_TYPE = BAND_SEQUENTIAL
  MAXIMUM = 255
  MEAN = 131.7
  MINIMUM = 1
  STANDARD_DEVIATION = 38.3567
END_OBJECT = IMAGE
/* MAP OBJECT DEFINITIONS */
OBJECT = IMAGE_MAP_PROJECTION
  ^DATA_SET_MAP_PROJECTION_CATALOG= "DSMAP.CAT"
  A_AXIS_RADIUS = 3396.0
  B_AXIS_RADIUS = 3396.0
  C_AXIS_RADIUS = 3396.0
  CENTER_LATITUDE = 0.0
  CENTER_LONGITUDE = 236.0
  COORDINATE_SYSTEM_NAME = PLANETOGRAPHIC
  COORDINATE_SYSTEM_TYPE = "BODY-FIXED ROTATING"
  EASTERNMOST_LONGITUDE = 237.311
  FIRST_STANDARD_PARALLEL = "N/A"
  LINE_FIRST_PIXEL = 1
  LINE_LAST_PIXEL = 37075
  LINE_PROJECTION_OFFSET = -117326.75
  MAP_PROJECTION_ROTATION = 0.0
  MAP_PROJECTION_TYPE = SINUSOIDAL
  MAP_RESOLUTION = 2370.85521546667
  MAP_SCALE = 0.025
  MAXIMUM_LATITUDE = -49.49
  MINIMUM_LATITUDE = -65.2403
  POSITIVE_LONGITUDE_DIRECTION = EAST
  REFERENCE_LATITUDE = "N/A"
  REFERENCE_LONGITUDE = "N/A"
  SAMPLE_FIRST_PIXEL = 1
  SAMPLE_LAST_PIXEL = 5047
  SAMPLE_PROJECTION_OFFSET = 3021.75
  SECOND_STANDARD_PARALLEL = "N/A"
  WESTERNMOST_LONGITUDE = 232.94
END_OBJECT = IMAGE_MAP_PROJECTION
END
