PDS_VERSION_ID = PDS3
/* FILE DATA ELEMENTS */
RECORD_TYPE = UNDEFINED
/* POINTERS TO DATA OBJECTS */
^IMAGE = ("HN222_0000_P14.TIF")
/* IDENTIFICATION DATA ELEMENTS */
DATA_SET_ID = "MEX-M-HRSC-4-REFDR-MAPPROJECT-EXT8-V4.0"
DATA_SET_NAME = "MARS EXPRESS HRSC MAP PROJECTED REFDR EXTENSION8 V4.0"
DETECTOR_ID = MEX_HRSC_P1
EVENT_TYPE = "MARS-REGIONAL-MAPPING-Te-Gl-Pf"
INSTRUMENT_HOST_ID = MEX
INSTRUMENT_HOST_NAME = "MARS EXPRESS"
INSTRUMENT_ID = HRSC
INSTRUMENT_NAME = "HIGH RESOLUTION STEREO CAMERA"
MISSION_NAME = "MARS EXPRESS"
MISSION_PHASE_NAME = ME_Phase_46
PROCESSING_LEVEL_ID = 4
PRODUCT_CREATION_TIME = 2023-01-28T22:22:56.000Z
PRODUCT_ID = "HN222_0000_P14.TIF"
RELEASE_ID = 0004
REVISION_ID = 0000
/* QUALITY DATA ELEMENTS */
DATA_QUALITY_ID = 1
DATA_QUALITY_DESC = "Data calculated based on original SPICE kernels"
/* TIME DATA ELEMENTS */
SPACECRAFT_CLOCK_START_COUNT = "1/0601131973.24996"
SPACECRAFT_CLOCK_STOP_COUNT = "1/0601132280.25827"
START_TIME = 2022-05-20T13:07:41.691Z
STOP_TIME = 2022-05-20T13:11:41.947Z
/* ORBITAL DATA ELEMENTS */
ASCENDING_NODE_LONGITUDE = 141.26
MAXIMUM_RESOLUTION = 0.0277
FOOTPRINT_POINT_LATITUDE = (-66.2455,-66.2153,-66.1672,-66.1294, -66.1281,-66.1805,-65.7091,-65.3929, -65.0808,-64.7681,-64.4551,-64.1414, -63.8287,-63.5153,-63.0459,-62.7327, -62.4194,-62.106,-61.7935,-61.4801, -61.1676,-60.8547,-60.5421,-60.2295, -59.9096,-59.4409,-59.128,-58.8144, -58.502,-58.1899,-57.8769,-57.5652, -57.2528,-56.9407,-56.3259,-56.0179, -55.6979,-55.3879,-54.9242,-54.6146, -54.1539,-53.5373,-53.225,-52.9162, -52.606,-51.9903,-51.6806,-51.2222, -50.7615,-50.6072,-50.603,-50.6234, -50.6412,-50.655,-50.6553,-50.6559, -51.2708,-51.887,-52.3501,-52.6591, -53.2741,-53.5847,-54.0509,-54.3627, -54.6745,-54.9849,-55.2956,-55.7619, -56.073,-56.3848,-56.6982,-57.0133, -57.3234,-57.6353,-57.949,-58.2622, -58.5757,-58.892,-59.2043,-59.5195, -59.8338,-60.3125,-60.7842,-61.1015, -61.4121,-61.885,-62.3555,-62.6701, -62.9852,-63.2998,-63.7724,-64.0874, -64.4024,-64.7177,-65.1906,-65.5061, -65.8214,-66.1362,-66.2936,-66.2455)
FOOTPRINT_POINT_LONGITUDE = (240.706,239.84,238.671,237.866,237.838 ,237.746,237.901,238.003,238.096, 238.186,238.275,238.361,238.444,238.525 ,238.641,238.716,238.789,238.86,238.928 ,238.995,239.059,239.122,239.183, 239.242,239.301,239.384,239.438,239.492 ,239.542,239.592,239.641,239.687, 239.733,239.777,239.853,239.891,239.939 ,239.976,240.03,240.065,240.112,240.175 ,240.209,240.239,240.27,240.326,240.354 ,240.391,240.428,240.441,240.442, 241.004,241.702,242.362,242.381,242.388 ,242.353,242.317,242.289,242.269, 242.226,242.206,242.175,242.154,242.132 ,242.108,242.084,242.047,242.022, 241.996,241.971,241.946,241.917,241.888 ,241.86,241.831,241.801,241.772,241.739 ,241.708,241.675,241.623,241.57,241.535 ,241.494,241.437,241.374,241.332, 241.289,241.244,241.176,241.128,241.079 ,241.029,240.952,240.898,240.843, 240.786,240.756,240.706)
ORBIT_NUMBER = 23222
ORBITAL_ECCENTRICITY = 0.576
ORBITAL_INCLINATION = 87.02
ORBITAL_SEMIMAJOR_AXIS = 8777.2
PERIAPSIS_ALTITUDE = 340.01
PERIAPSIS_ARGUMENT_ANGLE = 301.2
PERIAPSIS_TIME = 2022-05-20T13:09:18.000Z
SPACECRAFT_ORIENTATION = (0.0,1.0,0.0)
^MEX_ORIENTATION_DESC = "MEX_ORIENTATION_DESC.TXT"
SPACECRAFT_POINTING_MODE = NADIR
^MEX_POINTING_DESC = "MEX_POINTING_DESC.TXT"
RIGHT_ASCENSION = -1e+32
DECLINATION = -1e+32
OFFSET_ANGLE = -1e+32
SPACECRAFT_SOLAR_DISTANCE = 2.07737e+08
TARGET_NAME = MARS
/* CAMERA DATA ELEMENTS */
DETECTOR_TEMPERATURE = 16.9432
FOCAL_PLANE_TEMPERATURE = 8.5833
INST_CMPRS_NAME = "DISCRETE COSINE TRANSFORMATION (DCT)"
INST_CMPRS_RATIO = 10.9598
INST_CMPRS_QUALITY = 0
INST_CMPRS_QUANTZ_TBL_ID = 0
INSTRUMENT_TEMPERATURE = 11.234
LENS_TEMPERATURE = 8.5833
MACROPIXEL_SIZE = 2
MISSING_FRAMES = 2
PIXEL_SUBSAMPLING_FLAG = N
SIGNAL_CHAIN_ID = 3
/* RADIOMETRIC DATA ELEMENTS */
BANDWIDTH = 174.0
CENTER_FILTER_WAVELENGTH = 675.0
RADIANCE_OFFSET = 5.67245
RADIANCE_SCALING_FACTOR = 0.0120026
REFLECTANCE_SCALING_FACTOR = 0.000278607
MEX:REFLECTANCE_OFFSET = 0.13167
/* IMAGE OBJECT DEFINITIONS */
OBJECT = IMAGE
  INTERCHANGE_FORMAT = BINARY
  LINES = 37231
  LINE_SAMPLES = 5198
  SAMPLE_TYPE = UNSIGNED_INTEGER
  SAMPLE_BITS = 8
  BANDS = 1
  BAND_STORAGE_TYPE = BAND_SEQUENTIAL
  MAXIMUM = 255
  MEAN = 78.7307
  MINIMUM = 1
  STANDARD_DEVIATION = 23.3224
END_OBJECT = IMAGE
/* MAP OBJECT DEFINITIONS */
OBJECT = IMAGE_MAP_PROJECTION
  ^DATA_SET_MAP_PROJECTION_CATALOG= "DSMAP.CAT"
  A_AXIS_RADIUS = 3396.0
  B_AXIS_RADIUS = 3396.0
  C_AXIS_RADIUS = 3396.0
  CENTER_LATITUDE = 0.0
  CENTER_LONGITUDE = 241.0
  COORDINATE_SYSTEM_NAME = PLANETOGRAPHIC
  COORDINATE_SYSTEM_TYPE = "BODY-FIXED ROTATING"
  EASTERNMOST_LONGITUDE = 242.388
  FIRST_STANDARD_PARALLEL = "N/A"
  LINE_FIRST_PIXEL = 1
  LINE_LAST_PIXEL = 37231
  LINE_PROJECTION_OFFSET = -120000.75
  MAP_PROJECTION_ROTATION = 0.0
  MAP_PROJECTION_TYPE = SINUSOIDAL
  MAP_RESOLUTION = 2370.85521546667
  MAP_SCALE = 0.025
  MAXIMUM_LATITUDE = -50.603
  MINIMUM_LATITUDE = -66.2936
  POSITIVE_LONGITUDE_DIRECTION = EAST
  REFERENCE_LATITUDE = "N/A"
  REFERENCE_LONGITUDE = "N/A"
  SAMPLE_FIRST_PIXEL = 1
  SAMPLE_LAST_PIXEL = 5198
  SAMPLE_PROJECTION_OFFSET = 3138.25
  SECOND_STANDARD_PARALLEL = "N/A"
  WESTERNMOST_LONGITUDE = 237.746
END_OBJECT = IMAGE_MAP_PROJECTION
END
