PDS_VERSION_ID = PDS3
/* FILE DATA ELEMENTS */
RECORD_TYPE = UNDEFINED
/* POINTERS TO DATA OBJECTS */
^IMAGE = ("HN222_0000_S24.TIF")
/* IDENTIFICATION DATA ELEMENTS */
DATA_SET_ID = "MEX-M-HRSC-4-REFDR-MAPPROJECT-EXT8-V4.0"
DATA_SET_NAME = "MARS EXPRESS HRSC MAP PROJECTED REFDR EXTENSION8 V4.0"
DETECTOR_ID = MEX_HRSC_S2
EVENT_TYPE = "MARS-REGIONAL-MAPPING-Te-Gl-Pf"
INSTRUMENT_HOST_ID = MEX
INSTRUMENT_HOST_NAME = "MARS EXPRESS"
INSTRUMENT_ID = HRSC
INSTRUMENT_NAME = "HIGH RESOLUTION STEREO CAMERA"
MISSION_NAME = "MARS EXPRESS"
MISSION_PHASE_NAME = ME_Phase_46
PROCESSING_LEVEL_ID = 4
PRODUCT_CREATION_TIME = 2023-01-28T22:22:56.000Z
PRODUCT_ID = "HN222_0000_S24.TIF"
RELEASE_ID = 0004
REVISION_ID = 0000
/* QUALITY DATA ELEMENTS */
DATA_QUALITY_ID = 1
DATA_QUALITY_DESC = "Data calculated based on original SPICE kernels"
/* TIME DATA ELEMENTS */
SPACECRAFT_CLOCK_START_COUNT = "1/0601131973.24996"
SPACECRAFT_CLOCK_STOP_COUNT = "1/0601132280.25827"
START_TIME = 2022-05-20T13:06:48.093Z
STOP_TIME = 2022-05-20T13:10:50.096Z
/* ORBITAL DATA ELEMENTS */
ASCENDING_NODE_LONGITUDE = 141.26
MAXIMUM_RESOLUTION = 0.0286
FOOTPRINT_POINT_LATITUDE = (-66.4285,-66.3868,-66.3507,-66.2985, -66.2969,-66.1987,-65.7495,-65.1526, -64.6973,-64.0907,-63.7852,-63.4805, -63.1745,-62.7149,-62.4087,-62.1019, -61.7935,-61.4859,-61.1765,-60.8673, -60.5577,-60.2477,-59.9378,-59.6268, -59.3173,-58.8523,-58.5409,-58.2289, -57.9186,-57.6054,-57.2938,-56.9818, -56.657,-56.3408,-56.0214,-55.5642, -55.0903,-54.7738,-54.2961,-53.974, -53.6574,-53.1895,-52.8733,-52.5597, -52.2424,-51.926,-51.6119,-51.2908, -50.8144,-50.658,-50.6188,-50.6527, -50.6692,-50.6696,-50.6701,-50.9888, -51.4665,-51.7849,-52.1026,-52.4206, -52.7389,-53.0608,-53.3791,-53.8531, -54.1703,-54.4844,-54.8011,-55.1183, -55.4357,-55.9114,-56.386,-56.6992, -57.0112,-57.3311,-57.6449,-57.9582, -58.2723,-58.5858,-58.8937,-59.2104, -59.6769,-59.9881,-60.2998,-60.6117, -61.0727,-61.5459,-61.8534,-62.1671, -62.4765,-62.786,-63.0946,-63.5573, -63.8649,-64.1722,-64.6326,-65.0904, -65.3962,-66.1581,-66.3101,-66.4285)
FOOTPRINT_POINT_LONGITUDE = (240.735,239.591,238.773,237.753, 237.724,237.678,237.829,238.023,238.159 ,238.332,238.415,238.496,238.574, 238.688,238.761,238.832,238.901,238.969 ,239.034,239.098,239.16,239.221,239.28, 239.337,239.393,239.475,239.527,239.578 ,239.628,239.676,239.724,239.77,239.81, 239.852,239.893,239.959,240.017,240.054 ,240.107,240.14,240.174,240.226,240.258 ,240.291,240.321,240.35,240.38,240.406, 240.446,240.46,240.463,241.603,242.341, 242.359,242.366,242.349,242.323,242.305 ,242.288,242.269,242.25,242.228,242.208 ,242.179,242.158,242.138,242.117, 242.094,242.07,242.034,241.997,241.973, 241.95,241.921,241.894,241.868,241.84, 241.811,241.786,241.753,241.709,241.678 ,241.646,241.612,241.565,241.506, 241.472,241.431,241.393,241.353,241.313 ,241.25,241.207,241.163,241.094,241.024 ,240.975,240.847,240.82,240.735)
ORBIT_NUMBER = 23222
ORBITAL_ECCENTRICITY = 0.576
ORBITAL_INCLINATION = 87.02
ORBITAL_SEMIMAJOR_AXIS = 8777.2
PERIAPSIS_ALTITUDE = 340.01
PERIAPSIS_ARGUMENT_ANGLE = 301.2
PERIAPSIS_TIME = 2022-05-20T13:09:18.000Z
SPACECRAFT_ORIENTATION = (0.0,1.0,0.0)
^MEX_ORIENTATION_DESC = "MEX_ORIENTATION_DESC.TXT"
SPACECRAFT_POINTING_MODE = NADIR
^MEX_POINTING_DESC = "MEX_POINTING_DESC.TXT"
RIGHT_ASCENSION = -1e+32
DECLINATION = -1e+32
OFFSET_ANGLE = -1e+32
SPACECRAFT_SOLAR_DISTANCE = 2.07737e+08
TARGET_NAME = MARS
/* CAMERA DATA ELEMENTS */
DETECTOR_TEMPERATURE = 18.3705
FOCAL_PLANE_TEMPERATURE = 8.5833
INST_CMPRS_NAME = "DISCRETE COSINE TRANSFORMATION (DCT)"
INST_CMPRS_RATIO = 13.7737
INST_CMPRS_QUALITY = 0
INST_CMPRS_QUANTZ_TBL_ID = 0
INSTRUMENT_TEMPERATURE = 11.234
LENS_TEMPERATURE = 8.5833
MACROPIXEL_SIZE = 2
MISSING_FRAMES = 0
PIXEL_SUBSAMPLING_FLAG = N
SIGNAL_CHAIN_ID = 1
/* RADIOMETRIC DATA ELEMENTS */
BANDWIDTH = 178.0
CENTER_FILTER_WAVELENGTH = 679.0
RADIANCE_OFFSET = 6.16641
RADIANCE_SCALING_FACTOR = 0.0129478
REFLECTANCE_SCALING_FACTOR = 0.000295907
MEX:REFLECTANCE_OFFSET = 0.140926
/* IMAGE OBJECT DEFINITIONS */
OBJECT = IMAGE
  INTERCHANGE_FORMAT = BINARY
  LINES = 37231
  LINE_SAMPLES = 5198
  SAMPLE_TYPE = UNSIGNED_INTEGER
  SAMPLE_BITS = 8
  BANDS = 1
  BAND_STORAGE_TYPE = BAND_SEQUENTIAL
  MAXIMUM = 255
  MEAN = 69.9241
  MINIMUM = 1
  STANDARD_DEVIATION = 22.6096
END_OBJECT = IMAGE
/* MAP OBJECT DEFINITIONS */
OBJECT = IMAGE_MAP_PROJECTION
  ^DATA_SET_MAP_PROJECTION_CATALOG= "DSMAP.CAT"
  A_AXIS_RADIUS = 3396.0
  B_AXIS_RADIUS = 3396.0
  C_AXIS_RADIUS = 3396.0
  CENTER_LATITUDE = 0.0
  CENTER_LONGITUDE = 241.0
  COORDINATE_SYSTEM_NAME = PLANETOGRAPHIC
  COORDINATE_SYSTEM_TYPE = "BODY-FIXED ROTATING"
  EASTERNMOST_LONGITUDE = 242.366
  FIRST_STANDARD_PARALLEL = "N/A"
  LINE_FIRST_PIXEL = 1
  LINE_LAST_PIXEL = 37231
  LINE_PROJECTION_OFFSET = -120000.75
  MAP_PROJECTION_ROTATION = 0.0
  MAP_PROJECTION_TYPE = SINUSOIDAL
  MAP_RESOLUTION = 2370.85521546667
  MAP_SCALE = 0.025
  MAXIMUM_LATITUDE = -50.6188
  MINIMUM_LATITUDE = -66.4285
  POSITIVE_LONGITUDE_DIRECTION = EAST
  REFERENCE_LATITUDE = "N/A"
  REFERENCE_LONGITUDE = "N/A"
  SAMPLE_FIRST_PIXEL = 1
  SAMPLE_LAST_PIXEL = 5198
  SAMPLE_PROJECTION_OFFSET = 3138.25
  SECOND_STANDARD_PARALLEL = "N/A"
  WESTERNMOST_LONGITUDE = 237.678
END_OBJECT = IMAGE_MAP_PROJECTION
END
