PDS_VERSION_ID = PDS3
/* FILE DATA ELEMENTS */
RECORD_TYPE = UNDEFINED
/* POINTERS TO DATA OBJECTS */
^IMAGE = ("HN225_0000_IR4.TIF")
/* IDENTIFICATION DATA ELEMENTS */
DATA_SET_ID = "MEX-M-HRSC-4-REFDR-MAPPROJECT-EXT8-V4.0"
DATA_SET_NAME = "MARS EXPRESS HRSC MAP PROJECTED REFDR EXTENSION8 V4.0"
DETECTOR_ID = MEX_HRSC_IR
EVENT_TYPE = "MARS-REGIONAL-COLOR-Eb-La-Ts"
INSTRUMENT_HOST_ID = MEX
INSTRUMENT_HOST_NAME = "MARS EXPRESS"
INSTRUMENT_ID = HRSC
INSTRUMENT_NAME = "HIGH RESOLUTION STEREO CAMERA"
MISSION_NAME = "MARS EXPRESS"
MISSION_PHASE_NAME = ME_Phase_46
PROCESSING_LEVEL_ID = 4
PRODUCT_CREATION_TIME = 2023-01-28T22:22:56.000Z
PRODUCT_ID = "HN225_0000_IR4.TIF"
RELEASE_ID = 0004
REVISION_ID = 0000
/* QUALITY DATA ELEMENTS */
DATA_QUALITY_ID = 1
DATA_QUALITY_DESC = "Data calculated based on original SPICE kernels"
/* TIME DATA ELEMENTS */
SPACECRAFT_CLOCK_START_COUNT = "1/0601207790.23941"
SPACECRAFT_CLOCK_STOP_COUNT = "1/0601208118.49023"
START_TIME = 2022-05-21T10:11:32.988Z
STOP_TIME = 2022-05-21T10:15:40.187Z
/* ORBITAL DATA ELEMENTS */
ASCENDING_NODE_LONGITUDE = 141.21
MAXIMUM_RESOLUTION = 0.0694
FOOTPRINT_POINT_LATITUDE = (-41.2485,-41.2284,-41.2112,-41.1923, -41.1917,-41.2195,-40.5984,-39.9721, -39.5918,-39.3362,-39.0787,-38.6952, -38.4368,-38.0477,-37.7884,-37.3927, -37.1287,-36.8653,-36.4633,-36.1952, -35.9276,-35.6543,-35.3817,-35.1099, -34.834,-34.5572,-34.2811,-34.001, -33.7203,-33.2976,-33.0124,-32.7284, -32.4399,-32.0075,-31.5681,-31.2748, -30.9857,-30.6836,-30.2276,-29.9244, -29.4691,-29.0101,-28.5474,-28.2363, -27.9238,-27.4485,-27.2887,-27.19, -27.1958,-27.2006,-27.2044,-27.2068, -27.2097,-27.2119,-27.212,-27.2134, -27.5336,-27.8503,-28.1668,-28.4804, -28.7934,-29.103,-29.4115,-29.7168, -30.022,-30.3233,-30.6257,-30.9227, -31.3678,-31.6607,-32.0999,-32.3888, -32.8218,-33.1071,-33.5349,-33.8157, -34.0971,-34.3774,-34.6541,-34.9316, -35.3425,-35.6159,-36.0259,-36.429, -36.6981,-37.0974,-37.3618,-37.6266, -37.8895,-38.1482,-38.4075,-38.6673, -39.0537,-39.3102,-39.5674,-40.0767, -40.5801,-41.0853,-41.2117,-41.2485)
FOOTPRINT_POINT_LONGITUDE = (297.34,296.574,296.0,295.435,295.417, 295.412,295.416,295.418,295.419,295.419 ,295.42,295.419,295.419,295.418,295.417 ,295.415,295.413,295.411,295.408, 295.406,295.403,295.4,295.397,295.394, 295.391,295.387,295.383,295.379,295.374 ,295.367,295.362,295.357,295.351, 295.342,295.333,295.326,295.319,295.312 ,295.301,295.294,295.281,295.268, 295.255,295.245,295.235,295.22,295.215, 295.211,295.681,296.005,296.504,296.853 ,297.139,297.515,297.537,297.545, 297.541,297.538,297.534,297.531,297.528 ,297.526,297.522,297.519,297.516, 297.513,297.51,297.507,297.501,297.498, 297.493,297.489,297.484,297.481,297.475 ,297.472,297.469,297.465,297.462, 297.459,297.453,297.45,297.445,297.441, 297.437,297.432,297.429,297.425,297.421 ,297.417,297.412,297.408,297.403,297.4, 297.397,297.391,297.384,297.379,297.381 ,297.34)
ORBIT_NUMBER = 23225
ORBITAL_ECCENTRICITY = 0.576
ORBITAL_INCLINATION = 87.01
ORBITAL_SEMIMAJOR_AXIS = 8776.06
PERIAPSIS_ALTITUDE = 340.89
PERIAPSIS_ARGUMENT_ANGLE = 300.73
PERIAPSIS_TIME = 2022-05-21T10:06:25.000Z
SPACECRAFT_ORIENTATION = (0.0,1.0,0.0)
^MEX_ORIENTATION_DESC = "MEX_ORIENTATION_DESC.TXT"
SPACECRAFT_POINTING_MODE = ACROSSTRACK
^MEX_POINTING_DESC = "MEX_POINTING_DESC.TXT"
RIGHT_ASCENSION = -1e+32
DECLINATION = -1e+32
OFFSET_ANGLE = -0.7
SPACECRAFT_SOLAR_DISTANCE = 2.07679e+08
TARGET_NAME = MARS
/* CAMERA DATA ELEMENTS */
DETECTOR_TEMPERATURE = 16.9432
FOCAL_PLANE_TEMPERATURE = 8.5833
INST_CMPRS_NAME = "DISCRETE COSINE TRANSFORMATION (DCT)"
INST_CMPRS_RATIO = 10.9116
INST_CMPRS_QUALITY = 0
INST_CMPRS_QUANTZ_TBL_ID = 0
INSTRUMENT_TEMPERATURE = 11.234
LENS_TEMPERATURE = 7.9716
MACROPIXEL_SIZE = 4
MISSING_FRAMES = 0
PIXEL_SUBSAMPLING_FLAG = N
SIGNAL_CHAIN_ID = 2
/* RADIOMETRIC DATA ELEMENTS */
BANDWIDTH = 81.0
CENTER_FILTER_WAVELENGTH = 955.5
RADIANCE_OFFSET = 1.03682
RADIANCE_SCALING_FACTOR = 0.00244647
REFLECTANCE_SCALING_FACTOR = 0.000227642
MEX:REFLECTANCE_OFFSET = 0.0964753
/* IMAGE OBJECT DEFINITIONS */
OBJECT = IMAGE
  INTERCHANGE_FORMAT = BINARY
  LINES = 16672
  LINE_SAMPLES = 2282
  SAMPLE_TYPE = UNSIGNED_INTEGER
  SAMPLE_BITS = 8
  BANDS = 1
  BAND_STORAGE_TYPE = BAND_SEQUENTIAL
  MAXIMUM = 255
  MEAN = 135.878
  MINIMUM = 1
  STANDARD_DEVIATION = 31.6194
END_OBJECT = IMAGE
/* MAP OBJECT DEFINITIONS */
OBJECT = IMAGE_MAP_PROJECTION
  ^DATA_SET_MAP_PROJECTION_CATALOG= "DSMAP.CAT"
  A_AXIS_RADIUS = 3396.0
  B_AXIS_RADIUS = 3396.0
  C_AXIS_RADIUS = 3396.0
  CENTER_LATITUDE = 0.0
  CENTER_LONGITUDE = 296.0
  COORDINATE_SYSTEM_NAME = PLANETOGRAPHIC
  COORDINATE_SYSTEM_TYPE = "BODY-FIXED ROTATING"
  EASTERNMOST_LONGITUDE = 297.545
  FIRST_STANDARD_PARALLEL = "N/A"
  LINE_FIRST_PIXEL = 1
  LINE_LAST_PIXEL = 16672
  LINE_PROJECTION_OFFSET = -32241.125
  MAP_PROJECTION_ROTATION = 0.0
  MAP_PROJECTION_TYPE = SINUSOIDAL
  MAP_RESOLUTION = 1185.42760773333
  MAP_SCALE = 0.05
  MAXIMUM_LATITUDE = -27.19
  MINIMUM_LATITUDE = -41.2485
  POSITIVE_LONGITUDE_DIRECTION = EAST
  REFERENCE_LATITUDE = "N/A"
  REFERENCE_LONGITUDE = "N/A"
  SAMPLE_FIRST_PIXEL = 1
  SAMPLE_LAST_PIXEL = 2282
  SAMPLE_PROJECTION_OFFSET = 757.875
  SECOND_STANDARD_PARALLEL = "N/A"
  WESTERNMOST_LONGITUDE = 295.211
END_OBJECT = IMAGE_MAP_PROJECTION
END
