PDS_VERSION_ID = PDS3
/* FILE DATA ELEMENTS */
RECORD_TYPE = UNDEFINED
/* POINTERS TO DATA OBJECTS */
^IMAGE = ("HN245_0000_IR4.TIF")
/* IDENTIFICATION DATA ELEMENTS */
DATA_SET_ID = "MEX-M-HRSC-4-REFDR-MAPPROJECT-EXT8-V4.0"
DATA_SET_NAME = "MARS EXPRESS HRSC MAP PROJECTED REFDR EXTENSION8 V4.0"
DETECTOR_ID = MEX_HRSC_IR
EVENT_TYPE = "MARS-LOCAL-MAPPING-Gl-Pf-La"
INSTRUMENT_HOST_ID = MEX
INSTRUMENT_HOST_NAME = "MARS EXPRESS"
INSTRUMENT_ID = HRSC
INSTRUMENT_NAME = "HIGH RESOLUTION STEREO CAMERA"
MISSION_NAME = "MARS EXPRESS"
MISSION_PHASE_NAME = ME_Phase_46
PROCESSING_LEVEL_ID = 4
PRODUCT_CREATION_TIME = 2023-01-28T22:22:56.000Z
PRODUCT_ID = "HN245_0000_IR4.TIF"
RELEASE_ID = 0004
REVISION_ID = 0000
/* QUALITY DATA ELEMENTS */
DATA_QUALITY_ID = 1
DATA_QUALITY_DESC = "Data calculated based on original SPICE kernels"
/* TIME DATA ELEMENTS */
SPACECRAFT_CLOCK_START_COUNT = "1/0601710591.25688"
SPACECRAFT_CLOCK_STOP_COUNT = "1/0601710922.44995"
START_TIME = 2022-05-27T05:51:34.914Z
STOP_TIME = 2022-05-27T05:55:43.737Z
/* ORBITAL DATA ELEMENTS */
ASCENDING_NODE_LONGITUDE = 140.85
MAXIMUM_RESOLUTION = 0.0716
FOOTPRINT_POINT_LATITUDE = (-44.183,-44.164,-44.1472,-44.1283, -44.1277,-44.2071,-43.7114,-43.2112, -42.8284,-42.3206,-41.8052,-41.4207, -41.1602,-40.8968,-40.632,-40.3741, -40.1096,-39.8409,-39.5769,-39.3083, -39.0375,-38.7671,-38.4931,-38.2188, -37.945,-37.6676,-37.3886,-37.1109, -36.8283,-36.4045,-35.9754,-35.6887, -35.3983,-34.9624,-34.667,-34.2231, -33.7701,-33.4761,-33.1654,-32.8639, -32.3983,-32.0894,-31.7783,-31.462, -31.145,-30.6669,-30.3421,-30.185, -30.1313,-30.1356,-30.1384,-30.1391, -30.1481,-30.1513,-30.1516,-30.1516, -30.1523,-30.4789,-30.7981,-31.119, -31.4362,-31.7504,-32.0628,-32.3766, -32.8438,-33.1542,-33.459,-33.7606, -34.0589,-34.505,-34.9492,-35.3861, -35.6772,-35.9649,-36.3965,-36.6795, -36.9636,-37.2452,-37.5239,-37.9424, -38.3549,-38.6319,-38.9021,-39.1696, -39.4424,-39.7122,-39.9771,-40.2439, -40.6403,-40.9009,-41.1644,-41.5554, -41.8132,-42.0719,-42.587,-43.0938, -43.475,-44.0984,-44.2234,-44.183)
FOOTPRINT_POINT_LONGITUDE = (54.5696,53.7666,53.1636,52.5672, 52.5486,52.5311,52.5392,52.5467,52.552, 52.5581,52.5628,52.5654,52.567,52.5686, 52.5703,52.5705,52.5707,52.5715,52.5714 ,52.571,52.5707,52.5701,52.5693,52.5681 ,52.5666,52.565,52.563,52.5608,52.5582, 52.554,52.5492,52.5457,52.5419,52.5357, 52.5314,52.5245,52.5174,52.5106,52.5062 ,52.4996,52.4907,52.4835,52.4764, 52.4693,52.4619,52.4497,52.4417,52.4364 ,52.4349,52.8166,53.2467,53.5872, 54.0232,54.3918,54.8536,54.8768,54.8841 ,54.8825,54.8776,54.8745,54.8718, 54.8667,54.8634,54.8607,54.8585,54.858, 54.8544,54.8502,54.8447,54.8381,54.8316 ,54.8246,54.8196,54.8154,54.8084, 54.8036,54.799,54.794,54.7888,54.7811, 54.7736,54.7695,54.7629,54.7551,54.7508 ,54.7466,54.7399,54.7343,54.7256, 54.7187,54.7137,54.7052,54.6994,54.694, 54.6839,54.6715,54.6626,54.6477,54.6447 ,54.5696)
ORBIT_NUMBER = 23245
ORBITAL_ECCENTRICITY = 0.576
ORBITAL_INCLINATION = 87.02
ORBITAL_SEMIMAJOR_AXIS = 8773.63
PERIAPSIS_ALTITUDE = 340.7
PERIAPSIS_ARGUMENT_ANGLE = 297.35
PERIAPSIS_TIME = 2022-05-27T05:46:19.000Z
SPACECRAFT_ORIENTATION = (0.0,1.0,0.0)
^MEX_ORIENTATION_DESC = "MEX_ORIENTATION_DESC.TXT"
SPACECRAFT_POINTING_MODE = ACROSSTRACK
^MEX_POINTING_DESC = "MEX_POINTING_DESC.TXT"
RIGHT_ASCENSION = -1e+32
DECLINATION = -1e+32
OFFSET_ANGLE = -0.539
SPACECRAFT_SOLAR_DISTANCE = 2.0733e+08
TARGET_NAME = MARS
/* CAMERA DATA ELEMENTS */
DETECTOR_TEMPERATURE = 17.5549
FOCAL_PLANE_TEMPERATURE = 7.9716
INST_CMPRS_NAME = "DISCRETE COSINE TRANSFORMATION (DCT)"
INST_CMPRS_RATIO = 22.0124
INST_CMPRS_QUALITY = 0
INST_CMPRS_QUANTZ_TBL_ID = 0
INSTRUMENT_TEMPERATURE = 11.234
LENS_TEMPERATURE = 8.7872
MACROPIXEL_SIZE = 4
MISSING_FRAMES = 0
PIXEL_SUBSAMPLING_FLAG = N
SIGNAL_CHAIN_ID = 2
/* RADIOMETRIC DATA ELEMENTS */
BANDWIDTH = 81.0
CENTER_FILTER_WAVELENGTH = 955.5
RADIANCE_OFFSET = 1.86805
RADIANCE_SCALING_FACTOR = 0.00474427
REFLECTANCE_SCALING_FACTOR = 0.000439965
MEX:REFLECTANCE_OFFSET = 0.173236
/* IMAGE OBJECT DEFINITIONS */
OBJECT = IMAGE
  INTERCHANGE_FORMAT = BINARY
  LINES = 16702
  LINE_SAMPLES = 2324
  SAMPLE_TYPE = UNSIGNED_INTEGER
  SAMPLE_BITS = 8
  BANDS = 1
  BAND_STORAGE_TYPE = BAND_SEQUENTIAL
  MAXIMUM = 254
  MEAN = 168.56
  MINIMUM = 1
  STANDARD_DEVIATION = 51.875
END_OBJECT = IMAGE
/* MAP OBJECT DEFINITIONS */
OBJECT = IMAGE_MAP_PROJECTION
  ^DATA_SET_MAP_PROJECTION_CATALOG= "DSMAP.CAT"
  A_AXIS_RADIUS = 3396.0
  B_AXIS_RADIUS = 3396.0
  C_AXIS_RADIUS = 3396.0
  CENTER_LATITUDE = 0.0
  CENTER_LONGITUDE = 54.0
  COORDINATE_SYSTEM_NAME = PLANETOGRAPHIC
  COORDINATE_SYSTEM_TYPE = "BODY-FIXED ROTATING"
  EASTERNMOST_LONGITUDE = 54.8841
  FIRST_STANDARD_PARALLEL = "N/A"
  LINE_FIRST_PIXEL = 1
  LINE_LAST_PIXEL = 16702
  LINE_PROJECTION_OFFSET = -35715.125
  MAP_PROJECTION_ROTATION = 0.0
  MAP_PROJECTION_TYPE = SINUSOIDAL
  MAP_RESOLUTION = 1185.42760773333
  MAP_SCALE = 0.05
  MAXIMUM_LATITUDE = -30.1313
  MINIMUM_LATITUDE = -44.2234
  POSITIVE_LONGITUDE_DIRECTION = EAST
  REFERENCE_LATITUDE = "N/A"
  REFERENCE_LONGITUDE = "N/A"
  SAMPLE_FIRST_PIXEL = 1
  SAMPLE_LAST_PIXEL = 2324
  SAMPLE_PROJECTION_OFFSET = 1526.875
  SECOND_STANDARD_PARALLEL = "N/A"
  WESTERNMOST_LONGITUDE = 52.4349
END_OBJECT = IMAGE_MAP_PROJECTION
END
