PDS_VERSION_ID = PDS3
/* FILE DATA ELEMENTS */
RECORD_TYPE = UNDEFINED
/* POINTERS TO DATA OBJECTS */
^IMAGE = ("HN245_0000_ND4.TIF")
/* IDENTIFICATION DATA ELEMENTS */
DATA_SET_ID = "MEX-M-HRSC-4-REFDR-MAPPROJECT-EXT8-V4.0"
DATA_SET_NAME = "MARS EXPRESS HRSC MAP PROJECTED REFDR EXTENSION8 V4.0"
DETECTOR_ID = MEX_HRSC_NADIR
EVENT_TYPE = "MARS-LOCAL-MAPPING-Gl-Pf-La"
INSTRUMENT_HOST_ID = MEX
INSTRUMENT_HOST_NAME = "MARS EXPRESS"
INSTRUMENT_ID = HRSC
INSTRUMENT_NAME = "HIGH RESOLUTION STEREO CAMERA"
MISSION_NAME = "MARS EXPRESS"
MISSION_PHASE_NAME = ME_Phase_46
PROCESSING_LEVEL_ID = 4
PRODUCT_CREATION_TIME = 2023-01-28T22:22:56.000Z
PRODUCT_ID = "HN245_0000_ND4.TIF"
RELEASE_ID = 0004
REVISION_ID = 0000
/* QUALITY DATA ELEMENTS */
DATA_QUALITY_ID = 1
DATA_QUALITY_DESC = "Data calculated based on original SPICE kernels"
/* TIME DATA ELEMENTS */
SPACECRAFT_CLOCK_START_COUNT = "1/0601710591.25688"
SPACECRAFT_CLOCK_STOP_COUNT = "1/0601710922.44995"
START_TIME = 2022-05-27T05:51:02.258Z
STOP_TIME = 2022-05-27T05:54:53.276Z
/* ORBITAL DATA ELEMENTS */
ASCENDING_NODE_LONGITUDE = 140.85
MAXIMUM_RESOLUTION = 0.0165
FOOTPRINT_POINT_LATITUDE = (-44.2178,-44.2107,-44.1959,-44.1955, -44.1934,-43.5737,-43.0684,-42.5642, -42.0511,-41.7933,-41.2787,-41.0153, -40.7523,-40.4895,-40.2271,-39.9597, -39.6915,-39.4235,-39.156,-38.8827, -38.473,-38.2003,-37.7834,-37.5053, -37.2276,-36.9441,-36.6608,-36.378, -36.0905,-35.8022,-35.5145,-35.2223, -34.9291,-34.4873,-34.1892,-33.8917, -33.4309,-33.1285,-32.6679,-32.3608, -31.8929,-31.581,-31.2637,-30.9472, -30.6261,-30.3048,-30.1427,-30.1407, -30.1413,-30.1405,-30.1389,-30.1343, -30.1282,-30.1279,-30.1281,-30.613, -30.935,-31.2525,-31.5708,-31.8836, -32.3529,-32.6609,-33.1226,-33.4258, -33.8878,-34.1862,-34.4852,-34.9283, -35.2222,-35.5152,-35.8037,-36.0927, -36.3809,-36.6645,-36.9484,-37.2327, -37.5111,-37.7899,-38.2078,-38.4811, -38.8919,-39.1659,-39.4341,-39.7026, -39.9715,-40.2395,-40.5026,-40.7659, -41.0296,-41.2936,-41.5514,-41.8094, -42.0677,-42.3263,-42.7083,-43.214, -43.7207,-44.0914,-44.2151,-44.2178)
FOOTPRINT_POINT_LONGITUDE = (54.5152,53.5472,52.5982,52.5794, 52.5614,52.5733,52.5818,52.5898,52.5966 ,52.5992,52.604,52.6064,52.6085,52.6101 ,52.6112,52.6126,52.6137,52.6142, 52.6146,52.615,52.615,52.6146,52.6136, 52.6126,52.6113,52.6099,52.6082,52.6061 ,52.6039,52.6014,52.5988,52.5958, 52.5924,52.5874,52.5835,52.5803,52.5728 ,52.5684,52.5606,52.556,52.5471,52.541, 52.5352,52.5292,52.5214,52.5145,52.5101 ,52.51,52.8625,53.3494,53.7044,54.2446, 54.7413,54.764,54.7751,54.7723,54.7705, 54.7698,54.7659,54.764,54.7615,54.7595, 54.7624,54.761,54.756,54.7523,54.749, 54.7444,54.7409,54.7377,54.7342,54.7308 ,54.7274,54.7237,54.7201,54.7163, 54.7122,54.7081,54.7013,54.6991,54.6914 ,54.6846,54.6819,54.6778,54.6719, 54.6672,54.6624,54.6567,54.6517,54.6471 ,54.6426,54.6371,54.6323,54.6286, 54.6216,54.6105,54.5992,54.5921,54.5896 ,54.5152)
ORBIT_NUMBER = 23245
ORBITAL_ECCENTRICITY = 0.576
ORBITAL_INCLINATION = 87.02
ORBITAL_SEMIMAJOR_AXIS = 8773.63
PERIAPSIS_ALTITUDE = 340.7
PERIAPSIS_ARGUMENT_ANGLE = 297.35
PERIAPSIS_TIME = 2022-05-27T05:46:19.000Z
SPACECRAFT_ORIENTATION = (0.0,1.0,0.0)
^MEX_ORIENTATION_DESC = "MEX_ORIENTATION_DESC.TXT"
SPACECRAFT_POINTING_MODE = ACROSSTRACK
^MEX_POINTING_DESC = "MEX_POINTING_DESC.TXT"
RIGHT_ASCENSION = -1e+32
DECLINATION = -1e+32
OFFSET_ANGLE = -0.539
SPACECRAFT_SOLAR_DISTANCE = 2.0733e+08
TARGET_NAME = MARS
/* CAMERA DATA ELEMENTS */
DETECTOR_TEMPERATURE = 18.3705
FOCAL_PLANE_TEMPERATURE = 7.9716
INST_CMPRS_NAME = "DISCRETE COSINE TRANSFORMATION (DCT)"
INST_CMPRS_RATIO = 7.4299
INST_CMPRS_QUALITY = 0
INST_CMPRS_QUANTZ_TBL_ID = 0
INSTRUMENT_TEMPERATURE = 11.234
LENS_TEMPERATURE = 8.7872
MACROPIXEL_SIZE = 1
MISSING_FRAMES = 3
PIXEL_SUBSAMPLING_FLAG = N
SIGNAL_CHAIN_ID = 0
/* RADIOMETRIC DATA ELEMENTS */
BANDWIDTH = 177.0
CENTER_FILTER_WAVELENGTH = 677.5
RADIANCE_OFFSET = 7.55309
RADIANCE_SCALING_FACTOR = 0.0164866
REFLECTANCE_SCALING_FACTOR = 0.000376476
MEX:REFLECTANCE_OFFSET = 0.172477
/* IMAGE OBJECT DEFINITIONS */
OBJECT = IMAGE
  INTERCHANGE_FORMAT = BINARY
  LINES = 66805
  LINE_SAMPLES = 9295
  SAMPLE_TYPE = UNSIGNED_INTEGER
  SAMPLE_BITS = 8
  BANDS = 1
  BAND_STORAGE_TYPE = BAND_SEQUENTIAL
  MAXIMUM = 254
  MEAN = 167.605
  MINIMUM = 1
  STANDARD_DEVIATION = 48.0316
END_OBJECT = IMAGE
/* MAP OBJECT DEFINITIONS */
OBJECT = IMAGE_MAP_PROJECTION
  ^DATA_SET_MAP_PROJECTION_CATALOG= "DSMAP.CAT"
  A_AXIS_RADIUS = 3396.0
  B_AXIS_RADIUS = 3396.0
  C_AXIS_RADIUS = 3396.0
  CENTER_LATITUDE = 0.0
  CENTER_LONGITUDE = 54.0
  COORDINATE_SYSTEM_NAME = PLANETOGRAPHIC
  COORDINATE_SYSTEM_TYPE = "BODY-FIXED ROTATING"
  EASTERNMOST_LONGITUDE = 54.7751
  FIRST_STANDARD_PARALLEL = "N/A"
  LINE_FIRST_PIXEL = 1
  LINE_LAST_PIXEL = 66805
  LINE_PROJECTION_OFFSET = -142859.0
  MAP_PROJECTION_ROTATION = 0.0
  MAP_PROJECTION_TYPE = SINUSOIDAL
  MAP_RESOLUTION = 4741.71043093333
  MAP_SCALE = 0.0125
  MAXIMUM_LATITUDE = -30.1279
  MINIMUM_LATITUDE = -44.2178
  POSITIVE_LONGITUDE_DIRECTION = EAST
  REFERENCE_LATITUDE = "N/A"
  REFERENCE_LONGITUDE = "N/A"
  SAMPLE_FIRST_PIXEL = 1
  SAMPLE_LAST_PIXEL = 9295
  SAMPLE_PROJECTION_OFFSET = 6109.0
  SECOND_STANDARD_PARALLEL = "N/A"
  WESTERNMOST_LONGITUDE = 52.51
END_OBJECT = IMAGE_MAP_PROJECTION
END
