PDS_VERSION_ID = PDS3
/* FILE DATA ELEMENTS */
RECORD_TYPE = UNDEFINED
/* POINTERS TO DATA OBJECTS */
^IMAGE = ("HN245_0000_RE4.TIF")
/* IDENTIFICATION DATA ELEMENTS */
DATA_SET_ID = "MEX-M-HRSC-4-REFDR-MAPPROJECT-EXT8-V4.0"
DATA_SET_NAME = "MARS EXPRESS HRSC MAP PROJECTED REFDR EXTENSION8 V4.0"
DETECTOR_ID = MEX_HRSC_RED
EVENT_TYPE = "MARS-LOCAL-MAPPING-Gl-Pf-La"
INSTRUMENT_HOST_ID = MEX
INSTRUMENT_HOST_NAME = "MARS EXPRESS"
INSTRUMENT_ID = HRSC
INSTRUMENT_NAME = "HIGH RESOLUTION STEREO CAMERA"
MISSION_NAME = "MARS EXPRESS"
MISSION_PHASE_NAME = ME_Phase_46
PROCESSING_LEVEL_ID = 4
PRODUCT_CREATION_TIME = 2023-01-28T22:22:56.000Z
PRODUCT_ID = "HN245_0000_RE4.TIF"
RELEASE_ID = 0004
REVISION_ID = 0000
/* QUALITY DATA ELEMENTS */
DATA_QUALITY_ID = 1
DATA_QUALITY_DESC = "Data calculated based on original SPICE kernels"
/* TIME DATA ELEMENTS */
SPACECRAFT_CLOCK_START_COUNT = "1/0601710591.25688"
SPACECRAFT_CLOCK_STOP_COUNT = "1/0601710922.44995"
START_TIME = 2022-05-27T05:50:32.257Z
STOP_TIME = 2022-05-27T05:54:10.041Z
/* ORBITAL DATA ELEMENTS */
ASCENDING_NODE_LONGITUDE = 140.85
MAXIMUM_RESOLUTION = 0.0666
FOOTPRINT_POINT_LATITUDE = (-44.2486,-44.2577,-44.2602,-44.2591, -44.259,-44.1728,-43.9178,-43.5358, -43.0277,-42.5236,-42.1446,-41.8886, -41.5012,-41.2393,-40.9811,-40.7246, -40.4614,-40.1945,-39.7973,-39.5291, -39.2623,-38.9923,-38.7204,-38.4485, -38.1765,-37.7621,-37.484,-37.2054, -36.7851,-36.5012,-36.0752,-35.644, -35.3546,-35.0646,-34.7717,-34.4781, -34.0396,-33.7416,-33.292,-32.8354, -32.3791,-31.9133,-31.6016,-31.2925, -30.9798,-30.6597,-30.3395,-30.1761, -30.1629,-30.1604,-30.1549,-30.1421, -30.1173,-30.1166,-30.1179,-30.4397, -30.9192,-31.2345,-31.5521,-31.8632, -32.3287,-32.6339,-33.0842,-33.3829, -33.6847,-33.9878,-34.2834,-34.5795, -34.8763,-35.167,-35.4567,-35.7471, -36.0345,-36.3186,-36.6032,-37.0278, -37.3065,-37.5853,-37.8647,-38.2772, -38.5481,-38.8222,-39.2335,-39.4981, -39.8994,-40.1671,-40.4329,-40.694, -40.9566,-41.3467,-41.6074,-42.1181, -42.4976,-42.7519,-43.0075,-43.2624, -43.6444,-44.0267,-44.1545,-44.2486)
FOOTPRINT_POINT_LONGITUDE = (54.4913,53.7445,53.184,52.6294,52.6122 ,52.6037,52.6093,52.6171,52.6266, 52.6354,52.6412,52.6446,52.6493,52.6522 ,52.655,52.6578,52.6598,52.6616,52.6644 ,52.6657,52.6668,52.6679,52.6687, 52.6692,52.6695,52.6695,52.6692,52.6686 ,52.6674,52.6663,52.6641,52.6614, 52.6593,52.657,52.6543,52.6517,52.6476, 52.6444,52.639,52.6327,52.6264,52.6189, 52.6137,52.6088,52.6037,52.5972,52.591, 52.5874,52.5872,52.8999,53.3332,53.8495 ,54.6931,54.7134,54.72,54.7201,54.7175, 54.7181,54.7143,54.7138,54.7119,54.7114 ,54.7152,54.7151,54.7129,54.7095, 54.7073,54.7049,54.7022,54.6995,54.6973 ,54.6947,54.6918,54.6891,54.6862, 54.6817,54.6785,54.6752,54.6715,54.6661 ,54.6641,54.6595,54.6513,54.6492, 54.6425,54.6379,54.6338,54.6291,54.6234 ,54.6179,54.6137,54.6047,54.5998, 54.5955,54.5899,54.5851,54.578,54.5706, 54.5679,54.4913)
ORBIT_NUMBER = 23245
ORBITAL_ECCENTRICITY = 0.576
ORBITAL_INCLINATION = 87.02
ORBITAL_SEMIMAJOR_AXIS = 8773.63
PERIAPSIS_ALTITUDE = 340.7
PERIAPSIS_ARGUMENT_ANGLE = 297.35
PERIAPSIS_TIME = 2022-05-27T05:46:19.000Z
SPACECRAFT_ORIENTATION = (0.0,1.0,0.0)
^MEX_ORIENTATION_DESC = "MEX_ORIENTATION_DESC.TXT"
SPACECRAFT_POINTING_MODE = ACROSSTRACK
^MEX_POINTING_DESC = "MEX_POINTING_DESC.TXT"
RIGHT_ASCENSION = -1e+32
DECLINATION = -1e+32
OFFSET_ANGLE = -0.539
SPACECRAFT_SOLAR_DISTANCE = 2.0733e+08
TARGET_NAME = MARS
/* CAMERA DATA ELEMENTS */
DETECTOR_TEMPERATURE = 19.5939
FOCAL_PLANE_TEMPERATURE = 7.9716
INST_CMPRS_NAME = "DISCRETE COSINE TRANSFORMATION (DCT)"
INST_CMPRS_RATIO = 30.5519
INST_CMPRS_QUALITY = 0
INST_CMPRS_QUANTZ_TBL_ID = 0
INSTRUMENT_TEMPERATURE = 11.234
LENS_TEMPERATURE = 8.7872
MACROPIXEL_SIZE = 4
MISSING_FRAMES = 0
PIXEL_SUBSAMPLING_FLAG = N
SIGNAL_CHAIN_ID = 2
/* RADIOMETRIC DATA ELEMENTS */
BANDWIDTH = 48.0
CENTER_FILTER_WAVELENGTH = 748.0
RADIANCE_OFFSET = 2.20996
RADIANCE_SCALING_FACTOR = 0.00440927
REFLECTANCE_SCALING_FACTOR = 0.000432528
MEX:REFLECTANCE_OFFSET = 0.216786
/* IMAGE OBJECT DEFINITIONS */
OBJECT = IMAGE
  INTERCHANGE_FORMAT = BINARY
  LINES = 16702
  LINE_SAMPLES = 2324
  SAMPLE_TYPE = UNSIGNED_INTEGER
  SAMPLE_BITS = 8
  BANDS = 1
  BAND_STORAGE_TYPE = BAND_SEQUENTIAL
  MAXIMUM = 255
  MEAN = 170.204
  MINIMUM = 1
  STANDARD_DEVIATION = 53.0542
END_OBJECT = IMAGE
/* MAP OBJECT DEFINITIONS */
OBJECT = IMAGE_MAP_PROJECTION
  ^DATA_SET_MAP_PROJECTION_CATALOG= "DSMAP.CAT"
  A_AXIS_RADIUS = 3396.0
  B_AXIS_RADIUS = 3396.0
  C_AXIS_RADIUS = 3396.0
  CENTER_LATITUDE = 0.0
  CENTER_LONGITUDE = 54.0
  COORDINATE_SYSTEM_NAME = PLANETOGRAPHIC
  COORDINATE_SYSTEM_TYPE = "BODY-FIXED ROTATING"
  EASTERNMOST_LONGITUDE = 54.7201
  FIRST_STANDARD_PARALLEL = "N/A"
  LINE_FIRST_PIXEL = 1
  LINE_LAST_PIXEL = 16702
  LINE_PROJECTION_OFFSET = -35715.125
  MAP_PROJECTION_ROTATION = 0.0
  MAP_PROJECTION_TYPE = SINUSOIDAL
  MAP_RESOLUTION = 1185.42760773333
  MAP_SCALE = 0.05
  MAXIMUM_LATITUDE = -30.1166
  MINIMUM_LATITUDE = -44.2602
  POSITIVE_LONGITUDE_DIRECTION = EAST
  REFERENCE_LATITUDE = "N/A"
  REFERENCE_LONGITUDE = "N/A"
  SAMPLE_FIRST_PIXEL = 1
  SAMPLE_LAST_PIXEL = 2324
  SAMPLE_PROJECTION_OFFSET = 1526.875
  SECOND_STANDARD_PARALLEL = "N/A"
  WESTERNMOST_LONGITUDE = 52.5872
END_OBJECT = IMAGE_MAP_PROJECTION
END
