PDS_VERSION_ID = PDS3
/* FILE DATA ELEMENTS */
RECORD_TYPE = UNDEFINED
/* POINTERS TO DATA OBJECTS */
^IMAGE = ("HN248_0000_BL4.TIF")
/* IDENTIFICATION DATA ELEMENTS */
DATA_SET_ID = "MEX-M-HRSC-4-REFDR-MAPPROJECT-EXT8-V4.0"
DATA_SET_NAME = "MARS EXPRESS HRSC MAP PROJECTED REFDR EXTENSION8 V4.0"
DETECTOR_ID = MEX_HRSC_BLUE
EVENT_TYPE = "MARS-REGIONAL-MAPPING-Vo-Im-Fl"
INSTRUMENT_HOST_ID = MEX
INSTRUMENT_HOST_NAME = "MARS EXPRESS"
INSTRUMENT_ID = HRSC
INSTRUMENT_NAME = "HIGH RESOLUTION STEREO CAMERA"
MISSION_NAME = "MARS EXPRESS"
MISSION_PHASE_NAME = ME_Phase_46
PROCESSING_LEVEL_ID = 4
PRODUCT_CREATION_TIME = 2023-01-28T22:22:56.000Z
PRODUCT_ID = "HN248_0000_BL4.TIF"
RELEASE_ID = 0004
REVISION_ID = 0000
/* QUALITY DATA ELEMENTS */
DATA_QUALITY_ID = 1
DATA_QUALITY_DESC = "Data calculated based on original SPICE kernels"
/* TIME DATA ELEMENTS */
SPACECRAFT_CLOCK_START_COUNT = "1/0601786037.24917"
SPACECRAFT_CLOCK_STOP_COUNT = "1/0601786321.64668"
START_TIME = 2022-05-28T02:48:23.147Z
STOP_TIME = 2022-05-28T02:51:25.646Z
/* ORBITAL DATA ELEMENTS */
ASCENDING_NODE_LONGITUDE = 140.8
MAXIMUM_RESOLUTION = 0.0665
FOOTPRINT_POINT_LATITUDE = (-42.8596,-42.8471,-42.8397,-42.8315, -42.8224,-42.8059,-42.8052,-42.7924, -42.1852,-41.7769,-41.4707,-41.0544, -40.6367,-40.2185,-39.8993,-39.6861, -39.367,-39.1541,-38.937,-38.6111, -38.3935,-38.1764,-37.9555,-37.734, -37.5125,-37.2915,-37.067,-36.8407, -36.6149,-36.3896,-36.1616,-35.9317, -35.7019,-35.4725,-35.24,-35.0079, -34.7726,-34.5374,-34.2992,-34.0616, -33.8242,-33.4619,-33.2203,-32.8555, -32.6099,-32.3644,-31.9917,-31.7423, -31.6177,-31.5898,-31.5993,-31.6053, -31.6097,-31.6139,-31.6148,-31.6148, -31.6161,-31.8661,-32.1165,-32.3656, -32.6117,-32.858,-33.1036,-33.3454, -33.5879,-33.8305,-34.0685,-34.307, -34.6641,-34.8983,-35.1327,-35.4843, -35.7144,-35.9449,-36.176,-36.4045, -36.6305,-36.8568,-37.0833,-37.3092, -37.5304,-37.7528,-37.975,-38.1976, -38.4151,-38.6329,-38.8515,-39.0686, -39.2845,-39.605,-39.8189,-40.0327, -40.2463,-40.6646,-41.189,-41.6023, -42.2183,-42.727,-42.8274,-42.8596)
FOOTPRINT_POINT_LONGITUDE = (106.679,106.107,105.819,105.529, 105.238,104.761,104.743,104.699,104.722 ,104.742,104.756,104.763,104.779, 104.789,104.799,104.805,104.815,104.821 ,104.826,104.835,104.839,104.843, 104.848,104.853,104.857,104.861,104.863 ,104.865,104.868,104.871,104.874, 104.876,104.878,104.881,104.885,104.892 ,104.888,104.887,104.888,104.889,104.89 ,104.89,104.891,104.891,104.891,104.889 ,104.888,104.887,104.887,104.886, 105.401,105.811,106.199,106.705,107.047 ,107.067,107.074,107.068,107.062, 107.055,107.049,107.043,107.036,107.03, 107.023,107.016,107.01,107.003,106.992, 106.985,106.978,106.968,106.961,106.953 ,106.946,106.939,106.931,106.924, 106.916,106.908,106.901,106.893,106.885 ,106.877,106.869,106.861,106.853, 106.845,106.837,106.825,106.816,106.808 ,106.799,106.782,106.76,106.742,106.714 ,106.691,106.686,106.679)
ORBIT_NUMBER = 23248
ORBITAL_ECCENTRICITY = 0.576
ORBITAL_INCLINATION = 87.02
ORBITAL_SEMIMAJOR_AXIS = 8773.47
PERIAPSIS_ALTITUDE = 340.18
PERIAPSIS_ARGUMENT_ANGLE = 296.82
PERIAPSIS_TIME = 2022-05-28T02:43:17.000Z
SPACECRAFT_ORIENTATION = (0.0,1.0,0.0)
^MEX_ORIENTATION_DESC = "MEX_ORIENTATION_DESC.TXT"
SPACECRAFT_POINTING_MODE = ACROSSTRACK
^MEX_POINTING_DESC = "MEX_POINTING_DESC.TXT"
RIGHT_ASCENSION = -1e+32
DECLINATION = -1e+32
OFFSET_ANGLE = 0.539
SPACECRAFT_SOLAR_DISTANCE = 2.07283e+08
TARGET_NAME = MARS
/* CAMERA DATA ELEMENTS */
DETECTOR_TEMPERATURE = 17.9627
FOCAL_PLANE_TEMPERATURE = 8.1755
INST_CMPRS_NAME = "DISCRETE COSINE TRANSFORMATION (DCT)"
INST_CMPRS_RATIO = 16.0355
INST_CMPRS_QUALITY = 0
INST_CMPRS_QUANTZ_TBL_ID = 0
INSTRUMENT_TEMPERATURE = 11.4379
LENS_TEMPERATURE = 7.156
MACROPIXEL_SIZE = 4
MISSING_FRAMES = 0
PIXEL_SUBSAMPLING_FLAG = N
SIGNAL_CHAIN_ID = 2
/* RADIOMETRIC DATA ELEMENTS */
BANDWIDTH = 76.0
CENTER_FILTER_WAVELENGTH = 444.0
RADIANCE_OFFSET = 1.00012
RADIANCE_SCALING_FACTOR = 0.00114701
REFLECTANCE_SCALING_FACTOR = 5.06349e-05
MEX:REFLECTANCE_OFFSET = 0.0441504
/* IMAGE OBJECT DEFINITIONS */
OBJECT = IMAGE
  INTERCHANGE_FORMAT = BINARY
  LINES = 13344
  LINE_SAMPLES = 2253
  SAMPLE_TYPE = UNSIGNED_INTEGER
  SAMPLE_BITS = 8
  BANDS = 1
  BAND_STORAGE_TYPE = BAND_SEQUENTIAL
  MAXIMUM = 255
  MEAN = 136.03
  MINIMUM = 1
  STANDARD_DEVIATION = 20.3519
END_OBJECT = IMAGE
/* MAP OBJECT DEFINITIONS */
OBJECT = IMAGE_MAP_PROJECTION
  ^DATA_SET_MAP_PROJECTION_CATALOG= "DSMAP.CAT"
  A_AXIS_RADIUS = 3396.0
  B_AXIS_RADIUS = 3396.0
  C_AXIS_RADIUS = 3396.0
  CENTER_LATITUDE = 0.0
  CENTER_LONGITUDE = 106.0
  COORDINATE_SYSTEM_NAME = PLANETOGRAPHIC
  COORDINATE_SYSTEM_TYPE = "BODY-FIXED ROTATING"
  EASTERNMOST_LONGITUDE = 107.074
  FIRST_STANDARD_PARALLEL = "N/A"
  LINE_FIRST_PIXEL = 1
  LINE_LAST_PIXEL = 13344
  LINE_PROJECTION_OFFSET = -37454.375
  MAP_PROJECTION_ROTATION = 0.0
  MAP_PROJECTION_TYPE = SINUSOIDAL
  MAP_RESOLUTION = 1185.42760773333
  MAP_SCALE = 0.05
  MAXIMUM_LATITUDE = -31.5898
  MINIMUM_LATITUDE = -42.8596
  POSITIVE_LONGITUDE_DIRECTION = EAST
  REFERENCE_LATITUDE = "N/A"
  REFERENCE_LONGITUDE = "N/A"
  SAMPLE_FIRST_PIXEL = 1
  SAMPLE_LAST_PIXEL = 2253
  SAMPLE_PROJECTION_OFFSET = 1153.125
  SECOND_STANDARD_PARALLEL = "N/A"
  WESTERNMOST_LONGITUDE = 104.699
END_OBJECT = IMAGE_MAP_PROJECTION
END
