PDS_VERSION_ID = PDS3
/* FILE DATA ELEMENTS */
RECORD_TYPE = UNDEFINED
/* POINTERS TO DATA OBJECTS */
^IMAGE = ("HN248_0000_GR4.TIF")
/* IDENTIFICATION DATA ELEMENTS */
DATA_SET_ID = "MEX-M-HRSC-4-REFDR-MAPPROJECT-EXT8-V4.0"
DATA_SET_NAME = "MARS EXPRESS HRSC MAP PROJECTED REFDR EXTENSION8 V4.0"
DETECTOR_ID = MEX_HRSC_GREEN
EVENT_TYPE = "MARS-REGIONAL-MAPPING-Vo-Im-Fl"
INSTRUMENT_HOST_ID = MEX
INSTRUMENT_HOST_NAME = "MARS EXPRESS"
INSTRUMENT_ID = HRSC
INSTRUMENT_NAME = "HIGH RESOLUTION STEREO CAMERA"
MISSION_NAME = "MARS EXPRESS"
MISSION_PHASE_NAME = ME_Phase_46
PROCESSING_LEVEL_ID = 4
PRODUCT_CREATION_TIME = 2023-01-28T22:22:56.000Z
PRODUCT_ID = "HN248_0000_GR4.TIF"
RELEASE_ID = 0004
REVISION_ID = 0000
/* QUALITY DATA ELEMENTS */
DATA_QUALITY_ID = 1
DATA_QUALITY_DESC = "Data calculated based on original SPICE kernels"
/* TIME DATA ELEMENTS */
SPACECRAFT_CLOCK_START_COUNT = "1/0601786037.24917"
SPACECRAFT_CLOCK_STOP_COUNT = "1/0601786321.64668"
START_TIME = 2022-05-28T02:48:36.315Z
STOP_TIME = 2022-05-28T02:51:44.008Z
/* ORBITAL DATA ELEMENTS */
ASCENDING_NODE_LONGITUDE = 140.8
MAXIMUM_RESOLUTION = 0.0676
FOOTPRINT_POINT_LATITUDE = (-42.8412,-42.8352,-42.8283,-42.8224, -42.8158,-42.8022,-42.8017,-42.808, -42.2048,-41.8966,-41.5871,-41.2809, -40.8674,-40.4484,-40.0304,-39.8169, -39.6033,-39.2833,-39.0705,-38.8535, -38.6358,-38.4188,-38.2022,-37.9826, -37.7611,-37.5402,-37.3195,-37.0964, -36.8718,-36.6472,-36.4228,-36.0802, -35.8518,-35.6238,-35.2755,-35.0422, -34.8112,-34.5761,-34.3403,-34.1048, -33.8664,-33.6268,-33.3875,-33.1456, -32.9024,-32.6596,-32.4139,-32.1672, -31.7958,-31.6706,-31.5914,-31.5958, -31.5983,-31.5998,-31.6002,-31.5997, -31.5986,-31.5985,-31.5998,-31.9757, -32.2228,-32.4705,-32.8381,-33.082, -33.3261,-33.5659,-33.8062,-34.0468, -34.2828,-34.5194,-34.8737,-35.1061, -35.3391,-35.6871,-35.9159,-36.2592, -36.4879,-36.7128,-37.051,-37.2763, -37.6082,-37.9404,-38.1622,-38.3792, -38.5971,-38.8145,-39.033,-39.2478, -39.4615,-39.6749,-39.8891,-40.1021, -40.5218,-41.1507,-41.6651,-41.9745, -42.3822,-42.6847,-42.7857,-42.8412)
FOOTPRINT_POINT_LONGITUDE = (106.696,106.26,105.857,105.563,105.266 ,104.743,104.724,104.679,104.701, 104.719,104.736,104.738,104.749,104.761 ,104.773,104.779,104.786,104.795,104.8, 104.805,104.811,104.816,104.819,104.823 ,104.828,104.832,104.836,104.838,104.84 ,104.842,104.845,104.849,104.851, 104.852,104.857,104.863,104.861,104.859 ,104.859,104.86,104.86,104.861,104.861, 104.861,104.86,104.86,104.858,104.857, 104.855,104.855,104.854,105.32,105.679, 106.078,106.454,106.787,107.077,107.097 ,107.104,107.094,107.088,107.081, 107.071,107.064,107.057,107.05,107.044, 107.036,107.029,107.022,107.011,107.004 ,106.997,106.986,106.978,106.966, 106.959,106.952,106.94,106.932,106.92, 106.908,106.9,106.891,106.883,106.875, 106.867,106.859,106.85,106.842,106.833, 106.824,106.807,106.78,106.757,106.743, 106.724,106.709,106.704,106.696)
ORBIT_NUMBER = 23248
ORBITAL_ECCENTRICITY = 0.576
ORBITAL_INCLINATION = 87.02
ORBITAL_SEMIMAJOR_AXIS = 8773.47
PERIAPSIS_ALTITUDE = 340.18
PERIAPSIS_ARGUMENT_ANGLE = 296.82
PERIAPSIS_TIME = 2022-05-28T02:43:17.000Z
SPACECRAFT_ORIENTATION = (0.0,1.0,0.0)
^MEX_ORIENTATION_DESC = "MEX_ORIENTATION_DESC.TXT"
SPACECRAFT_POINTING_MODE = ACROSSTRACK
^MEX_POINTING_DESC = "MEX_POINTING_DESC.TXT"
RIGHT_ASCENSION = -1e+32
DECLINATION = -1e+32
OFFSET_ANGLE = 0.539
SPACECRAFT_SOLAR_DISTANCE = 2.07283e+08
TARGET_NAME = MARS
/* CAMERA DATA ELEMENTS */
DETECTOR_TEMPERATURE = 17.9627
FOCAL_PLANE_TEMPERATURE = 8.1755
INST_CMPRS_NAME = "DISCRETE COSINE TRANSFORMATION (DCT)"
INST_CMPRS_RATIO = 18.8004
INST_CMPRS_QUALITY = 0
INST_CMPRS_QUANTZ_TBL_ID = 0
INSTRUMENT_TEMPERATURE = 11.4379
LENS_TEMPERATURE = 7.156
MACROPIXEL_SIZE = 4
MISSING_FRAMES = 0
PIXEL_SUBSAMPLING_FLAG = N
SIGNAL_CHAIN_ID = 2
/* RADIOMETRIC DATA ELEMENTS */
BANDWIDTH = 88.0
CENTER_FILTER_WAVELENGTH = 538.0
RADIANCE_OFFSET = 2.54358
RADIANCE_SCALING_FACTOR = 0.00384276
REFLECTANCE_SCALING_FACTOR = 0.000142154
MEX:REFLECTANCE_OFFSET = 0.0940938
/* IMAGE OBJECT DEFINITIONS */
OBJECT = IMAGE
  INTERCHANGE_FORMAT = BINARY
  LINES = 13344
  LINE_SAMPLES = 2253
  SAMPLE_TYPE = UNSIGNED_INTEGER
  SAMPLE_BITS = 8
  BANDS = 1
  BAND_STORAGE_TYPE = BAND_SEQUENTIAL
  MAXIMUM = 255
  MEAN = 120.937
  MINIMUM = 1
  STANDARD_DEVIATION = 26.5159
END_OBJECT = IMAGE
/* MAP OBJECT DEFINITIONS */
OBJECT = IMAGE_MAP_PROJECTION
  ^DATA_SET_MAP_PROJECTION_CATALOG= "DSMAP.CAT"
  A_AXIS_RADIUS = 3396.0
  B_AXIS_RADIUS = 3396.0
  C_AXIS_RADIUS = 3396.0
  CENTER_LATITUDE = 0.0
  CENTER_LONGITUDE = 106.0
  COORDINATE_SYSTEM_NAME = PLANETOGRAPHIC
  COORDINATE_SYSTEM_TYPE = "BODY-FIXED ROTATING"
  EASTERNMOST_LONGITUDE = 107.104
  FIRST_STANDARD_PARALLEL = "N/A"
  LINE_FIRST_PIXEL = 1
  LINE_LAST_PIXEL = 13344
  LINE_PROJECTION_OFFSET = -37454.375
  MAP_PROJECTION_ROTATION = 0.0
  MAP_PROJECTION_TYPE = SINUSOIDAL
  MAP_RESOLUTION = 1185.42760773333
  MAP_SCALE = 0.05
  MAXIMUM_LATITUDE = -31.5914
  MINIMUM_LATITUDE = -42.8412
  POSITIVE_LONGITUDE_DIRECTION = EAST
  REFERENCE_LATITUDE = "N/A"
  REFERENCE_LONGITUDE = "N/A"
  SAMPLE_FIRST_PIXEL = 1
  SAMPLE_LAST_PIXEL = 2253
  SAMPLE_PROJECTION_OFFSET = 1153.125
  SECOND_STANDARD_PARALLEL = "N/A"
  WESTERNMOST_LONGITUDE = 104.679
END_OBJECT = IMAGE_MAP_PROJECTION
END
