PDS_VERSION_ID = PDS3
/* FILE DATA ELEMENTS */
RECORD_TYPE = UNDEFINED
/* POINTERS TO DATA OBJECTS */
^IMAGE = ("HN248_0000_RE4.TIF")
/* IDENTIFICATION DATA ELEMENTS */
DATA_SET_ID = "MEX-M-HRSC-4-REFDR-MAPPROJECT-EXT8-V4.0"
DATA_SET_NAME = "MARS EXPRESS HRSC MAP PROJECTED REFDR EXTENSION8 V4.0"
DETECTOR_ID = MEX_HRSC_RED
EVENT_TYPE = "MARS-REGIONAL-MAPPING-Vo-Im-Fl"
INSTRUMENT_HOST_ID = MEX
INSTRUMENT_HOST_NAME = "MARS EXPRESS"
INSTRUMENT_ID = HRSC
INSTRUMENT_NAME = "HIGH RESOLUTION STEREO CAMERA"
MISSION_NAME = "MARS EXPRESS"
MISSION_PHASE_NAME = ME_Phase_46
PROCESSING_LEVEL_ID = 4
PRODUCT_CREATION_TIME = 2023-01-28T22:22:56.000Z
PRODUCT_ID = "HN248_0000_RE4.TIF"
RELEASE_ID = 0004
REVISION_ID = 0000
/* QUALITY DATA ELEMENTS */
DATA_QUALITY_ID = 1
DATA_QUALITY_DESC = "Data calculated based on original SPICE kernels"
/* TIME DATA ELEMENTS */
SPACECRAFT_CLOCK_START_COUNT = "1/0601786037.24917"
SPACECRAFT_CLOCK_STOP_COUNT = "1/0601786321.64668"
START_TIME = 2022-05-28T02:47:58.263Z
STOP_TIME = 2022-05-28T02:50:52.830Z
/* ORBITAL DATA ELEMENTS */
ASCENDING_NODE_LONGITUDE = 140.8
MAXIMUM_RESOLUTION = 0.0675
FOOTPRINT_POINT_LATITUDE = (-42.9271,-42.906,-42.8809,-42.8668, -42.8416,-42.8406,-42.7906,-42.284, -41.8817,-41.5777,-41.2594,-40.844, -40.5271,-40.3152,-39.9985,-39.7872, -39.577,-39.3624,-39.1459,-38.9304, -38.7172,-38.4994,-38.2781,-38.0574, -37.7274,-37.397,-37.1696,-36.8286, -36.6027,-36.3776,-36.1474,-35.9168, -35.571,-35.3412,-35.1162,-34.876, -34.6351,-34.2784,-34.0389,-33.7992, -33.5599,-33.194,-32.9497,-32.706, -32.333,-32.0843,-31.7096,-31.5827, -31.5749,-31.5923,-31.6031,-31.6121, -31.6212,-31.6326,-31.6371,-31.6375, -31.6389,-31.8927,-32.1421,-32.3913, -32.7644,-33.1318,-33.3764,-33.6209, -33.8608,-34.1012,-34.3416,-34.5801, -34.9339,-35.1697,-35.5215,-35.7524, -35.9851,-36.219,-36.4456,-36.6719, -36.898,-37.1245,-37.3543,-37.576, -37.799,-38.0194,-38.2427,-38.4639, -38.6825,-38.9004,-39.2201,-39.4365, -39.7621,-39.9732,-40.2903,-40.5013, -40.713,-41.0286,-41.5451,-41.9594, -42.269,-42.7745,-42.8759,-42.9271)
FOOTPRINT_POINT_LONGITUDE = (106.65,106.091,105.526,105.242,104.775 ,104.757,104.714,104.734,104.755, 104.772,104.777,104.789,104.8,104.806, 104.816,104.822,104.83,104.837,104.843, 104.849,104.856,104.86,104.864,104.869, 104.877,104.884,104.887,104.891,104.895 ,104.898,104.901,104.904,104.908, 104.911,104.921,104.919,104.917,104.919 ,104.921,104.922,104.923,104.924, 104.924,104.925,104.925,104.924,104.924 ,104.923,104.923,105.36,105.675,105.95, 106.283,106.711,107.001,107.02,107.027, 107.021,107.015,107.01,107.001,106.992, 106.986,106.979,106.973,106.967,106.961 ,106.954,106.944,106.938,106.928, 106.921,106.914,106.906,106.9,106.893, 106.886,106.879,106.871,106.864,106.856 ,106.849,106.841,106.833,106.826, 106.818,106.807,106.799,106.787,106.779 ,106.766,106.758,106.75,106.737,106.715 ,106.697,106.684,106.661,106.656, 106.65)
ORBIT_NUMBER = 23248
ORBITAL_ECCENTRICITY = 0.576
ORBITAL_INCLINATION = 87.02
ORBITAL_SEMIMAJOR_AXIS = 8773.47
PERIAPSIS_ALTITUDE = 340.18
PERIAPSIS_ARGUMENT_ANGLE = 296.82
PERIAPSIS_TIME = 2022-05-28T02:43:17.000Z
SPACECRAFT_ORIENTATION = (0.0,1.0,0.0)
^MEX_ORIENTATION_DESC = "MEX_ORIENTATION_DESC.TXT"
SPACECRAFT_POINTING_MODE = ACROSSTRACK
^MEX_POINTING_DESC = "MEX_POINTING_DESC.TXT"
RIGHT_ASCENSION = -1e+32
DECLINATION = -1e+32
OFFSET_ANGLE = 0.539
SPACECRAFT_SOLAR_DISTANCE = 2.07283e+08
TARGET_NAME = MARS
/* CAMERA DATA ELEMENTS */
DETECTOR_TEMPERATURE = 18.1666
FOCAL_PLANE_TEMPERATURE = 8.1755
INST_CMPRS_NAME = "DISCRETE COSINE TRANSFORMATION (DCT)"
INST_CMPRS_RATIO = 23.8851
INST_CMPRS_QUALITY = 0
INST_CMPRS_QUANTZ_TBL_ID = 0
INSTRUMENT_TEMPERATURE = 11.4379
LENS_TEMPERATURE = 7.156
MACROPIXEL_SIZE = 4
MISSING_FRAMES = 0
PIXEL_SUBSAMPLING_FLAG = N
SIGNAL_CHAIN_ID = 2
/* RADIOMETRIC DATA ELEMENTS */
BANDWIDTH = 48.0
CENTER_FILTER_WAVELENGTH = 748.0
RADIANCE_OFFSET = 1.95795
RADIANCE_SCALING_FACTOR = 0.00577767
REFLECTANCE_SCALING_FACTOR = 0.000566507
MEX:REFLECTANCE_OFFSET = 0.191979
/* IMAGE OBJECT DEFINITIONS */
OBJECT = IMAGE
  INTERCHANGE_FORMAT = BINARY
  LINES = 13344
  LINE_SAMPLES = 2253
  SAMPLE_TYPE = UNSIGNED_INTEGER
  SAMPLE_BITS = 8
  BANDS = 1
  BAND_STORAGE_TYPE = BAND_SEQUENTIAL
  MAXIMUM = 255
  MEAN = 112.475
  MINIMUM = 1
  STANDARD_DEVIATION = 29.4627
END_OBJECT = IMAGE
/* MAP OBJECT DEFINITIONS */
OBJECT = IMAGE_MAP_PROJECTION
  ^DATA_SET_MAP_PROJECTION_CATALOG= "DSMAP.CAT"
  A_AXIS_RADIUS = 3396.0
  B_AXIS_RADIUS = 3396.0
  C_AXIS_RADIUS = 3396.0
  CENTER_LATITUDE = 0.0
  CENTER_LONGITUDE = 106.0
  COORDINATE_SYSTEM_NAME = PLANETOGRAPHIC
  COORDINATE_SYSTEM_TYPE = "BODY-FIXED ROTATING"
  EASTERNMOST_LONGITUDE = 107.027
  FIRST_STANDARD_PARALLEL = "N/A"
  LINE_FIRST_PIXEL = 1
  LINE_LAST_PIXEL = 13344
  LINE_PROJECTION_OFFSET = -37454.375
  MAP_PROJECTION_ROTATION = 0.0
  MAP_PROJECTION_TYPE = SINUSOIDAL
  MAP_RESOLUTION = 1185.42760773333
  MAP_SCALE = 0.05
  MAXIMUM_LATITUDE = -31.5749
  MINIMUM_LATITUDE = -42.9271
  POSITIVE_LONGITUDE_DIRECTION = EAST
  REFERENCE_LATITUDE = "N/A"
  REFERENCE_LONGITUDE = "N/A"
  SAMPLE_FIRST_PIXEL = 1
  SAMPLE_LAST_PIXEL = 2253
  SAMPLE_PROJECTION_OFFSET = 1153.125
  SECOND_STANDARD_PARALLEL = "N/A"
  WESTERNMOST_LONGITUDE = 104.714
END_OBJECT = IMAGE_MAP_PROJECTION
END
