PDS_VERSION_ID = PDS3
/* FILE DATA ELEMENTS */
RECORD_TYPE = UNDEFINED
/* POINTERS TO DATA OBJECTS */
^IMAGE = ("HN256_0009_GR4.TIF")
/* IDENTIFICATION DATA ELEMENTS */
DATA_SET_ID = "MEX-M-HRSC-4-REFDR-MAPPROJECT-EXT8-V4.0"
DATA_SET_NAME = "MARS EXPRESS HRSC MAP PROJECTED REFDR EXTENSION8 V4.0"
DETECTOR_ID = MEX_HRSC_GREEN
EVENT_TYPE = "MARS-REGIONAL-MAPPING-Pf-Mw-La"
INSTRUMENT_HOST_ID = MEX
INSTRUMENT_HOST_NAME = "MARS EXPRESS"
INSTRUMENT_ID = HRSC
INSTRUMENT_NAME = "HIGH RESOLUTION STEREO CAMERA"
MISSION_NAME = "MARS EXPRESS"
MISSION_PHASE_NAME = ME_Phase_46
PROCESSING_LEVEL_ID = 4
PRODUCT_CREATION_TIME = 2023-01-28T22:22:56.000Z
PRODUCT_ID = "HN256_0009_GR4.TIF"
RELEASE_ID = 0004
REVISION_ID = 0000
/* QUALITY DATA ELEMENTS */
DATA_QUALITY_ID = 1
DATA_QUALITY_DESC = "Data calculated based on original SPICE kernels"
/* TIME DATA ELEMENTS */
SPACECRAFT_CLOCK_START_COUNT = "1/0601986713.24895"
SPACECRAFT_CLOCK_STOP_COUNT = "1/0601986970.39147"
START_TIME = 2022-05-30T10:33:06.786Z
STOP_TIME = 2022-05-30T10:36:17.519Z
/* ORBITAL DATA ELEMENTS */
ASCENDING_NODE_LONGITUDE = 140.66
MAXIMUM_RESOLUTION = 0.0269
FOOTPRINT_POINT_LATITUDE = (-72.5196,-72.4811,-72.4432,-72.3979, -72.342,-72.34,-72.3481,-71.7395, -71.3737,-70.8854,-70.3959,-69.9059, -69.6605,-69.1697,-68.924,-68.678, -68.3092,-68.063,-67.8168,-67.5705, -67.324,-66.9542,-66.7076,-66.4608, -66.214,-65.9671,-65.7202,-65.4732, -65.226,-64.9791,-64.7319,-64.4848, -64.2375,-63.9903,-63.7431,-63.4958, -63.2484,-63.0013,-62.754,-62.5068, -62.2594,-61.6416,-61.1473,-60.7766, -60.159,-60.0355,-60.0192,-60.0507, -60.0708,-60.1058,-60.1064,-60.107, -60.3552,-60.7272,-60.9755,-61.2237, -61.472,-61.7203,-61.9689,-62.2175, -62.5903,-62.9634,-63.2121,-63.4607, -63.7096,-63.9584,-64.3314,-64.5802, -64.8289,-65.0779,-65.3266,-65.5754, -65.8241,-66.1973,-66.4461,-66.6947, -66.9434,-67.192,-67.4407,-67.6892, -68.0619,-68.3104,-68.5587,-68.8071, -69.0553,-69.3036,-69.5517,-69.7996, -70.0474,-70.2953,-70.5433,-70.791, -71.0384,-71.286,-71.5333,-71.7804, -72.1511,-72.3979,-72.5213,-72.5196)
FOOTPRINT_POINT_LONGITUDE = (6.60935,5.63183,4.77047,3.83952, 2.80096,2.76396,2.65241,3.02971,3.243, 3.51134,3.7698,4.01193,4.12888,4.35067, 4.4576,4.56331,4.71319,4.81074,4.90551, 4.99794,5.08824,5.2194,5.30349,5.38598, 5.46695,5.54534,5.62167,5.6965,5.76998, 5.84008,5.90967,5.9771,6.0435,6.10808, 6.17066,6.23247,6.29344,6.35096,6.40842 ,6.46405,6.51926,6.64891,6.74817, 6.81941,6.93376,6.95564,6.9585,7.69659, 8.22759,9.31624,9.33935,9.34765,9.31891 ,9.27358,9.24314,9.21168,9.17963, 9.14689,9.11403,9.08078,9.02849,8.97528 ,8.93869,8.90105,8.86342,8.82417, 8.76349,8.72222,8.67989,8.63721,8.59297 ,8.54787,8.50148,8.4305,8.38153,8.33139 ,8.28,8.22752,8.17395,8.11877,8.03345, 7.97492,7.91472,7.85335,7.79012,7.72555 ,7.65913,7.59061,7.51961,7.44779, 7.37526,7.29938,7.22046,7.14105,7.0582, 6.97288,6.84138,6.74996,6.70335, 6.60935)
ORBIT_NUMBER = 23256
ORBITAL_ECCENTRICITY = 0.576
ORBITAL_INCLINATION = 87.02
ORBITAL_SEMIMAJOR_AXIS = 8769.75
PERIAPSIS_ALTITUDE = 341.03
PERIAPSIS_ARGUMENT_ANGLE = 295.47
PERIAPSIS_TIME = 2022-05-30T10:35:07.000Z
SPACECRAFT_ORIENTATION = (0.0,1.0,0.0)
^MEX_ORIENTATION_DESC = "MEX_ORIENTATION_DESC.TXT"
SPACECRAFT_POINTING_MODE = NADIR
^MEX_POINTING_DESC = "MEX_POINTING_DESC.TXT"
RIGHT_ASCENSION = -1e+32
DECLINATION = -1e+32
OFFSET_ANGLE = -1e+32
SPACECRAFT_SOLAR_DISTANCE = 2.07167e+08
TARGET_NAME = MARS
/* CAMERA DATA ELEMENTS */
DETECTOR_TEMPERATURE = 18.7783
FOCAL_PLANE_TEMPERATURE = 9.3989
INST_CMPRS_NAME = "DISCRETE COSINE TRANSFORMATION (DCT)"
INST_CMPRS_RATIO = 8.05923
INST_CMPRS_QUALITY = 0
INST_CMPRS_QUANTZ_TBL_ID = 0
INSTRUMENT_TEMPERATURE = 13.4769
LENS_TEMPERATURE = 10.0106
MACROPIXEL_SIZE = 2
MISSING_FRAMES = 0
PIXEL_SUBSAMPLING_FLAG = N
SIGNAL_CHAIN_ID = 2
/* RADIOMETRIC DATA ELEMENTS */
BANDWIDTH = 88.0
CENTER_FILTER_WAVELENGTH = 538.0
RADIANCE_OFFSET = 2.07343
RADIANCE_SCALING_FACTOR = 0.00638065
REFLECTANCE_SCALING_FACTOR = 0.000235774
MEX:REFLECTANCE_OFFSET = 0.0766162
/* IMAGE OBJECT DEFINITIONS */
OBJECT = IMAGE
  INTERCHANGE_FORMAT = BINARY
  LINES = 29685
  LINE_SAMPLES = 5910
  SAMPLE_TYPE = UNSIGNED_INTEGER
  SAMPLE_BITS = 8
  BANDS = 1
  BAND_STORAGE_TYPE = BAND_SEQUENTIAL
  MAXIMUM = 255
  MEAN = 94.1367
  MINIMUM = 1
  STANDARD_DEVIATION = 87.1497
END_OBJECT = IMAGE
/* MAP OBJECT DEFINITIONS */
OBJECT = IMAGE_MAP_PROJECTION
  ^DATA_SET_MAP_PROJECTION_CATALOG= "DSMAP.CAT"
  A_AXIS_RADIUS = 3396.0
  B_AXIS_RADIUS = 3396.0
  C_AXIS_RADIUS = 3396.0
  CENTER_LATITUDE = 0.0
  CENTER_LONGITUDE = 7.0
  COORDINATE_SYSTEM_NAME = PLANETOGRAPHIC
  COORDINATE_SYSTEM_TYPE = "BODY-FIXED ROTATING"
  EASTERNMOST_LONGITUDE = 9.34765
  FIRST_STANDARD_PARALLEL = "N/A"
  LINE_FIRST_PIXEL = 1
  LINE_LAST_PIXEL = 29685
  LINE_PROJECTION_OFFSET = -142310.75
  MAP_PROJECTION_ROTATION = 0.0
  MAP_PROJECTION_TYPE = SINUSOIDAL
  MAP_RESOLUTION = 2370.85521546667
  MAP_SCALE = 0.025
  MAXIMUM_LATITUDE = -60.0192
  MINIMUM_LATITUDE = -72.5213
  POSITIVE_LONGITUDE_DIRECTION = EAST
  REFERENCE_LATITUDE = "N/A"
  REFERENCE_LONGITUDE = "N/A"
  SAMPLE_FIRST_PIXEL = 1
  SAMPLE_LAST_PIXEL = 5910
  SAMPLE_PROJECTION_OFFSET = 3138.75
  SECOND_STANDARD_PARALLEL = "N/A"
  WESTERNMOST_LONGITUDE = 2.65241
END_OBJECT = IMAGE_MAP_PROJECTION
END
