PDS_VERSION_ID = PDS3
/* FILE DATA ELEMENTS */
RECORD_TYPE = UNDEFINED
/* POINTERS TO DATA OBJECTS */
^IMAGE = ("HN256_0009_ND4.TIF")
/* IDENTIFICATION DATA ELEMENTS */
DATA_SET_ID = "MEX-M-HRSC-4-REFDR-MAPPROJECT-EXT8-V4.0"
DATA_SET_NAME = "MARS EXPRESS HRSC MAP PROJECTED REFDR EXTENSION8 V4.0"
DETECTOR_ID = MEX_HRSC_NADIR
EVENT_TYPE = "MARS-REGIONAL-MAPPING-Pf-Mw-La"
INSTRUMENT_HOST_ID = MEX
INSTRUMENT_HOST_NAME = "MARS EXPRESS"
INSTRUMENT_ID = HRSC
INSTRUMENT_NAME = "HIGH RESOLUTION STEREO CAMERA"
MISSION_NAME = "MARS EXPRESS"
MISSION_PHASE_NAME = ME_Phase_46
PROCESSING_LEVEL_ID = 4
PRODUCT_CREATION_TIME = 2023-01-28T22:22:56.000Z
PRODUCT_ID = "HN256_0009_ND4.TIF"
RELEASE_ID = 0004
REVISION_ID = 0000
/* QUALITY DATA ELEMENTS */
DATA_QUALITY_ID = 1
DATA_QUALITY_DESC = "Data calculated based on original SPICE kernels"
/* TIME DATA ELEMENTS */
SPACECRAFT_CLOCK_START_COUNT = "1/0601986713.24895"
SPACECRAFT_CLOCK_STOP_COUNT = "1/0601986970.39147"
START_TIME = 2022-05-30T10:33:01.285Z
STOP_TIME = 2022-05-30T10:36:12.259Z
/* ORBITAL DATA ELEMENTS */
ASCENDING_NODE_LONGITUDE = 140.66
MAXIMUM_RESOLUTION = 0.0135
FOOTPRINT_POINT_LATITUDE = (-72.5433,-72.4927,-72.4471,-72.3652, -72.363,-72.3553,-71.8697,-71.383, -70.8952,-70.4069,-69.9175,-69.4274, -68.9366,-68.3222,-68.0762,-67.83, -67.5837,-67.3373,-67.0907,-66.8441, -66.5972,-66.3504,-66.1034,-65.8563, -65.6091,-65.3619,-65.1146,-64.8672, -64.4959,-64.2484,-64.0008,-63.7531, -63.5054,-63.1338,-62.8859,-62.6381, -62.3903,-62.1424,-61.8945,-61.6466, -61.3987,-61.1508,-60.9029,-60.655, -60.4071,-60.1593,-60.0354,-60.0246, -60.052,-60.0763,-60.1106,-60.1113, -60.1118,-60.3608,-60.6098,-60.8589, -61.108,-61.3571,-61.6062,-61.8554, -62.1046,-62.3538,-62.603,-62.8522, -63.1015,-63.3507,-63.5999,-63.8491, -64.0984,-64.3475,-64.5967,-64.8458, -65.095,-65.4686,-65.7176,-65.9666, -66.2155,-66.4644,-66.7133,-66.9621, -67.2108,-67.4594,-67.708,-67.9565, -68.2049,-68.4533,-68.7015,-68.9497, -69.1977,-69.4457,-69.6936,-69.9413, -70.1889,-70.4364,-70.9311,-71.4252, -71.9188,-72.4117,-72.5348,-72.5433)
FOOTPRINT_POINT_LONGITUDE = (6.60563,5.33457,4.33858,2.77836, 2.74046,2.63205,2.93652,3.22364,3.49297 ,3.75187,3.99444,4.22432,4.44161, 4.69841,4.79631,4.89147,4.98429,5.07475 ,5.16344,5.24944,5.33284,5.41504, 5.49491,5.57282,5.64883,5.72333,5.79532 ,5.86579,5.96822,6.03498,6.09991, 6.16337,6.22502,6.31553,6.37311,6.43007 ,6.48555,6.53984,6.59257,6.64406, 6.69465,6.74396,6.79233,6.83951,6.88572 ,6.93077,6.95271,6.95461,7.58923, 8.22412,9.30912,9.33264,9.34419,9.31545 ,9.28537,9.25493,9.22403,9.19216, 9.15979,9.12701,9.09402,9.06032,9.02497 ,8.98952,8.95343,8.91623,8.879,8.84027, 8.80083,8.75993,8.71867,8.67634,8.6337, 8.56691,8.52125,8.47446,8.42724,8.37819 ,8.32793,8.27675,8.22432,8.17083, 8.11571,8.05927,8.0016,7.94221,7.88156, 7.8193,7.75565,7.69022,7.62306,7.55317, 7.48188,7.40998,7.25871,7.09926,6.92971 ,6.75046,6.70392,6.60563)
ORBIT_NUMBER = 23256
ORBITAL_ECCENTRICITY = 0.576
ORBITAL_INCLINATION = 87.02
ORBITAL_SEMIMAJOR_AXIS = 8769.75
PERIAPSIS_ALTITUDE = 341.03
PERIAPSIS_ARGUMENT_ANGLE = 295.47
PERIAPSIS_TIME = 2022-05-30T10:35:07.000Z
SPACECRAFT_ORIENTATION = (0.0,1.0,0.0)
^MEX_ORIENTATION_DESC = "MEX_ORIENTATION_DESC.TXT"
SPACECRAFT_POINTING_MODE = NADIR
^MEX_POINTING_DESC = "MEX_POINTING_DESC.TXT"
RIGHT_ASCENSION = -1e+32
DECLINATION = -1e+32
OFFSET_ANGLE = -1e+32
SPACECRAFT_SOLAR_DISTANCE = 2.07167e+08
TARGET_NAME = MARS
/* CAMERA DATA ELEMENTS */
DETECTOR_TEMPERATURE = 18.7783
FOCAL_PLANE_TEMPERATURE = 9.3989
INST_CMPRS_NAME = "DISCRETE COSINE TRANSFORMATION (DCT)"
INST_CMPRS_RATIO = 7.46524
INST_CMPRS_QUALITY = 0
INST_CMPRS_QUANTZ_TBL_ID = 0
INSTRUMENT_TEMPERATURE = 13.4769
LENS_TEMPERATURE = 10.0106
MACROPIXEL_SIZE = 1
MISSING_FRAMES = 0
PIXEL_SUBSAMPLING_FLAG = N
SIGNAL_CHAIN_ID = 0
/* RADIOMETRIC DATA ELEMENTS */
BANDWIDTH = 177.0
CENTER_FILTER_WAVELENGTH = 677.5
RADIANCE_OFFSET = 5.31863
RADIANCE_SCALING_FACTOR = 0.0290107
REFLECTANCE_SCALING_FACTOR = 0.000661434
MEX:REFLECTANCE_OFFSET = 0.121263
/* IMAGE OBJECT DEFINITIONS */
OBJECT = IMAGE
  INTERCHANGE_FORMAT = BINARY
  LINES = 59370
  LINE_SAMPLES = 11819
  SAMPLE_TYPE = UNSIGNED_INTEGER
  SAMPLE_BITS = 8
  BANDS = 1
  BAND_STORAGE_TYPE = BAND_SEQUENTIAL
  MAXIMUM = 255
  MEAN = 80.0199
  MINIMUM = 1
  STANDARD_DEVIATION = 80.186
END_OBJECT = IMAGE
/* MAP OBJECT DEFINITIONS */
OBJECT = IMAGE_MAP_PROJECTION
  ^DATA_SET_MAP_PROJECTION_CATALOG= "DSMAP.CAT"
  A_AXIS_RADIUS = 3396.0
  B_AXIS_RADIUS = 3396.0
  C_AXIS_RADIUS = 3396.0
  CENTER_LATITUDE = 0.0
  CENTER_LONGITUDE = 7.0
  COORDINATE_SYSTEM_NAME = PLANETOGRAPHIC
  COORDINATE_SYSTEM_TYPE = "BODY-FIXED ROTATING"
  EASTERNMOST_LONGITUDE = 9.344189999999999
  FIRST_STANDARD_PARALLEL = "N/A"
  LINE_FIRST_PIXEL = 1
  LINE_LAST_PIXEL = 59370
  LINE_PROJECTION_OFFSET = -284621.0
  MAP_PROJECTION_ROTATION = 0.0
  MAP_PROJECTION_TYPE = SINUSOIDAL
  MAP_RESOLUTION = 4741.71043093333
  MAP_SCALE = 0.0125
  MAXIMUM_LATITUDE = -60.0246
  MINIMUM_LATITUDE = -72.5433
  POSITIVE_LONGITUDE_DIRECTION = EAST
  REFERENCE_LATITUDE = "N/A"
  REFERENCE_LONGITUDE = "N/A"
  SAMPLE_FIRST_PIXEL = 1
  SAMPLE_LAST_PIXEL = 11819
  SAMPLE_PROJECTION_OFFSET = 6278.0
  SECOND_STANDARD_PARALLEL = "N/A"
  WESTERNMOST_LONGITUDE = 2.63205
END_OBJECT = IMAGE_MAP_PROJECTION
END
