PDS_VERSION_ID = PDS3
/* FILE DATA ELEMENTS */
RECORD_TYPE = UNDEFINED
/* POINTERS TO DATA OBJECTS */
^IMAGE = ("HN260_0000_ND4.TIF")
/* IDENTIFICATION DATA ELEMENTS */
DATA_SET_ID = "MEX-M-HRSC-4-REFDR-MAPPROJECT-EXT8-V4.0"
DATA_SET_NAME = "MARS EXPRESS HRSC MAP PROJECTED REFDR EXTENSION8 V4.0"
DETECTOR_ID = MEX_HRSC_NADIR
EVENT_TYPE = "MARS-REGIONAL-STEREO-Im-Gl-Pf"
INSTRUMENT_HOST_ID = MEX
INSTRUMENT_HOST_NAME = "MARS EXPRESS"
INSTRUMENT_ID = HRSC
INSTRUMENT_NAME = "HIGH RESOLUTION STEREO CAMERA"
MISSION_NAME = "MARS EXPRESS"
MISSION_PHASE_NAME = ME_Phase_46
PROCESSING_LEVEL_ID = 4
PRODUCT_CREATION_TIME = 2023-01-28T22:22:56.000Z
PRODUCT_ID = "HN260_0000_ND4.TIF"
RELEASE_ID = 0004
REVISION_ID = 0000
/* QUALITY DATA ELEMENTS */
DATA_QUALITY_ID = 1
DATA_QUALITY_DESC = "Data calculated based on original SPICE kernels"
/* TIME DATA ELEMENTS */
SPACECRAFT_CLOCK_START_COUNT = "1/0602087386.23961"
SPACECRAFT_CLOCK_STOP_COUNT = "1/0602087659.08918"
START_TIME = 2022-05-31T14:30:51.890Z
STOP_TIME = 2022-05-31T14:34:16.885Z
/* ORBITAL DATA ELEMENTS */
ASCENDING_NODE_LONGITUDE = 140.59
MAXIMUM_RESOLUTION = 0.0135
FOOTPRINT_POINT_LATITUDE = (-65.8141,-65.7826,-65.754,-65.7024, -65.701,-65.6955,-65.4306,-65.0324, -64.7669,-64.5012,-64.2356,-63.9699, -63.7042,-63.3056,-63.0397,-62.6408, -62.3749,-62.1089,-61.843,-61.577, -61.3112,-61.0453,-60.7794,-60.5138, -60.1149,-59.8492,-59.5835,-59.3179, -59.0523,-58.7869,-58.3888,-57.9911, -57.7257,-57.3276,-57.0633,-56.6656, -56.4004,-56.0026,-55.7381,-55.4737, -55.2095,-54.9454,-54.6813,-54.1537, -53.6267,-53.1003,-52.5746,-52.4433, -52.4242,-52.4467,-52.4719,-52.4838, -52.4842,-52.4846,-53.0117,-53.5395, -54.068,-54.3325,-54.5972,-54.862, -55.1269,-55.392,-55.6572,-55.9226, -56.1881,-56.5866,-56.8524,-57.1183, -57.3843,-57.6504,-57.9167,-58.183, -58.4494,-58.8492,-59.1159,-59.3826, -59.6494,-59.9163,-60.1832,-60.4502, -60.7173,-60.9843,-61.2515,-61.5187, -61.7859,-62.0532,-62.4542,-62.7215, -62.9888,-63.2561,-63.5235,-63.7909, -64.1919,-64.4592,-64.7266,-64.9938, -65.3948,-65.662,-65.7956,-65.8141)
FOOTPRINT_POINT_LONGITUDE = (319.959,319.062,318.358,317.25,317.223 ,317.141,317.227,317.342,317.416, 317.488,317.56,317.628,317.696,317.794, 317.856,317.946,318.004,318.061,318.116 ,318.17,318.224,318.276,318.327,318.379 ,318.448,318.494,318.54,318.585,318.629 ,318.673,318.735,318.799,318.836, 318.886,318.932,318.98,319.006,319.044, 319.075,319.106,319.136,319.167,319.194 ,319.249,319.301,319.35,319.397,319.409 ,319.41,320.063,320.97,321.518,321.539, 321.55,321.514,321.478,321.439,321.419, 321.4,321.379,321.358,321.337,321.315, 321.293,321.269,321.228,321.206,321.182 ,321.158,321.13,321.106,321.08,321.049, 321.003,320.976,320.949,320.918,320.889 ,320.859,320.829,320.797,320.763,320.73 ,320.696,320.661,320.624,320.573, 320.535,320.489,320.451,320.416,320.373 ,320.306,320.262,320.217,320.168, 320.098,320.05,320.025,319.959)
ORBIT_NUMBER = 23260
ORBITAL_ECCENTRICITY = 0.576
ORBITAL_INCLINATION = 87.03
ORBITAL_SEMIMAJOR_AXIS = 8766.61
PERIAPSIS_ALTITUDE = 340.8
PERIAPSIS_ARGUMENT_ANGLE = 294.82
PERIAPSIS_TIME = 2022-05-31T14:31:04.000Z
SPACECRAFT_ORIENTATION = (0.0,1.0,0.0)
^MEX_ORIENTATION_DESC = "MEX_ORIENTATION_DESC.TXT"
SPACECRAFT_POINTING_MODE = NADIR
^MEX_POINTING_DESC = "MEX_POINTING_DESC.TXT"
RIGHT_ASCENSION = -1e+32
DECLINATION = -1e+32
OFFSET_ANGLE = -1e+32
SPACECRAFT_SOLAR_DISTANCE = 2.07113e+08
TARGET_NAME = MARS
/* CAMERA DATA ELEMENTS */
DETECTOR_TEMPERATURE = 17.9627
FOCAL_PLANE_TEMPERATURE = 8.1755
INST_CMPRS_NAME = "DISCRETE COSINE TRANSFORMATION (DCT)"
INST_CMPRS_RATIO = 7.33995
INST_CMPRS_QUALITY = 0
INST_CMPRS_QUANTZ_TBL_ID = 0
INSTRUMENT_TEMPERATURE = 11.234
LENS_TEMPERATURE = 8.3794
MACROPIXEL_SIZE = 1
MISSING_FRAMES = 0
PIXEL_SUBSAMPLING_FLAG = N
SIGNAL_CHAIN_ID = 0
/* RADIOMETRIC DATA ELEMENTS */
BANDWIDTH = 177.0
CENTER_FILTER_WAVELENGTH = 677.5
RADIANCE_OFFSET = 5.17359
RADIANCE_SCALING_FACTOR = 0.020099
REFLECTANCE_SCALING_FACTOR = 0.000458012
MEX:REFLECTANCE_OFFSET = 0.117895
/* IMAGE OBJECT DEFINITIONS */
OBJECT = IMAGE
  INTERCHANGE_FORMAT = BINARY
  LINES = 63495
  LINE_SAMPLES = 10056
  SAMPLE_TYPE = UNSIGNED_INTEGER
  SAMPLE_BITS = 8
  BANDS = 1
  BAND_STORAGE_TYPE = BAND_SEQUENTIAL
  MAXIMUM = 255
  MEAN = 100.988
  MINIMUM = 1
  STANDARD_DEVIATION = 31.9287
END_OBJECT = IMAGE
/* MAP OBJECT DEFINITIONS */
OBJECT = IMAGE_MAP_PROJECTION
  ^DATA_SET_MAP_PROJECTION_CATALOG= "DSMAP.CAT"
  A_AXIS_RADIUS = 3396.0
  B_AXIS_RADIUS = 3396.0
  C_AXIS_RADIUS = 3396.0
  CENTER_LATITUDE = 0.0
  CENTER_LONGITUDE = 320.0
  COORDINATE_SYSTEM_NAME = PLANETOGRAPHIC
  COORDINATE_SYSTEM_TYPE = "BODY-FIXED ROTATING"
  EASTERNMOST_LONGITUDE = 321.55
  FIRST_STANDARD_PARALLEL = "N/A"
  LINE_FIRST_PIXEL = 1
  LINE_LAST_PIXEL = 63495
  LINE_PROJECTION_OFFSET = -248582.0
  MAP_PROJECTION_ROTATION = 0.0
  MAP_PROJECTION_TYPE = SINUSOIDAL
  MAP_RESOLUTION = 4741.71043093333
  MAP_SCALE = 0.0125
  MAXIMUM_LATITUDE = -52.4242
  MINIMUM_LATITUDE = -65.8141
  POSITIVE_LONGITUDE_DIRECTION = EAST
  REFERENCE_LATITUDE = "N/A"
  REFERENCE_LONGITUDE = "N/A"
  SAMPLE_FIRST_PIXEL = 1
  SAMPLE_LAST_PIXEL = 10056
  SAMPLE_PROJECTION_OFFSET = 5580.0
  SECOND_STANDARD_PARALLEL = "N/A"
  WESTERNMOST_LONGITUDE = 317.141
END_OBJECT = IMAGE_MAP_PROJECTION
END
