PDS_VERSION_ID = PDS3
/* FILE DATA ELEMENTS */
RECORD_TYPE = UNDEFINED
/* POINTERS TO DATA OBJECTS */
^IMAGE = ("HN282_0000_P24.TIF")
/* IDENTIFICATION DATA ELEMENTS */
DATA_SET_ID = "MEX-M-HRSC-4-REFDR-MAPPROJECT-EXT8-V4.0"
DATA_SET_NAME = "MARS EXPRESS HRSC MAP PROJECTED REFDR EXTENSION8 V4.0"
DETECTOR_ID = MEX_HRSC_P2
EVENT_TYPE = "MARS-REGIONAL-MAPPING-Im-Gl-Pf"
INSTRUMENT_HOST_ID = MEX
INSTRUMENT_HOST_NAME = "MARS EXPRESS"
INSTRUMENT_ID = HRSC
INSTRUMENT_NAME = "HIGH RESOLUTION STEREO CAMERA"
MISSION_NAME = "MARS EXPRESS"
MISSION_PHASE_NAME = ME_Phase_46
PROCESSING_LEVEL_ID = 4
PRODUCT_CREATION_TIME = 2023-01-28T22:22:56.000Z
PRODUCT_ID = "HN282_0000_P24.TIF"
RELEASE_ID = 0004
REVISION_ID = 0000
/* QUALITY DATA ELEMENTS */
DATA_QUALITY_ID = 1
DATA_QUALITY_DESC = "Data calculated based on original SPICE kernels"
/* TIME DATA ELEMENTS */
SPACECRAFT_CLOCK_START_COUNT = "1/0602640500.25081"
SPACECRAFT_CLOCK_STOP_COUNT = "1/0602640814.22964"
START_TIME = 2022-06-07T00:09:05.600Z
STOP_TIME = 2022-06-07T00:13:02.349Z
/* ORBITAL DATA ELEMENTS */
ASCENDING_NODE_LONGITUDE = 140.19
MAXIMUM_RESOLUTION = 0.0277
FOOTPRINT_POINT_LATITUDE = (-65.2073,-65.1844,-65.1596,-65.1298, -65.1287,-65.0719,-64.4865,-64.1938, -63.9006,-63.6075,-63.3144,-62.8748, -62.4345,-61.9944,-61.4079,-61.1104, -60.6646,-60.0849,-59.791,-59.4956, -59.2012,-58.9071,-58.6129,-58.3189, -58.0245,-57.7306,-57.4358,-56.9946, -56.5535,-56.2592,-55.9657,-55.6714, -55.3773,-55.0837,-54.6437,-54.307, -53.9494,-53.5984,-53.2487,-52.8992, -52.3814,-52.0324,-51.6834,-51.3368, -50.8139,-50.4642,-50.1149,-49.7666, -49.592,-49.5828,-49.5964,-49.6053, -49.6081,-49.6081,-49.6086,-49.9573, -50.4812,-51.0055,-51.3559,-51.7045, -52.0543,-52.405,-52.7553,-53.2813, -53.6321,-53.9833,-54.3345,-54.6753, -54.9697,-55.2645,-55.5601,-56.002, -56.2964,-56.5911,-57.0339,-57.6219, -57.9205,-58.2145,-58.5093,-58.8045, -59.0998,-59.3962,-59.6911,-59.9865, -60.4295,-61.0182,-61.3137,-61.6109, -61.9066,-62.3481,-62.6425,-62.9377, -63.2323,-63.5268,-63.8214,-64.1158, -64.4106,-65.0006,-65.1483,-65.2073)
FOOTPRINT_POINT_LONGITUDE = (234.258,233.249,232.411,231.581, 231.555,231.539,231.679,231.746,231.811 ,231.874,231.935,232.024,232.109,232.19 ,232.293,232.342,232.413,232.505, 232.548,232.59,232.631,232.671,232.709, 232.747,232.783,232.819,232.853,232.903 ,232.951,232.981,233.011,233.04,233.068 ,233.095,233.134,233.163,233.191, 233.218,233.245,233.271,233.31,233.333, 233.356,233.378,233.409,233.428,233.446 ,233.464,233.473,233.473,234.219, 234.973,235.606,235.628,235.635,235.62, 235.597,235.572,235.555,235.539,235.522 ,235.503,235.485,235.456,235.437, 235.416,235.396,235.374,235.356,235.337 ,235.317,235.287,235.267,235.247, 235.214,235.173,235.145,235.123,235.099 ,235.074,235.049,235.021,234.995, 234.967,234.925,234.869,234.838,234.803 ,234.771,234.723,234.69,234.654,234.619 ,234.583,234.545,234.507,234.467, 234.382,234.359,234.258)
ORBIT_NUMBER = 23282
ORBITAL_ECCENTRICITY = 0.576
ORBITAL_INCLINATION = 87.03
ORBITAL_SEMIMAJOR_AXIS = 8762.81
PERIAPSIS_ALTITUDE = 339.77
PERIAPSIS_ARGUMENT_ANGLE = 291.07
PERIAPSIS_TIME = 2022-06-07T00:08:30.000Z
SPACECRAFT_ORIENTATION = (0.0,1.0,0.0)
^MEX_ORIENTATION_DESC = "MEX_ORIENTATION_DESC.TXT"
SPACECRAFT_POINTING_MODE = ACROSSTRACK
^MEX_POINTING_DESC = "MEX_POINTING_DESC.TXT"
RIGHT_ASCENSION = -1e+32
DECLINATION = -1e+32
OFFSET_ANGLE = -0.35
SPACECRAFT_SOLAR_DISTANCE = 2.06869e+08
TARGET_NAME = MARS
/* CAMERA DATA ELEMENTS */
DETECTOR_TEMPERATURE = 19.1861
FOCAL_PLANE_TEMPERATURE = 9.6028
INST_CMPRS_NAME = "DISCRETE COSINE TRANSFORMATION (DCT)"
INST_CMPRS_RATIO = 8.212
INST_CMPRS_QUALITY = 0
INST_CMPRS_QUANTZ_TBL_ID = 0
INSTRUMENT_TEMPERATURE = 11.234
LENS_TEMPERATURE = 10.2145
MACROPIXEL_SIZE = 2
MISSING_FRAMES = 0
PIXEL_SUBSAMPLING_FLAG = N
SIGNAL_CHAIN_ID = 3
/* RADIOMETRIC DATA ELEMENTS */
BANDWIDTH = 177.0
CENTER_FILTER_WAVELENGTH = 676.5
RADIANCE_OFFSET = 5.09132
RADIANCE_SCALING_FACTOR = 0.0132484
REFLECTANCE_SCALING_FACTOR = 0.000300617
MEX:REFLECTANCE_OFFSET = 0.115526
/* IMAGE OBJECT DEFINITIONS */
OBJECT = IMAGE
  INTERCHANGE_FORMAT = BINARY
  LINES = 36941
  LINE_SAMPLES = 5010
  SAMPLE_TYPE = UNSIGNED_INTEGER
  SAMPLE_BITS = 8
  BANDS = 1
  BAND_STORAGE_TYPE = BAND_SEQUENTIAL
  MAXIMUM = 255
  MEAN = 128.966
  MINIMUM = 1
  STANDARD_DEVIATION = 33.112
END_OBJECT = IMAGE
/* MAP OBJECT DEFINITIONS */
OBJECT = IMAGE_MAP_PROJECTION
  ^DATA_SET_MAP_PROJECTION_CATALOG= "DSMAP.CAT"
  A_AXIS_RADIUS = 3396.0
  B_AXIS_RADIUS = 3396.0
  C_AXIS_RADIUS = 3396.0
  CENTER_LATITUDE = 0.0
  CENTER_LONGITUDE = 234.0
  COORDINATE_SYSTEM_NAME = PLANETOGRAPHIC
  COORDINATE_SYSTEM_TYPE = "BODY-FIXED ROTATING"
  EASTERNMOST_LONGITUDE = 235.635
  FIRST_STANDARD_PARALLEL = "N/A"
  LINE_FIRST_PIXEL = 1
  LINE_LAST_PIXEL = 36941
  LINE_PROJECTION_OFFSET = -117508.75
  MAP_PROJECTION_ROTATION = 0.0
  MAP_PROJECTION_TYPE = SINUSOIDAL
  MAP_RESOLUTION = 2370.85521546667
  MAP_SCALE = 0.025
  MAXIMUM_LATITUDE = -49.5828
  MINIMUM_LATITUDE = -65.2073
  POSITIVE_LONGITUDE_DIRECTION = EAST
  REFERENCE_LATITUDE = "N/A"
  REFERENCE_LONGITUDE = "N/A"
  SAMPLE_FIRST_PIXEL = 1
  SAMPLE_LAST_PIXEL = 5010
  SAMPLE_PROJECTION_OFFSET = 2460.75
  SECOND_STANDARD_PARALLEL = "N/A"
  WESTERNMOST_LONGITUDE = 231.539
END_OBJECT = IMAGE_MAP_PROJECTION
END
