PDS_VERSION_ID = PDS3
/* FILE DATA ELEMENTS */
RECORD_TYPE = UNDEFINED
/* POINTERS TO DATA OBJECTS */
^IMAGE = ("HN288_0000_IR4.TIF")
/* IDENTIFICATION DATA ELEMENTS */
DATA_SET_ID = "MEX-M-HRSC-4-REFDR-MAPPROJECT-EXT8-V4.0"
DATA_SET_NAME = "MARS EXPRESS HRSC MAP PROJECTED REFDR EXTENSION8 V4.0"
DETECTOR_ID = MEX_HRSC_IR
EVENT_TYPE = "MARS-REGIONAL-MAPPING-Im-Gl-Pf"
INSTRUMENT_HOST_ID = MEX
INSTRUMENT_HOST_NAME = "MARS EXPRESS"
INSTRUMENT_ID = HRSC
INSTRUMENT_NAME = "HIGH RESOLUTION STEREO CAMERA"
MISSION_NAME = "MARS EXPRESS"
MISSION_PHASE_NAME = ME_Phase_46
PROCESSING_LEVEL_ID = 4
PRODUCT_CREATION_TIME = 2023-01-28T22:22:56.000Z
PRODUCT_ID = "HN288_0000_IR4.TIF"
RELEASE_ID = 0004
REVISION_ID = 0000
/* QUALITY DATA ELEMENTS */
DATA_QUALITY_ID = 1
DATA_QUALITY_DESC = "Data calculated based on original SPICE kernels"
/* TIME DATA ELEMENTS */
SPACECRAFT_CLOCK_START_COUNT = "1/0602791161.24914"
SPACECRAFT_CLOCK_STOP_COUNT = "1/0602791467.39662"
START_TIME = 2022-06-08T18:00:55.512Z
STOP_TIME = 2022-06-08T18:04:54.862Z
/* ORBITAL DATA ELEMENTS */
ASCENDING_NODE_LONGITUDE = 140.09
MAXIMUM_RESOLUTION = 0.0563
FOOTPRINT_POINT_LATITUDE = (-77.245,-77.1654,-77.0787,-77.0006, -76.9978,-77.0666,-76.6121,-76.3081, -76.0047,-75.7,-75.3953,-74.9374, -74.6323,-74.327,-74.0196,-73.5619, -73.2553,-72.9493,-72.6435,-72.3367, -72.0281,-71.5682,-71.261,-70.8007, -70.4942,-70.1897,-69.7281,-69.42, -69.1136,-68.8059,-68.5021,-68.1981, -67.8889,-67.5796,-67.2742,-66.9682, -66.3645,-66.0586,-65.7535,-65.4415, -65.1387,-64.835,-64.3809,-64.076, -63.4753,-63.0193,-62.716,-62.2624, -61.9601,-61.809,-61.7306,-61.7806, -61.823,-61.8237,-61.8247,-62.279, -62.7388,-63.4958,-63.7988,-64.104, -64.409,-64.714,-65.0198,-65.3263, -65.7865,-66.0931,-66.4004,-66.7078, -67.0167,-67.48,-67.7854,-68.0941, -68.4026,-68.7125,-69.1761,-69.4861, -69.7967,-70.2605,-70.5697,-70.8784, -71.1881,-71.499,-71.965,-72.4315, -72.744,-73.0552,-73.3648,-73.6763, -74.142,-74.4524,-74.7634,-75.0739, -75.384,-75.6947,-76.0063,-76.4716, -76.7818,-77.0929,-77.2485,-77.245)
FOOTPRINT_POINT_LONGITUDE = (335.972,334.112,332.37,330.973,330.927 ,330.695,331.237,331.579,331.902, 332.213,332.509,332.929,333.193,333.445 ,333.692,334.034,334.253,334.462, 334.662,334.857,335.047,335.313,335.483 ,335.725,335.879,336.024,336.24,336.379 ,336.51,336.639,336.757,336.873,336.991 ,337.107,337.213,337.317,337.505,337.6, 337.691,337.788,337.871,337.953,338.07, 338.148,338.288,338.393,338.461,338.558 ,338.62,338.651,338.666,339.934,341.255 ,341.279,341.287,341.222,341.158, 341.037,340.986,340.935,340.882,340.828 ,340.772,340.715,340.627,340.565, 340.502,340.437,340.371,340.268,340.193 ,340.119,340.042,339.963,339.839, 339.753,339.665,339.525,339.428,339.326 ,339.222,339.115,338.946,338.768, 338.645,338.516,338.38,338.24,338.019, 337.863,337.701,337.532,337.354,337.17, 336.977,336.67,336.452,336.225,336.107, 335.972)
ORBIT_NUMBER = 23288
ORBITAL_ECCENTRICITY = 0.576
ORBITAL_INCLINATION = 87.03
ORBITAL_SEMIMAJOR_AXIS = 8761.7
PERIAPSIS_ALTITUDE = 340.62
PERIAPSIS_ARGUMENT_ANGLE = 290.07
PERIAPSIS_TIME = 2022-06-08T18:02:27.000Z
SPACECRAFT_ORIENTATION = (0.0,1.0,0.0)
^MEX_ORIENTATION_DESC = "MEX_ORIENTATION_DESC.TXT"
SPACECRAFT_POINTING_MODE = NADIR
^MEX_POINTING_DESC = "MEX_POINTING_DESC.TXT"
RIGHT_ASCENSION = -1e+32
DECLINATION = -1e+32
OFFSET_ANGLE = -1e+32
SPACECRAFT_SOLAR_DISTANCE = 2.06817e+08
TARGET_NAME = MARS
/* CAMERA DATA ELEMENTS */
DETECTOR_TEMPERATURE = 17.1471
FOCAL_PLANE_TEMPERATURE = 8.3794
INST_CMPRS_NAME = "DISCRETE COSINE TRANSFORMATION (DCT)"
INST_CMPRS_RATIO = 16.1154
INST_CMPRS_QUALITY = 0
INST_CMPRS_QUANTZ_TBL_ID = 0
INSTRUMENT_TEMPERATURE = 11.0301
LENS_TEMPERATURE = 8.7872
MACROPIXEL_SIZE = 4
MISSING_FRAMES = 0
PIXEL_SUBSAMPLING_FLAG = N
SIGNAL_CHAIN_ID = 2
/* RADIOMETRIC DATA ELEMENTS */
BANDWIDTH = 81.0
CENTER_FILTER_WAVELENGTH = 955.5
RADIANCE_OFFSET = 1.30944
RADIANCE_SCALING_FACTOR = 0.00694458
REFLECTANCE_SCALING_FACTOR = 0.000640838
MEX:REFLECTANCE_OFFSET = 0.120834
/* IMAGE OBJECT DEFINITIONS */
OBJECT = IMAGE
  INTERCHANGE_FORMAT = BINARY
  LINES = 18524
  LINE_SAMPLES = 3782
  SAMPLE_TYPE = UNSIGNED_INTEGER
  SAMPLE_BITS = 8
  BANDS = 1
  BAND_STORAGE_TYPE = BAND_SEQUENTIAL
  MAXIMUM = 255
  MEAN = 189.614
  MINIMUM = 1
  STANDARD_DEVIATION = 80.7081
END_OBJECT = IMAGE
/* MAP OBJECT DEFINITIONS */
OBJECT = IMAGE_MAP_PROJECTION
  ^DATA_SET_MAP_PROJECTION_CATALOG= "DSMAP.CAT"
  A_AXIS_RADIUS = 3396.0
  B_AXIS_RADIUS = 3396.0
  C_AXIS_RADIUS = 3396.0
  CENTER_LATITUDE = 0.0
  CENTER_LONGITUDE = 338.0
  COORDINATE_SYSTEM_NAME = PLANETOGRAPHIC
  COORDINATE_SYSTEM_TYPE = "BODY-FIXED ROTATING"
  EASTERNMOST_LONGITUDE = 341.287
  FIRST_STANDARD_PARALLEL = "N/A"
  LINE_FIRST_PIXEL = 1
  LINE_LAST_PIXEL = 18524
  LINE_PROJECTION_OFFSET = -73186.875
  MAP_PROJECTION_ROTATION = 0.0
  MAP_PROJECTION_TYPE = SINUSOIDAL
  MAP_RESOLUTION = 1185.42760773333
  MAP_SCALE = 0.05
  MAXIMUM_LATITUDE = -61.7306
  MINIMUM_LATITUDE = -77.24850000000001
  POSITIVE_LONGITUDE_DIRECTION = EAST
  REFERENCE_LATITUDE = "N/A"
  REFERENCE_LONGITUDE = "N/A"
  SAMPLE_FIRST_PIXEL = 1
  SAMPLE_LAST_PIXEL = 3782
  SAMPLE_PROJECTION_OFFSET = 1960.125
  SECOND_STANDARD_PARALLEL = "N/A"
  WESTERNMOST_LONGITUDE = 330.695
END_OBJECT = IMAGE_MAP_PROJECTION
END
