PDS_VERSION_ID = PDS3
/* FILE DATA ELEMENTS */
RECORD_TYPE = UNDEFINED
/* POINTERS TO DATA OBJECTS */
^IMAGE = ("HN288_0000_S24.TIF")
/* IDENTIFICATION DATA ELEMENTS */
DATA_SET_ID = "MEX-M-HRSC-4-REFDR-MAPPROJECT-EXT8-V4.0"
DATA_SET_NAME = "MARS EXPRESS HRSC MAP PROJECTED REFDR EXTENSION8 V4.0"
DETECTOR_ID = MEX_HRSC_S2
EVENT_TYPE = "MARS-REGIONAL-MAPPING-Im-Gl-Pf"
INSTRUMENT_HOST_ID = MEX
INSTRUMENT_HOST_NAME = "MARS EXPRESS"
INSTRUMENT_ID = HRSC
INSTRUMENT_NAME = "HIGH RESOLUTION STEREO CAMERA"
MISSION_NAME = "MARS EXPRESS"
MISSION_PHASE_NAME = ME_Phase_46
PROCESSING_LEVEL_ID = 4
PRODUCT_CREATION_TIME = 2023-01-28T22:22:56.000Z
PRODUCT_ID = "HN288_0000_S24.TIF"
RELEASE_ID = 0004
REVISION_ID = 0000
/* QUALITY DATA ELEMENTS */
DATA_QUALITY_ID = 1
DATA_QUALITY_DESC = "Data calculated based on original SPICE kernels"
/* TIME DATA ELEMENTS */
SPACECRAFT_CLOCK_START_COUNT = "1/0602791161.24914"
SPACECRAFT_CLOCK_STOP_COUNT = "1/0602791467.39662"
START_TIME = 2022-06-08T17:59:56.256Z
STOP_TIME = 2022-06-08T18:03:57.094Z
/* ORBITAL DATA ELEMENTS */
ASCENDING_NODE_LONGITUDE = 140.09
MAXIMUM_RESOLUTION = 0.0287
FOOTPRINT_POINT_LATITUDE = (-77.4942,-77.4047,-77.3299,-77.2243, -77.2211,-77.1114,-76.6738,-76.086, -75.7919,-75.496,-75.1994,-74.9017, -74.6027,-74.303,-74.0053,-73.7025, -73.4014,-73.0991,-72.7955,-72.3397, -71.8865,-71.5802,-71.2754,-70.9692, -70.6618,-70.3521,-69.89,-69.5842, -69.2756,-68.8133,-68.3446,-68.0327, -67.7278,-67.4171,-66.9497,-66.6332, -66.3148,-66.0037,-65.5441,-65.2278, -64.7554,-64.4387,-63.9631,-63.6469, -63.1738,-62.8607,-62.3885,-61.9164, -61.7586,-61.7525,-61.8098,-61.8558, -61.8565,-61.8572,-62.3327,-62.6464, -63.1233,-63.4418,-63.9195,-64.2357, -64.5523,-64.8694,-65.1851,-65.6582, -65.9734,-66.2888,-66.6034,-66.9177, -67.2285,-67.5441,-67.861,-68.1738, -68.4869,-68.9548,-69.2678,-69.5784, -69.8896,-70.2019,-70.6698,-70.9816, -71.2915,-71.7549,-72.0641,-72.3728, -72.6783,-72.9855,-73.2942,-73.6005, -73.9053,-74.2133,-74.5192,-74.8239, -75.1287,-75.5853,-75.8871,-76.1896, -76.6424,-77.2424,-77.3919,-77.4942)
FOOTPRINT_POINT_LONGITUDE = (335.896,333.835,332.376,330.576, 330.525,330.503,331.042,331.706,332.017 ,332.314,332.6,332.873,333.136,333.388, 333.63,333.863,334.087,334.302,334.509, 334.805,335.087,335.265,335.438,335.605 ,335.765,335.919,336.142,336.285, 336.423,336.621,336.808,336.928,337.047 ,337.16,337.323,337.426,337.525,337.623 ,337.768,337.858,337.988,338.071, 338.191,338.268,338.38,338.453,338.558, 338.658,338.691,338.692,339.901,341.213 ,341.238,341.246,341.181,341.139, 341.068,341.018,340.94,340.889,340.835, 340.78,340.724,340.637,340.576,340.514, 340.45,340.385,340.321,340.25,340.174, 340.101,340.025,339.907,339.824,339.741 ,339.654,339.562,339.418,339.318, 339.216,339.058,338.947,338.832,338.717 ,338.594,338.464,338.332,338.196, 338.049,337.899,337.744,337.581,337.324 ,337.147,336.959,336.662,336.236, 336.124,335.896)
ORBIT_NUMBER = 23288
ORBITAL_ECCENTRICITY = 0.576
ORBITAL_INCLINATION = 87.03
ORBITAL_SEMIMAJOR_AXIS = 8761.7
PERIAPSIS_ALTITUDE = 340.62
PERIAPSIS_ARGUMENT_ANGLE = 290.07
PERIAPSIS_TIME = 2022-06-08T18:02:27.000Z
SPACECRAFT_ORIENTATION = (0.0,1.0,0.0)
^MEX_ORIENTATION_DESC = "MEX_ORIENTATION_DESC.TXT"
SPACECRAFT_POINTING_MODE = NADIR
^MEX_POINTING_DESC = "MEX_POINTING_DESC.TXT"
RIGHT_ASCENSION = -1e+32
DECLINATION = -1e+32
OFFSET_ANGLE = -1e+32
SPACECRAFT_SOLAR_DISTANCE = 2.06817e+08
TARGET_NAME = MARS
/* CAMERA DATA ELEMENTS */
DETECTOR_TEMPERATURE = 18.3705
FOCAL_PLANE_TEMPERATURE = 8.3794
INST_CMPRS_NAME = "DISCRETE COSINE TRANSFORMATION (DCT)"
INST_CMPRS_RATIO = 17.8426
INST_CMPRS_QUALITY = 0
INST_CMPRS_QUANTZ_TBL_ID = 0
INSTRUMENT_TEMPERATURE = 11.0301
LENS_TEMPERATURE = 8.7872
MACROPIXEL_SIZE = 2
MISSING_FRAMES = 0
PIXEL_SUBSAMPLING_FLAG = N
SIGNAL_CHAIN_ID = 1
/* RADIOMETRIC DATA ELEMENTS */
BANDWIDTH = 178.0
CENTER_FILTER_WAVELENGTH = 679.0
RADIANCE_OFFSET = 5.87508
RADIANCE_SCALING_FACTOR = 0.027419
REFLECTANCE_SCALING_FACTOR = 0.000621092
MEX:REFLECTANCE_OFFSET = 0.133082
/* IMAGE OBJECT DEFINITIONS */
OBJECT = IMAGE
  INTERCHANGE_FORMAT = BINARY
  LINES = 37047
  LINE_SAMPLES = 7563
  SAMPLE_TYPE = UNSIGNED_INTEGER
  SAMPLE_BITS = 8
  BANDS = 1
  BAND_STORAGE_TYPE = BAND_SEQUENTIAL
  MAXIMUM = 255
  MEAN = 183.171
  MINIMUM = 1
  STANDARD_DEVIATION = 90.4297
END_OBJECT = IMAGE
/* MAP OBJECT DEFINITIONS */
OBJECT = IMAGE_MAP_PROJECTION
  ^DATA_SET_MAP_PROJECTION_CATALOG= "DSMAP.CAT"
  A_AXIS_RADIUS = 3396.0
  B_AXIS_RADIUS = 3396.0
  C_AXIS_RADIUS = 3396.0
  CENTER_LATITUDE = 0.0
  CENTER_LONGITUDE = 338.0
  COORDINATE_SYSTEM_NAME = PLANETOGRAPHIC
  COORDINATE_SYSTEM_TYPE = "BODY-FIXED ROTATING"
  EASTERNMOST_LONGITUDE = 341.246
  FIRST_STANDARD_PARALLEL = "N/A"
  LINE_FIRST_PIXEL = 1
  LINE_LAST_PIXEL = 37047
  LINE_PROJECTION_OFFSET = -146373.25
  MAP_PROJECTION_ROTATION = 0.0
  MAP_PROJECTION_TYPE = SINUSOIDAL
  MAP_RESOLUTION = 2370.85521546667
  MAP_SCALE = 0.025
  MAXIMUM_LATITUDE = -61.7525
  MINIMUM_LATITUDE = -77.49420000000001
  POSITIVE_LONGITUDE_DIRECTION = EAST
  REFERENCE_LATITUDE = "N/A"
  REFERENCE_LONGITUDE = "N/A"
  SAMPLE_FIRST_PIXEL = 1
  SAMPLE_LAST_PIXEL = 7563
  SAMPLE_PROJECTION_OFFSET = 3920.75
  SECOND_STANDARD_PARALLEL = "N/A"
  WESTERNMOST_LONGITUDE = 330.503
END_OBJECT = IMAGE_MAP_PROJECTION
END
