PDS_VERSION_ID = PDS3
/* FILE DATA ELEMENTS */
RECORD_TYPE = UNDEFINED
/* POINTERS TO DATA OBJECTS */
^IMAGE = ("HN305_0000_GR4.TIF")
/* IDENTIFICATION DATA ELEMENTS */
DATA_SET_ID = "MEX-M-HRSC-4-REFDR-MAPPROJECT-EXT8-V4.0"
DATA_SET_NAME = "MARS EXPRESS HRSC MAP PROJECTED REFDR EXTENSION8 V4.0"
DETECTOR_ID = MEX_HRSC_GREEN
EVENT_TYPE = "MARS-REGIONAL-MAPPING-Im-Pf"
INSTRUMENT_HOST_ID = MEX
INSTRUMENT_HOST_NAME = "MARS EXPRESS"
INSTRUMENT_ID = HRSC
INSTRUMENT_NAME = "HIGH RESOLUTION STEREO CAMERA"
MISSION_NAME = "MARS EXPRESS"
MISSION_PHASE_NAME = ME_Phase_46
PROCESSING_LEVEL_ID = 4
PRODUCT_CREATION_TIME = 2023-01-28T22:22:56.000Z
PRODUCT_ID = "HN305_0000_GR4.TIF"
RELEASE_ID = 0004
REVISION_ID = 0000
/* QUALITY DATA ELEMENTS */
DATA_QUALITY_ID = 1
DATA_QUALITY_DESC = "Data calculated based on original SPICE kernels"
/* TIME DATA ELEMENTS */
SPACECRAFT_CLOCK_START_COUNT = "1/0603218594.23967"
SPACECRAFT_CLOCK_STOP_COUNT = "1/0603218814.47029"
START_TIME = 2022-06-13T16:44:31.520Z
STOP_TIME = 2022-06-13T16:46:57.505Z
/* ORBITAL DATA ELEMENTS */
ASCENDING_NODE_LONGITUDE = 139.78
MAXIMUM_RESOLUTION = 0.0591
FOOTPRINT_POINT_LATITUDE = (-76.2617,-76.2732,-76.2744,-76.2717, -76.2656,-76.2564,-76.2446,-76.2438, -76.2621,-76.0714,-75.8804,-75.5942, -75.4028,-75.2116,-74.925,-74.7341, -74.5436,-74.2575,-74.0669,-73.781, -73.5903,-73.3995,-73.2087,-73.0179, -72.827,-72.6362,-72.4454,-72.2546, -71.9685,-71.7778,-71.5872,-71.3965, -71.2058,-71.0152,-70.8244,-70.6338, -70.4433,-70.1575,-69.9671,-69.7764, -69.3958,-69.2053,-68.7295,-68.3491, -68.064,-67.5888,-67.1142,-66.8297, -66.7348,-66.6874,-66.6977,-66.7026, -66.7032,-66.7001,-66.6939,-66.6934, -66.6943,-67.1687,-67.4535,-67.7384, -68.1184,-68.3085,-68.4987,-68.6888, -68.9742,-69.3545,-69.5449,-69.7355, -69.926,-70.1164,-70.3068,-70.4973, -70.6879,-70.8785,-71.069,-71.3549, -71.5455,-71.7362,-72.0221,-72.2128, -72.4034,-72.5941,-72.8801,-73.1662, -73.3568,-73.6428,-73.9288,-74.1195, -74.3101,-74.5008,-74.6914,-74.882, -75.1679,-75.3586,-75.5491,-75.7396, -75.9301,-76.1206,-76.2158,-76.2617)
FOOTPRINT_POINT_LONGITUDE = (54.2535,52.519,51.508,50.5385,49.6075, 48.7125,47.8505,47.7978,48.2974,48.323, 48.3388,48.3717,48.3783,48.3899,48.4106 ,48.4286,48.4552,48.4868,48.5077, 48.5421,48.5592,48.5748,48.589,48.6028, 48.6149,48.627,48.6391,48.6501,48.6665, 48.677,48.6896,48.6995,48.709,48.717, 48.7225,48.7305,48.7391,48.7504,48.759, 48.7591,48.7746,48.7762,48.7872,48.7947 ,48.8003,48.8054,48.8123,48.8165, 48.8177,48.819,49.7166,50.5213,51.5386, 52.1975,52.8832,52.9271,52.9419,53.0124 ,53.0538,53.0956,53.1552,53.1878, 53.2165,53.2475,53.2945,53.3313,53.3634 ,53.4205,53.4678,53.5006,53.5278, 53.5682,53.6169,53.6549,53.6933,53.7522 ,53.7914,53.8342,53.8963,53.9382, 53.9788,54.0225,54.087,54.1587,54.1999, 54.258,54.3328,54.3843,54.439,54.4916, 54.5477,54.6044,54.6894,54.7772,54.8375 ,54.8853,54.9444,55.0268,55.0662, 54.2535)
ORBIT_NUMBER = 23305
ORBITAL_ECCENTRICITY = 0.576
ORBITAL_INCLINATION = 87.02
ORBITAL_SEMIMAJOR_AXIS = 8761.33
PERIAPSIS_ALTITUDE = 341.04
PERIAPSIS_ARGUMENT_ANGLE = 287.22
PERIAPSIS_TIME = 2022-06-13T16:45:20.000Z
SPACECRAFT_ORIENTATION = (0.0,1.0,0.0)
^MEX_ORIENTATION_DESC = "MEX_ORIENTATION_DESC.TXT"
SPACECRAFT_POINTING_MODE = ACROSSTRACK
^MEX_POINTING_DESC = "MEX_POINTING_DESC.TXT"
RIGHT_ASCENSION = -1e+32
DECLINATION = -1e+32
OFFSET_ANGLE = -3.0
SPACECRAFT_SOLAR_DISTANCE = 2.06707e+08
TARGET_NAME = MARS
/* CAMERA DATA ELEMENTS */
DETECTOR_TEMPERATURE = 18.3705
FOCAL_PLANE_TEMPERATURE = 10.0106
INST_CMPRS_NAME = "DISCRETE COSINE TRANSFORMATION (DCT)"
INST_CMPRS_RATIO = 10.0242
INST_CMPRS_QUALITY = 0
INST_CMPRS_QUANTZ_TBL_ID = 0
INSTRUMENT_TEMPERATURE = 11.4379
LENS_TEMPERATURE = 8.5833
MACROPIXEL_SIZE = 4
MISSING_FRAMES = 0
PIXEL_SUBSAMPLING_FLAG = N
SIGNAL_CHAIN_ID = 2
/* RADIOMETRIC DATA ELEMENTS */
BANDWIDTH = 88.0
CENTER_FILTER_WAVELENGTH = 538.0
RADIANCE_OFFSET = 2.21435
RADIANCE_SCALING_FACTOR = 0.00888884
REFLECTANCE_SCALING_FACTOR = 0.000326999
MEX:REFLECTANCE_OFFSET = 0.0814603
/* IMAGE OBJECT DEFINITIONS */
OBJECT = IMAGE
  INTERCHANGE_FORMAT = BINARY
  LINES = 11416
  LINE_SAMPLES = 2181
  SAMPLE_TYPE = UNSIGNED_INTEGER
  SAMPLE_BITS = 8
  BANDS = 1
  BAND_STORAGE_TYPE = BAND_SEQUENTIAL
  MAXIMUM = 255
  MEAN = 132.775
  MINIMUM = 1
  STANDARD_DEVIATION = 96.4519
END_OBJECT = IMAGE
/* MAP OBJECT DEFINITIONS */
OBJECT = IMAGE_MAP_PROJECTION
  ^DATA_SET_MAP_PROJECTION_CATALOG= "DSMAP.CAT"
  A_AXIS_RADIUS = 3396.0
  B_AXIS_RADIUS = 3396.0
  C_AXIS_RADIUS = 3396.0
  CENTER_LATITUDE = 0.0
  CENTER_LONGITUDE = 51.0
  COORDINATE_SYSTEM_NAME = PLANETOGRAPHIC
  COORDINATE_SYSTEM_TYPE = "BODY-FIXED ROTATING"
  EASTERNMOST_LONGITUDE = 55.0662
  FIRST_STANDARD_PARALLEL = "N/A"
  LINE_FIRST_PIXEL = 1
  LINE_LAST_PIXEL = 11416
  LINE_PROJECTION_OFFSET = -79030.375
  MAP_PROJECTION_ROTATION = 0.0
  MAP_PROJECTION_TYPE = SINUSOIDAL
  MAP_RESOLUTION = 1185.42760773333
  MAP_SCALE = 0.05
  MAXIMUM_LATITUDE = -66.6874
  MINIMUM_LATITUDE = -76.2744
  POSITIVE_LONGITUDE_DIRECTION = EAST
  REFERENCE_LATITUDE = "N/A"
  REFERENCE_LONGITUDE = "N/A"
  SAMPLE_FIRST_PIXEL = 1
  SAMPLE_LAST_PIXEL = 2181
  SAMPLE_PROJECTION_OFFSET = 1029.375
  SECOND_STANDARD_PARALLEL = "N/A"
  WESTERNMOST_LONGITUDE = 47.7978
END_OBJECT = IMAGE_MAP_PROJECTION
END
