PDS_VERSION_ID = PDS3
/* FILE DATA ELEMENTS */
RECORD_TYPE = UNDEFINED
/* POINTERS TO DATA OBJECTS */
^IMAGE = ("HN305_0000_IR4.TIF")
/* IDENTIFICATION DATA ELEMENTS */
DATA_SET_ID = "MEX-M-HRSC-4-REFDR-MAPPROJECT-EXT8-V4.0"
DATA_SET_NAME = "MARS EXPRESS HRSC MAP PROJECTED REFDR EXTENSION8 V4.0"
DETECTOR_ID = MEX_HRSC_IR
EVENT_TYPE = "MARS-REGIONAL-MAPPING-Im-Pf"
INSTRUMENT_HOST_ID = MEX
INSTRUMENT_HOST_NAME = "MARS EXPRESS"
INSTRUMENT_ID = HRSC
INSTRUMENT_NAME = "HIGH RESOLUTION STEREO CAMERA"
MISSION_NAME = "MARS EXPRESS"
MISSION_PHASE_NAME = ME_Phase_46
PROCESSING_LEVEL_ID = 4
PRODUCT_CREATION_TIME = 2023-01-28T22:22:56.000Z
PRODUCT_ID = "HN305_0000_IR4.TIF"
RELEASE_ID = 0004
REVISION_ID = 0000
/* QUALITY DATA ELEMENTS */
DATA_QUALITY_ID = 1
DATA_QUALITY_DESC = "Data calculated based on original SPICE kernels"
/* TIME DATA ELEMENTS */
SPACECRAFT_CLOCK_START_COUNT = "1/0603218594.23967"
SPACECRAFT_CLOCK_STOP_COUNT = "1/0603218814.47029"
START_TIME = 2022-06-13T16:44:54.885Z
STOP_TIME = 2022-06-13T16:47:21.375Z
/* ORBITAL DATA ELEMENTS */
ASCENDING_NODE_LONGITUDE = 139.78
MAXIMUM_RESOLUTION = 0.0615
FOOTPRINT_POINT_LATITUDE = (-76.2568,-76.2195,-76.1923,-76.1626, -76.1308,-76.0971,-76.0617,-76.0595, -76.1498,-75.9579,-75.7641,-75.5732, -75.3797,-75.187,-74.9936,-74.8023, -74.5173,-74.3273,-74.042,-73.7579, -73.4723,-73.1867,-72.9962,-72.8056, -72.6153,-72.4251,-72.1398,-71.9498, -71.7599,-71.5706,-71.381,-71.1913, -71.0016,-70.8114,-70.6218,-70.3375, -70.1492,-69.9606,-69.7701,-69.3933, -69.2036,-68.921,-68.7321,-68.3554, -68.073,-67.8847,-67.6024,-67.2276, -66.7591,-66.6658,-66.5865,-66.6159, -66.6529,-66.6996,-66.7505,-66.7812, -66.7828,-66.7843,-66.972,-67.3464, -67.7214,-67.9096,-68.0971,-68.2854, -68.4733,-68.7556,-68.944,-69.3175, -69.6958,-69.888,-70.0766,-70.3591, -70.645,-70.8344,-71.0236,-71.2132, -71.4973,-71.6872,-71.9718,-72.1616, -72.3511,-72.5409,-72.8255,-73.1111, -73.301,-73.4892,-73.6793,-73.9644, -74.1551,-74.4409,-74.6316,-74.9176, -75.2041,-75.397,-75.5875,-75.7767, -75.9675,-76.1598,-76.2555,-76.2568)
FOOTPRINT_POINT_LONGITUDE = (54.334,52.5795,51.5637,50.5932,49.6658 ,48.7778,47.9266,47.8745,48.3677,48.388 ,48.3968,48.4201,48.4287,48.4405, 48.4477,48.4652,48.4995,48.5211,48.5497 ,48.5814,48.6042,48.6249,48.6373, 48.6482,48.6596,48.6707,48.6856,48.6957 ,48.7051,48.7167,48.726,48.7344,48.7414 ,48.746,48.7527,48.7613,48.7711,48.7788 ,48.7786,48.7922,48.7931,48.8006, 48.8028,48.8095,48.8132,48.8149,48.8167 ,48.8225,48.8264,48.8278,48.8284,49.343 ,50.0281,50.9805,52.135,52.9645,53.0098 ,53.0249,53.0553,53.1081,53.1642, 53.1957,53.2232,53.2552,53.2846,53.331, 53.3625,53.4035,53.4768,53.5349,53.5674 ,53.6134,53.6842,53.7229,53.7602,53.8, 53.8589,53.9013,53.9643,54.0066,54.0474 ,54.0907,54.1549,54.2285,54.2744, 54.3046,54.352,54.4247,54.4794,54.5602, 54.6174,54.7038,54.7974,54.8798,54.9402 ,54.987,55.052,55.1348,55.1728,54.334)
ORBIT_NUMBER = 23305
ORBITAL_ECCENTRICITY = 0.576
ORBITAL_INCLINATION = 87.02
ORBITAL_SEMIMAJOR_AXIS = 8761.33
PERIAPSIS_ALTITUDE = 341.04
PERIAPSIS_ARGUMENT_ANGLE = 287.22
PERIAPSIS_TIME = 2022-06-13T16:45:20.000Z
SPACECRAFT_ORIENTATION = (0.0,1.0,0.0)
^MEX_ORIENTATION_DESC = "MEX_ORIENTATION_DESC.TXT"
SPACECRAFT_POINTING_MODE = ACROSSTRACK
^MEX_POINTING_DESC = "MEX_POINTING_DESC.TXT"
RIGHT_ASCENSION = -1e+32
DECLINATION = -1e+32
OFFSET_ANGLE = -3.0
SPACECRAFT_SOLAR_DISTANCE = 2.06707e+08
TARGET_NAME = MARS
/* CAMERA DATA ELEMENTS */
DETECTOR_TEMPERATURE = 18.1666
FOCAL_PLANE_TEMPERATURE = 10.0106
INST_CMPRS_NAME = "DISCRETE COSINE TRANSFORMATION (DCT)"
INST_CMPRS_RATIO = 10.8584
INST_CMPRS_QUALITY = 0
INST_CMPRS_QUANTZ_TBL_ID = 0
INSTRUMENT_TEMPERATURE = 11.4379
LENS_TEMPERATURE = 8.5833
MACROPIXEL_SIZE = 4
MISSING_FRAMES = 0
PIXEL_SUBSAMPLING_FLAG = N
SIGNAL_CHAIN_ID = 2
/* RADIOMETRIC DATA ELEMENTS */
BANDWIDTH = 81.0
CENTER_FILTER_WAVELENGTH = 955.5
RADIANCE_OFFSET = 1.48601
RADIANCE_SCALING_FACTOR = 0.00874124
REFLECTANCE_SCALING_FACTOR = 0.000805771
MEX:REFLECTANCE_OFFSET = 0.136981
/* IMAGE OBJECT DEFINITIONS */
OBJECT = IMAGE
  INTERCHANGE_FORMAT = BINARY
  LINES = 11416
  LINE_SAMPLES = 2181
  SAMPLE_TYPE = UNSIGNED_INTEGER
  SAMPLE_BITS = 8
  BANDS = 1
  BAND_STORAGE_TYPE = BAND_SEQUENTIAL
  MAXIMUM = 255
  MEAN = 133.266
  MINIMUM = 1
  STANDARD_DEVIATION = 78.797
END_OBJECT = IMAGE
/* MAP OBJECT DEFINITIONS */
OBJECT = IMAGE_MAP_PROJECTION
  ^DATA_SET_MAP_PROJECTION_CATALOG= "DSMAP.CAT"
  A_AXIS_RADIUS = 3396.0
  B_AXIS_RADIUS = 3396.0
  C_AXIS_RADIUS = 3396.0
  CENTER_LATITUDE = 0.0
  CENTER_LONGITUDE = 51.0
  COORDINATE_SYSTEM_NAME = PLANETOGRAPHIC
  COORDINATE_SYSTEM_TYPE = "BODY-FIXED ROTATING"
  EASTERNMOST_LONGITUDE = 55.1728
  FIRST_STANDARD_PARALLEL = "N/A"
  LINE_FIRST_PIXEL = 1
  LINE_LAST_PIXEL = 11416
  LINE_PROJECTION_OFFSET = -79030.375
  MAP_PROJECTION_ROTATION = 0.0
  MAP_PROJECTION_TYPE = SINUSOIDAL
  MAP_RESOLUTION = 1185.42760773333
  MAP_SCALE = 0.05
  MAXIMUM_LATITUDE = -66.5865
  MINIMUM_LATITUDE = -76.2568
  POSITIVE_LONGITUDE_DIRECTION = EAST
  REFERENCE_LATITUDE = "N/A"
  REFERENCE_LONGITUDE = "N/A"
  SAMPLE_FIRST_PIXEL = 1
  SAMPLE_LAST_PIXEL = 2181
  SAMPLE_PROJECTION_OFFSET = 1029.375
  SECOND_STANDARD_PARALLEL = "N/A"
  WESTERNMOST_LONGITUDE = 47.8745
END_OBJECT = IMAGE_MAP_PROJECTION
END
