PDS_VERSION_ID = PDS3
/* FILE DATA ELEMENTS */
RECORD_TYPE = UNDEFINED
/* POINTERS TO DATA OBJECTS */
^IMAGE = ("HN305_0000_P24.TIF")
/* IDENTIFICATION DATA ELEMENTS */
DATA_SET_ID = "MEX-M-HRSC-4-REFDR-MAPPROJECT-EXT8-V4.0"
DATA_SET_NAME = "MARS EXPRESS HRSC MAP PROJECTED REFDR EXTENSION8 V4.0"
DETECTOR_ID = MEX_HRSC_P2
EVENT_TYPE = "MARS-REGIONAL-MAPPING-Im-Pf"
INSTRUMENT_HOST_ID = MEX
INSTRUMENT_HOST_NAME = "MARS EXPRESS"
INSTRUMENT_ID = HRSC
INSTRUMENT_NAME = "HIGH RESOLUTION STEREO CAMERA"
MISSION_NAME = "MARS EXPRESS"
MISSION_PHASE_NAME = ME_Phase_46
PROCESSING_LEVEL_ID = 4
PRODUCT_CREATION_TIME = 2023-01-28T22:22:56.000Z
PRODUCT_ID = "HN305_0000_P24.TIF"
RELEASE_ID = 0004
REVISION_ID = 0000
/* QUALITY DATA ELEMENTS */
DATA_QUALITY_ID = 1
DATA_QUALITY_DESC = "Data calculated based on original SPICE kernels"
/* TIME DATA ELEMENTS */
SPACECRAFT_CLOCK_START_COUNT = "1/0603218594.23967"
SPACECRAFT_CLOCK_STOP_COUNT = "1/0603218814.47029"
START_TIME = 2022-06-13T16:44:01.907Z
STOP_TIME = 2022-06-13T16:46:28.152Z
/* ORBITAL DATA ELEMENTS */
ASCENDING_NODE_LONGITUDE = 139.78
MAXIMUM_RESOLUTION = 0.0305
FOOTPRINT_POINT_LATITUDE = (-76.2567,-76.3239,-76.3643,-76.3983, -76.4267,-76.4499,-76.4687,-76.4697, -76.3988,-76.0194,-75.6416,-75.0756, -74.5993,-74.4079,-74.217,-73.9307, -73.6422,-73.3556,-73.1645,-72.878, -72.5911,-72.3997,-72.2086,-72.017, -71.8256,-71.6336,-71.3458,-71.1539, -70.9622,-70.7711,-70.4834,-70.1948, -70.0024,-69.7151,-69.5224,-69.331, -69.1385,-68.9461,-68.5638,-68.37, -68.1771,-67.9852,-67.7934,-67.504, -67.3105,-67.1197,-66.9269,-66.8307, -66.8171,-66.7846,-66.7599,-66.7245, -66.686,-66.6247,-66.5802,-66.5769, -66.5762,-66.7692,-66.9611,-67.1542, -67.3466,-67.5394,-67.8277,-68.0202, -68.3086,-68.5011,-68.6934,-68.8852, -69.0793,-69.2742,-69.4676,-69.8461, -70.0379,-70.2305,-70.6128,-70.9002, -71.0918,-71.3793,-71.5709,-71.8579, -72.0494,-72.2409,-72.4326,-72.6238, -72.8154,-73.0061,-73.1972,-73.3892, -73.6774,-73.8686,-74.2492,-74.44, -74.6301,-74.8204,-75.0106,-75.2931, -75.674,-76.0537,-76.1472,-76.2567)
FOOTPRINT_POINT_LONGITUDE = (54.3601,52.812,51.7368,50.7004,49.7027 ,48.7405,47.8114,47.7545,48.2662, 48.3189,48.3544,48.3919,48.4456,48.4709 ,48.4912,48.5185,48.5572,48.5817, 48.5968,48.6166,48.6366,48.6493,48.6601 ,48.6722,48.6831,48.696,48.7124,48.723, 48.7316,48.7367,48.7486,48.763,48.7724, 48.7784,48.7874,48.7897,48.7972,48.8031 ,48.8025,48.8139,48.8203,48.8223, 48.8232,48.8315,48.8387,48.8343,48.838, 48.8392,48.8394,49.5578,50.046,50.7048, 51.3541,52.2922,52.9191,52.9646,52.9811 ,53.007,53.0385,53.0642,53.0939,53.1222 ,53.1693,53.1991,53.2471,53.2777, 53.3099,53.3453,53.3683,53.3862,53.4127 ,53.5163,53.5532,53.5859,53.67,53.73, 53.7698,53.8308,53.8717,53.9364,53.9794 ,54.0226,54.0645,54.11,54.1538,54.2036, 54.251,54.2927,54.3547,54.4026,54.5133, 54.566,54.6244,54.6815,54.7409,54.8514, 54.9695,55.0993,55.1434,54.3601)
ORBIT_NUMBER = 23305
ORBITAL_ECCENTRICITY = 0.576
ORBITAL_INCLINATION = 87.02
ORBITAL_SEMIMAJOR_AXIS = 8761.33
PERIAPSIS_ALTITUDE = 341.04
PERIAPSIS_ARGUMENT_ANGLE = 287.22
PERIAPSIS_TIME = 2022-06-13T16:45:20.000Z
SPACECRAFT_ORIENTATION = (0.0,1.0,0.0)
^MEX_ORIENTATION_DESC = "MEX_ORIENTATION_DESC.TXT"
SPACECRAFT_POINTING_MODE = ACROSSTRACK
^MEX_POINTING_DESC = "MEX_POINTING_DESC.TXT"
RIGHT_ASCENSION = -1e+32
DECLINATION = -1e+32
OFFSET_ANGLE = -3.0
SPACECRAFT_SOLAR_DISTANCE = 2.06707e+08
TARGET_NAME = MARS
/* CAMERA DATA ELEMENTS */
DETECTOR_TEMPERATURE = 18.9822
FOCAL_PLANE_TEMPERATURE = 10.0106
INST_CMPRS_NAME = "DISCRETE COSINE TRANSFORMATION (DCT)"
INST_CMPRS_RATIO = 7.69068
INST_CMPRS_QUALITY = 0
INST_CMPRS_QUANTZ_TBL_ID = 0
INSTRUMENT_TEMPERATURE = 11.4379
LENS_TEMPERATURE = 8.5833
MACROPIXEL_SIZE = 2
MISSING_FRAMES = 0
PIXEL_SUBSAMPLING_FLAG = N
SIGNAL_CHAIN_ID = 3
/* RADIOMETRIC DATA ELEMENTS */
BANDWIDTH = 177.0
CENTER_FILTER_WAVELENGTH = 676.5
RADIANCE_OFFSET = 5.99538
RADIANCE_SCALING_FACTOR = 0.0259371
REFLECTANCE_SCALING_FACTOR = 0.00058761
MEX:REFLECTANCE_OFFSET = 0.135827
/* IMAGE OBJECT DEFINITIONS */
OBJECT = IMAGE
  INTERCHANGE_FORMAT = BINARY
  LINES = 22832
  LINE_SAMPLES = 4361
  SAMPLE_TYPE = UNSIGNED_INTEGER
  SAMPLE_BITS = 8
  BANDS = 1
  BAND_STORAGE_TYPE = BAND_SEQUENTIAL
  MAXIMUM = 255
  MEAN = 136.103
  MINIMUM = 1
  STANDARD_DEVIATION = 85.302
END_OBJECT = IMAGE
/* MAP OBJECT DEFINITIONS */
OBJECT = IMAGE_MAP_PROJECTION
  ^DATA_SET_MAP_PROJECTION_CATALOG= "DSMAP.CAT"
  A_AXIS_RADIUS = 3396.0
  B_AXIS_RADIUS = 3396.0
  C_AXIS_RADIUS = 3396.0
  CENTER_LATITUDE = 0.0
  CENTER_LONGITUDE = 51.0
  COORDINATE_SYSTEM_NAME = PLANETOGRAPHIC
  COORDINATE_SYSTEM_TYPE = "BODY-FIXED ROTATING"
  EASTERNMOST_LONGITUDE = 55.1434
  FIRST_STANDARD_PARALLEL = "N/A"
  LINE_FIRST_PIXEL = 1
  LINE_LAST_PIXEL = 22832
  LINE_PROJECTION_OFFSET = -158060.25
  MAP_PROJECTION_ROTATION = 0.0
  MAP_PROJECTION_TYPE = SINUSOIDAL
  MAP_RESOLUTION = 2370.85521546667
  MAP_SCALE = 0.025
  MAXIMUM_LATITUDE = -66.5762
  MINIMUM_LATITUDE = -76.4697
  POSITIVE_LONGITUDE_DIRECTION = EAST
  REFERENCE_LATITUDE = "N/A"
  REFERENCE_LONGITUDE = "N/A"
  SAMPLE_FIRST_PIXEL = 1
  SAMPLE_LAST_PIXEL = 4361
  SAMPLE_PROJECTION_OFFSET = 2059.25
  SECOND_STANDARD_PARALLEL = "N/A"
  WESTERNMOST_LONGITUDE = 47.7545
END_OBJECT = IMAGE_MAP_PROJECTION
END
