PDS_VERSION_ID = PDS3
/* FILE DATA ELEMENTS */
RECORD_TYPE = UNDEFINED
/* POINTERS TO DATA OBJECTS */
^IMAGE = ("HN305_0000_S24.TIF")
/* IDENTIFICATION DATA ELEMENTS */
DATA_SET_ID = "MEX-M-HRSC-4-REFDR-MAPPROJECT-EXT8-V4.0"
DATA_SET_NAME = "MARS EXPRESS HRSC MAP PROJECTED REFDR EXTENSION8 V4.0"
DETECTOR_ID = MEX_HRSC_S2
EVENT_TYPE = "MARS-REGIONAL-MAPPING-Im-Pf"
INSTRUMENT_HOST_ID = MEX
INSTRUMENT_HOST_NAME = "MARS EXPRESS"
INSTRUMENT_ID = HRSC
INSTRUMENT_NAME = "HIGH RESOLUTION STEREO CAMERA"
MISSION_NAME = "MARS EXPRESS"
MISSION_PHASE_NAME = ME_Phase_46
PROCESSING_LEVEL_ID = 4
PRODUCT_CREATION_TIME = 2023-01-28T22:22:56.000Z
PRODUCT_ID = "HN305_0000_S24.TIF"
RELEASE_ID = 0004
REVISION_ID = 0000
/* QUALITY DATA ELEMENTS */
DATA_QUALITY_ID = 1
DATA_QUALITY_DESC = "Data calculated based on original SPICE kernels"
/* TIME DATA ELEMENTS */
SPACECRAFT_CLOCK_START_COUNT = "1/0603218594.23967"
SPACECRAFT_CLOCK_STOP_COUNT = "1/0603218814.47029"
START_TIME = 2022-06-13T16:43:49.277Z
STOP_TIME = 2022-06-13T16:46:16.027Z
/* ORBITAL DATA ELEMENTS */
ASCENDING_NODE_LONGITUDE = 139.78
MAXIMUM_RESOLUTION = 0.0315
FOOTPRINT_POINT_LATITUDE = (-76.2559,-76.3477,-76.4048,-76.4546, -76.4977,-76.535,-76.567,-76.5688, -76.4599,-75.9891,-75.6144,-75.3338, -74.9599,-74.5799,-74.1993,-73.914, -73.7206,-73.5304,-73.3399,-73.0545, -72.8642,-72.5782,-72.3876,-72.197, -72.0059,-71.815,-71.6232,-71.4314, -71.2402,-70.9535,-70.7626,-70.4754, -70.1869,-69.9944,-69.7076,-69.5153, -69.3243,-69.1316,-68.939,-68.7473, -68.5576,-68.363,-68.1698,-67.9779, -67.7863,-67.4947,-67.3012,-67.015, -66.9184,-66.8715,-66.8101,-66.7635, -66.6804,-66.5986,-66.5288,-66.5243, -66.5232,-66.7169,-66.9089,-67.1024, -67.295,-67.488,-67.6805,-67.8724, -68.0654,-68.3539,-68.6425,-68.8343, -69.0291,-69.2249,-69.4184,-69.6102, -69.9859,-70.1779,-70.3718,-70.7509, -70.9424,-71.1337,-71.4203,-71.6114, -71.8021,-71.993,-72.2794,-72.4706, -72.6613,-72.8524,-73.042,-73.3291, -73.5219,-73.7122,-73.9035,-74.2809, -74.4708,-74.8489,-75.0379,-75.4118, -75.698,-75.9802,-76.074,-76.2559)
FOOTPRINT_POINT_LONGITUDE = (54.4767,52.9159,51.828,50.7779,49.7651 ,48.786,47.839,47.7808,48.3035,48.3677, 48.4032,48.4243,48.4475,48.4928,48.5353 ,48.5635,48.594,48.61,48.6261,48.6475, 48.6603,48.68,48.6921,48.7031,48.715, 48.7257,48.7385,48.7506,48.7599,48.7721 ,48.7784,48.7901,48.8044,48.8136, 48.8199,48.8271,48.8295,48.8368,48.8434 ,48.8465,48.8428,48.8542,48.8605, 48.8624,48.8631,48.8756,48.8808,48.8761 ,48.8777,48.8782,49.7519,50.3627, 51.3666,52.2632,52.9794,53.0249,53.0414 ,53.0672,53.0992,53.126,53.1565,53.1855 ,53.2164,53.2501,53.2797,53.3285, 53.3774,53.4124,53.4361,53.4558,53.4844 ,53.5205,53.6256,53.6617,53.6903, 53.7843,53.8238,53.8646,53.9273,53.9694 ,54.0141,54.0578,54.1238,54.1673, 54.2134,54.2578,54.3099,54.3758,54.4133 ,54.4633,54.509,54.6276,54.6817,54.8006 ,54.8614,55.0071,55.0875,55.1909, 55.2276,54.4767)
ORBIT_NUMBER = 23305
ORBITAL_ECCENTRICITY = 0.576
ORBITAL_INCLINATION = 87.02
ORBITAL_SEMIMAJOR_AXIS = 8761.33
PERIAPSIS_ALTITUDE = 341.04
PERIAPSIS_ARGUMENT_ANGLE = 287.22
PERIAPSIS_TIME = 2022-06-13T16:45:20.000Z
SPACECRAFT_ORIENTATION = (0.0,1.0,0.0)
^MEX_ORIENTATION_DESC = "MEX_ORIENTATION_DESC.TXT"
SPACECRAFT_POINTING_MODE = ACROSSTRACK
^MEX_POINTING_DESC = "MEX_POINTING_DESC.TXT"
RIGHT_ASCENSION = -1e+32
DECLINATION = -1e+32
OFFSET_ANGLE = -3.0
SPACECRAFT_SOLAR_DISTANCE = 2.06707e+08
TARGET_NAME = MARS
/* CAMERA DATA ELEMENTS */
DETECTOR_TEMPERATURE = 18.9822
FOCAL_PLANE_TEMPERATURE = 10.0106
INST_CMPRS_NAME = "DISCRETE COSINE TRANSFORMATION (DCT)"
INST_CMPRS_RATIO = 10.1811
INST_CMPRS_QUALITY = 0
INST_CMPRS_QUANTZ_TBL_ID = 0
INSTRUMENT_TEMPERATURE = 11.4379
LENS_TEMPERATURE = 8.5833
MACROPIXEL_SIZE = 2
MISSING_FRAMES = 0
PIXEL_SUBSAMPLING_FLAG = N
SIGNAL_CHAIN_ID = 1
/* RADIOMETRIC DATA ELEMENTS */
BANDWIDTH = 178.0
CENTER_FILTER_WAVELENGTH = 679.0
RADIANCE_OFFSET = 6.50787
RADIANCE_SCALING_FACTOR = 0.0359102
REFLECTANCE_SCALING_FACTOR = 0.000812565
MEX:REFLECTANCE_OFFSET = 0.147258
/* IMAGE OBJECT DEFINITIONS */
OBJECT = IMAGE
  INTERCHANGE_FORMAT = BINARY
  LINES = 22832
  LINE_SAMPLES = 4361
  SAMPLE_TYPE = UNSIGNED_INTEGER
  SAMPLE_BITS = 8
  BANDS = 1
  BAND_STORAGE_TYPE = BAND_SEQUENTIAL
  MAXIMUM = 255
  MEAN = 117.04
  MINIMUM = 1
  STANDARD_DEVIATION = 90.807
END_OBJECT = IMAGE
/* MAP OBJECT DEFINITIONS */
OBJECT = IMAGE_MAP_PROJECTION
  ^DATA_SET_MAP_PROJECTION_CATALOG= "DSMAP.CAT"
  A_AXIS_RADIUS = 3396.0
  B_AXIS_RADIUS = 3396.0
  C_AXIS_RADIUS = 3396.0
  CENTER_LATITUDE = 0.0
  CENTER_LONGITUDE = 51.0
  COORDINATE_SYSTEM_NAME = PLANETOGRAPHIC
  COORDINATE_SYSTEM_TYPE = "BODY-FIXED ROTATING"
  EASTERNMOST_LONGITUDE = 55.2276
  FIRST_STANDARD_PARALLEL = "N/A"
  LINE_FIRST_PIXEL = 1
  LINE_LAST_PIXEL = 22832
  LINE_PROJECTION_OFFSET = -158060.25
  MAP_PROJECTION_ROTATION = 0.0
  MAP_PROJECTION_TYPE = SINUSOIDAL
  MAP_RESOLUTION = 2370.85521546667
  MAP_SCALE = 0.025
  MAXIMUM_LATITUDE = -66.5232
  MINIMUM_LATITUDE = -76.5688
  POSITIVE_LONGITUDE_DIRECTION = EAST
  REFERENCE_LATITUDE = "N/A"
  REFERENCE_LONGITUDE = "N/A"
  SAMPLE_FIRST_PIXEL = 1
  SAMPLE_LAST_PIXEL = 4361
  SAMPLE_PROJECTION_OFFSET = 2059.25
  SECOND_STANDARD_PARALLEL = "N/A"
  WESTERNMOST_LONGITUDE = 47.7808
END_OBJECT = IMAGE_MAP_PROJECTION
END
