PDS_VERSION_ID = PDS3
/* FILE DATA ELEMENTS */
RECORD_TYPE = UNDEFINED
/* POINTERS TO DATA OBJECTS */
^IMAGE = ("HN309_0000_ND4.TIF")
/* IDENTIFICATION DATA ELEMENTS */
DATA_SET_ID = "MEX-M-HRSC-4-REFDR-MAPPROJECT-EXT8-V4.0"
DATA_SET_NAME = "MARS EXPRESS HRSC MAP PROJECTED REFDR EXTENSION8 V4.0"
DETECTOR_ID = MEX_HRSC_NADIR
EVENT_TYPE = "MARS-REGIONAL-COLOR-Pf-La-Ts"
INSTRUMENT_HOST_ID = MEX
INSTRUMENT_HOST_NAME = "MARS EXPRESS"
INSTRUMENT_ID = HRSC
INSTRUMENT_NAME = "HIGH RESOLUTION STEREO CAMERA"
MISSION_NAME = "MARS EXPRESS"
MISSION_PHASE_NAME = ME_Phase_46
PROCESSING_LEVEL_ID = 4
PRODUCT_CREATION_TIME = 2023-01-28T22:22:56.000Z
PRODUCT_ID = "HN309_0000_ND4.TIF"
RELEASE_ID = 0004
REVISION_ID = 0000
/* QUALITY DATA ELEMENTS */
DATA_QUALITY_ID = 1
DATA_QUALITY_DESC = "Data calculated based on original SPICE kernels"
/* TIME DATA ELEMENTS */
SPACECRAFT_CLOCK_START_COUNT = "1/0603319166.23983"
SPACECRAFT_CLOCK_STOP_COUNT = "1/0603319383.55482"
START_TIME = 2022-06-14T20:40:34.639Z
STOP_TIME = 2022-06-14T20:43:02.624Z
/* ORBITAL DATA ELEMENTS */
ASCENDING_NODE_LONGITUDE = 139.72
MAXIMUM_RESOLUTION = 0.014
FOOTPRINT_POINT_LATITUDE = (-76.1744,-76.1695,-76.1619,-76.1514, -76.1382,-76.1047,-76.1035,-76.107, -75.9142,-75.7214,-75.5284,-75.3355, -75.046,-74.853,-74.6599,-74.4667, -74.2736,-74.0803,-73.8871,-73.6938, -73.5005,-73.3071,-73.1138,-72.9205, -72.7271,-72.5336,-72.3402,-72.05, -71.8566,-71.6631,-71.4696,-71.2762, -71.0827,-70.8893,-70.6959,-70.5023, -70.3089,-70.1154,-69.922,-69.4385, -69.0518,-68.6652,-68.2787,-67.8924, -67.6958,-67.3096,-66.9236,-66.5378, -66.4413,-66.434,-66.4447,-66.4535, -66.4587,-66.4576,-66.4574,-66.4576, -66.8445,-67.2315,-67.6188,-67.9128, -68.1065,-68.3001,-68.4939,-68.688, -68.8819,-69.0759,-69.3669,-69.5609, -69.755,-69.9491,-70.1431,-70.3373, -70.6285,-70.8227,-71.0169,-71.211, -71.4053,-71.5996,-71.8911,-72.0853, -72.2795,-72.474,-72.6683,-72.9597, -73.2512,-73.4455,-73.6398,-73.9312, -74.1255,-74.3198,-74.6113,-74.8055, -74.9997,-75.1939,-75.3881,-75.6793, -75.8735,-76.0676,-76.1647,-76.1744)
FOOTPRINT_POINT_LONGITUDE = (360.977,359.815,358.916,358.043, 357.196,355.573,355.524,355.796,355.875 ,355.952,356.023,356.095,356.202, 356.269,356.334,356.4,356.464,356.517, 356.574,356.631,356.686,356.739,356.791 ,356.846,356.9,356.938,356.984,357.05, 357.093,357.137,357.176,357.214,357.253 ,357.295,357.335,357.361,357.395, 357.428,357.459,357.538,357.597,357.652 ,357.705,357.755,357.78,357.829,357.873 ,357.914,357.924,357.925,358.601, 359.403,360.375,361.376,361.414,361.432 ,361.437,361.443,361.449,361.451, 361.461,361.481,361.488,361.473,361.475 ,361.474,361.482,361.485,361.488, 361.492,361.497,361.499,361.505,361.51, 361.511,361.533,361.527,361.518,361.52, 361.524,361.543,361.526,361.527,361.531 ,361.534,361.536,361.539,361.54,361.541 ,361.541,361.534,361.543,361.547, 361.549,361.555,361.558,361.56,361.567, 361.559,360.977)
ORBIT_NUMBER = 23309
ORBITAL_ECCENTRICITY = 0.575
ORBITAL_INCLINATION = 87.02
ORBITAL_SEMIMAJOR_AXIS = 8759.05
PERIAPSIS_ALTITUDE = 341.17
PERIAPSIS_ARGUMENT_ANGLE = 286.53
PERIAPSIS_TIME = 2022-06-14T20:41:17.000Z
SPACECRAFT_ORIENTATION = (0.0,1.0,0.0)
^MEX_ORIENTATION_DESC = "MEX_ORIENTATION_DESC.TXT"
SPACECRAFT_POINTING_MODE = ACROSSTRACK
^MEX_POINTING_DESC = "MEX_POINTING_DESC.TXT"
RIGHT_ASCENSION = -1e+32
DECLINATION = -1e+32
OFFSET_ANGLE = -2.0
SPACECRAFT_SOLAR_DISTANCE = 2.06689e+08
TARGET_NAME = MARS
/* CAMERA DATA ELEMENTS */
DETECTOR_TEMPERATURE = 18.1666
FOCAL_PLANE_TEMPERATURE = 8.5833
INST_CMPRS_NAME = "DISCRETE COSINE TRANSFORMATION (DCT)"
INST_CMPRS_RATIO = 7.17866
INST_CMPRS_QUALITY = 0
INST_CMPRS_QUANTZ_TBL_ID = 0
INSTRUMENT_TEMPERATURE = 10.6223
LENS_TEMPERATURE = 8.7872
MACROPIXEL_SIZE = 1
MISSING_FRAMES = 2
PIXEL_SUBSAMPLING_FLAG = N
SIGNAL_CHAIN_ID = 0
/* RADIOMETRIC DATA ELEMENTS */
BANDWIDTH = 177.0
CENTER_FILTER_WAVELENGTH = 677.5
RADIANCE_OFFSET = 5.32159
RADIANCE_SCALING_FACTOR = 0.052447
REFLECTANCE_SCALING_FACTOR = 0.00119025
MEX:REFLECTANCE_OFFSET = 0.12077
/* IMAGE OBJECT DEFINITIONS */
OBJECT = IMAGE
  INTERCHANGE_FORMAT = BINARY
  LINES = 46175
  LINE_SAMPLES = 8258
  SAMPLE_TYPE = UNSIGNED_INTEGER
  SAMPLE_BITS = 8
  BANDS = 1
  BAND_STORAGE_TYPE = BAND_SEQUENTIAL
  MAXIMUM = 255
  MEAN = 116.525
  MINIMUM = 1
  STANDARD_DEVIATION = 97.6683
END_OBJECT = IMAGE
/* MAP OBJECT DEFINITIONS */
OBJECT = IMAGE_MAP_PROJECTION
  ^DATA_SET_MAP_PROJECTION_CATALOG= "DSMAP.CAT"
  A_AXIS_RADIUS = 3396.0
  B_AXIS_RADIUS = 3396.0
  C_AXIS_RADIUS = 3396.0
  CENTER_LATITUDE = 0.0
  CENTER_LONGITUDE = 359.0
  COORDINATE_SYSTEM_NAME = PLANETOGRAPHIC
  COORDINATE_SYSTEM_TYPE = "BODY-FIXED ROTATING"
  EASTERNMOST_LONGITUDE = 1.567
  FIRST_STANDARD_PARALLEL = "N/A"
  LINE_FIRST_PIXEL = 1
  LINE_LAST_PIXEL = 46175
  LINE_PROJECTION_OFFSET = -315012.0
  MAP_PROJECTION_ROTATION = 0.0
  MAP_PROJECTION_TYPE = SINUSOIDAL
  MAP_RESOLUTION = 4741.71043093333
  MAP_SCALE = 0.0125
  MAXIMUM_LATITUDE = -66.434
  MINIMUM_LATITUDE = -76.17440000000001
  POSITIVE_LONGITUDE_DIRECTION = EAST
  REFERENCE_LATITUDE = "N/A"
  REFERENCE_LONGITUDE = "N/A"
  SAMPLE_FIRST_PIXEL = 1
  SAMPLE_LAST_PIXEL = 8258
  SAMPLE_PROJECTION_OFFSET = 3650.0
  SECOND_STANDARD_PARALLEL = "N/A"
  WESTERNMOST_LONGITUDE = -4.476
END_OBJECT = IMAGE_MAP_PROJECTION
END
