PDS_VERSION_ID = PDS3
/* FILE DATA ELEMENTS */
RECORD_TYPE = UNDEFINED
/* POINTERS TO DATA OBJECTS */
^IMAGE = ("HN313_0000_GR4.TIF")
/* IDENTIFICATION DATA ELEMENTS */
DATA_SET_ID = "MEX-M-HRSC-4-REFDR-MAPPROJECT-EXT8-V4.0"
DATA_SET_NAME = "MARS EXPRESS HRSC MAP PROJECTED REFDR EXTENSION8 V4.0"
DETECTOR_ID = MEX_HRSC_GREEN
EVENT_TYPE = "MARS-LOCAL-CARTOGRAPHY-Pf-Ts"
INSTRUMENT_HOST_ID = MEX
INSTRUMENT_HOST_NAME = "MARS EXPRESS"
INSTRUMENT_ID = HRSC
INSTRUMENT_NAME = "HIGH RESOLUTION STEREO CAMERA"
MISSION_NAME = "MARS EXPRESS"
MISSION_PHASE_NAME = ME_Phase_46
PROCESSING_LEVEL_ID = 4
PRODUCT_CREATION_TIME = 2023-01-28T22:22:56.000Z
PRODUCT_ID = "HN313_0000_GR4.TIF"
RELEASE_ID = 0004
REVISION_ID = 0000
/* QUALITY DATA ELEMENTS */
DATA_QUALITY_ID = 1
DATA_QUALITY_DESC = "Data calculated based on original SPICE kernels"
/* TIME DATA ELEMENTS */
SPACECRAFT_CLOCK_START_COUNT = "1/0603419711.25687"
SPACECRAFT_CLOCK_STOP_COUNT = "1/0603420019.07172"
START_TIME = 2022-06-16T00:36:23.118Z
STOP_TIME = 2022-06-16T00:40:23.526Z
/* ORBITAL DATA ELEMENTS */
ASCENDING_NODE_LONGITUDE = 139.64
MAXIMUM_RESOLUTION = 0.0542
FOOTPRINT_POINT_LATITUDE = (-77.7807,-77.7066,-77.5937,-77.5249, -77.5221,-77.5256,-77.1764,-76.8265, -76.4755,-76.2411,-75.889,-75.6539, -75.4185,-75.1828,-74.947,-74.7109, -74.4746,-74.2381,-74.0014,-73.646, -73.409,-73.1717,-72.9343,-72.6969, -72.3336,-72.0958,-71.8579,-71.62, -71.382,-71.1439,-70.7866,-70.5483, -70.3101,-69.9525,-69.7144,-69.4761, -69.2377,-68.9994,-68.7611,-65.105, -64.7489,-64.3928,-64.1555,-63.9183, -63.6812,-63.2075,-62.7342,-62.2615, -62.1434,-62.1383,-62.1674,-62.1895, -62.217,-62.2425,-62.2433,-62.2444, -62.6008,-63.0758,-63.5518,-63.7896, -64.0279,-64.2667,-64.5047,-64.8628, -65.221,-68.9022,-69.1425,-69.3829, -69.6234,-69.8638,-70.1042,-70.3448, -70.5854,-70.826,-71.1865,-71.5476, -71.7883,-72.0288,-72.3899,-72.6306, -72.8781,-73.1187,-73.3592,-73.5996, -73.8401,-74.0805,-74.441,-74.8014, -75.0415,-75.2815,-75.5215,-75.7611, -76.1209,-76.3606,-76.6,-76.8392, -77.1979,-77.6752,-77.7945,-77.7807)
FOOTPRINT_POINT_LONGITUDE = (302.265,300.56,298.354,297.17,297.123, 296.967,297.417,297.836,298.239,298.496 ,298.862,299.095,299.322,299.54,299.751 ,299.954,300.151,300.342,300.527, 300.793,300.963,301.128,301.288,301.443 ,301.672,301.816,301.956,302.091, 302.223,302.351,302.537,302.656,302.772 ,302.94,303.047,303.151,303.253,303.352 ,303.449,304.66,304.754,304.846,304.905 ,304.964,305.02,305.129,305.233,305.332 ,305.355,305.357,305.991,306.525, 307.264,308.057,308.083,308.091,308.039 ,307.964,307.888,307.847,307.806, 307.766,307.722,307.656,307.589,306.747 ,306.681,306.613,306.544,306.472, 306.398,306.323,306.246,306.167,306.042 ,305.914,305.826,305.734,305.593, 305.496,305.392,305.288,305.181,305.07, 304.956,304.839,304.655,304.463,304.329 ,304.19,304.047,303.898,303.667,303.506 ,303.338,303.163,302.89,302.498,302.395 ,302.265)
ORBIT_NUMBER = 23313
ORBITAL_ECCENTRICITY = 0.575
ORBITAL_INCLINATION = 87.02
ORBITAL_SEMIMAJOR_AXIS = 8757.86
PERIAPSIS_ALTITUDE = 341.26
PERIAPSIS_ARGUMENT_ANGLE = 285.89
PERIAPSIS_TIME = 2022-06-16T00:37:19.000Z
SPACECRAFT_ORIENTATION = (0.0,1.0,0.0)
^MEX_ORIENTATION_DESC = "MEX_ORIENTATION_DESC.TXT"
SPACECRAFT_POINTING_MODE = NADIR
^MEX_POINTING_DESC = "MEX_POINTING_DESC.TXT"
RIGHT_ASCENSION = -1e+32
DECLINATION = -1e+32
OFFSET_ANGLE = -1e+32
SPACECRAFT_SOLAR_DISTANCE = 2.06673e+08
TARGET_NAME = MARS
/* CAMERA DATA ELEMENTS */
DETECTOR_TEMPERATURE = 18.5744
FOCAL_PLANE_TEMPERATURE = 9.6028
INST_CMPRS_NAME = "DISCRETE COSINE TRANSFORMATION (DCT)"
INST_CMPRS_RATIO = 13.8318
INST_CMPRS_QUALITY = 0
INST_CMPRS_QUANTZ_TBL_ID = 0
INSTRUMENT_TEMPERATURE = 11.4379
LENS_TEMPERATURE = 10.2145
MACROPIXEL_SIZE = 4
PIXEL_SUBSAMPLING_FLAG = N
SIGNAL_CHAIN_ID = 2
/* RADIOMETRIC DATA ELEMENTS */
BANDWIDTH = 88.0
CENTER_FILTER_WAVELENGTH = 538.0
RADIANCE_OFFSET = 1.95615
RADIANCE_SCALING_FACTOR = 0.0134654
REFLECTANCE_SCALING_FACTOR = 0.000495194
MEX:REFLECTANCE_OFFSET = 0.0719382
/* IMAGE OBJECT DEFINITIONS */
OBJECT = IMAGE
  INTERCHANGE_FORMAT = BINARY
  LINES = 18569
  LINE_SAMPLES = 4068
  SAMPLE_TYPE = UNSIGNED_INTEGER
  SAMPLE_BITS = 8
  BANDS = 1
  BAND_STORAGE_TYPE = BAND_SEQUENTIAL
  MAXIMUM = 255
  MEAN = 111.444
  MINIMUM = 1
  STANDARD_DEVIATION = 111.169
END_OBJECT = IMAGE
/* MAP OBJECT DEFINITIONS */
OBJECT = IMAGE_MAP_PROJECTION
  ^DATA_SET_MAP_PROJECTION_CATALOG= "DSMAP.CAT"
  A_AXIS_RADIUS = 3396.0
  B_AXIS_RADIUS = 3396.0
  C_AXIS_RADIUS = 3396.0
  CENTER_LATITUDE = 0.0
  CENTER_LONGITUDE = 304.0
  COORDINATE_SYSTEM_NAME = PLANETOGRAPHIC
  COORDINATE_SYSTEM_TYPE = "BODY-FIXED ROTATING"
  EASTERNMOST_LONGITUDE = 308.091
  FIRST_STANDARD_PARALLEL = "N/A"
  LINE_FIRST_PIXEL = 1
  LINE_LAST_PIXEL = 18569
  LINE_PROJECTION_OFFSET = -73668.125
  MAP_PROJECTION_ROTATION = 0.0
  MAP_PROJECTION_TYPE = SINUSOIDAL
  MAP_RESOLUTION = 1185.42760773333
  MAP_SCALE = 0.05
  MAXIMUM_LATITUDE = -62.1383
  MINIMUM_LATITUDE = -77.7945
  POSITIVE_LONGITUDE_DIRECTION = EAST
  REFERENCE_LATITUDE = "N/A"
  REFERENCE_LONGITUDE = "N/A"
  SAMPLE_FIRST_PIXEL = 1
  SAMPLE_LAST_PIXEL = 4068
  SAMPLE_PROJECTION_OFFSET = 1811.375
  SECOND_STANDARD_PARALLEL = "N/A"
  WESTERNMOST_LONGITUDE = 296.967
END_OBJECT = IMAGE_MAP_PROJECTION
END
