PDS_VERSION_ID = PDS3
/* FILE DATA ELEMENTS */
RECORD_TYPE = UNDEFINED
/* POINTERS TO DATA OBJECTS */
^IMAGE = ("HN313_0000_S24.TIF")
/* IDENTIFICATION DATA ELEMENTS */
DATA_SET_ID = "MEX-M-HRSC-4-REFDR-MAPPROJECT-EXT8-V4.0"
DATA_SET_NAME = "MARS EXPRESS HRSC MAP PROJECTED REFDR EXTENSION8 V4.0"
DETECTOR_ID = MEX_HRSC_S2
EVENT_TYPE = "MARS-LOCAL-CARTOGRAPHY-Pf-Ts"
INSTRUMENT_HOST_ID = MEX
INSTRUMENT_HOST_NAME = "MARS EXPRESS"
INSTRUMENT_ID = HRSC
INSTRUMENT_NAME = "HIGH RESOLUTION STEREO CAMERA"
MISSION_NAME = "MARS EXPRESS"
MISSION_PHASE_NAME = ME_Phase_46
PROCESSING_LEVEL_ID = 4
PRODUCT_CREATION_TIME = 2023-01-28T22:22:56.000Z
PRODUCT_ID = "HN313_0000_S24.TIF"
RELEASE_ID = 0004
REVISION_ID = 0000
/* QUALITY DATA ELEMENTS */
DATA_QUALITY_ID = 1
DATA_QUALITY_DESC = "Data calculated based on original SPICE kernels"
/* TIME DATA ELEMENTS */
SPACECRAFT_CLOCK_START_COUNT = "1/0603419711.25687"
SPACECRAFT_CLOCK_STOP_COUNT = "1/0603420019.07172"
START_TIME = 2022-06-16T00:35:46.296Z
STOP_TIME = 2022-06-16T00:39:45.441Z
/* ORBITAL DATA ELEMENTS */
ASCENDING_NODE_LONGITUDE = 139.64
MAXIMUM_RESOLUTION = 0.0289
FOOTPRINT_POINT_LATITUDE = (-77.9294,-77.839,-77.7641,-77.6588, -77.6556,-77.5477,-77.2076,-76.8625, -76.6327,-76.1738,-75.7116,-75.249, -74.9002,-74.6672,-74.4341,-74.2004, -73.9665,-73.7323,-73.4976,-73.2628, -73.0274,-72.7917,-72.4379,-72.0835, -71.847,-71.6099,-71.2541,-70.8985, -70.6604,-70.423,-70.0657,-69.8252, -69.5854,-69.3461,-69.1061,-68.8661, -68.6264,-68.3863,-68.0258,-67.7854, -67.4244,-67.1833,-66.9422,-66.7021, -66.338,-62.6432,-62.2783,-62.1566, -62.1453,-62.1937,-62.2261,-62.2501, -62.2507,-62.2514,-62.4941,-62.7374, -66.4609,-66.8251,-67.1891,-67.4318, -67.6744,-67.9168,-68.1596,-68.4022, -68.6438,-68.8859,-69.1279,-69.3696, -69.7317,-69.9735,-70.2149,-70.576, -70.8167,-71.0594,-71.2995,-71.6592, -71.8994,-72.2587,-72.4974,-72.7365, -72.9757,-73.2146,-73.4533,-73.6922, -73.93,-74.1678,-74.4056,-74.6431, -74.8802,-75.2356,-75.4721,-75.7095, -75.9459,-76.4151,-76.6503,-77.0016, -77.3545,-77.7061,-77.8228,-77.9294)
FOOTPRINT_POINT_LONGITUDE = (302.216,300.165,298.713,296.924, 296.874,296.857,297.304,297.727,297.996 ,298.508,298.984,299.43,299.746,299.948 ,300.143,300.333,300.517,300.695, 300.867,301.035,301.197,301.355,301.583 ,301.801,301.942,302.078,302.276, 302.465,302.587,302.706,302.879,302.989 ,303.097,303.202,303.304,303.404, 303.501,303.596,303.733,303.822,303.951 ,304.034,304.116,304.196,304.31,305.274 ,305.351,305.376,305.379,306.365, 307.198,308.035,308.061,308.071,308.036 ,308.001,307.332,307.255,307.175, 307.119,307.063,307.005,306.945,306.884 ,306.822,306.758,306.693,306.626, 306.523,306.451,306.378,306.265,306.187 ,306.105,306.023,305.896,305.808, 305.672,305.579,305.482,305.382,305.28, 305.174,305.065,304.953,304.838,304.719 ,304.596,304.469,304.271,304.134, 303.989,303.842,303.536,303.373,303.12, 302.846,302.558,302.46,302.216)
ORBIT_NUMBER = 23313
ORBITAL_ECCENTRICITY = 0.575
ORBITAL_INCLINATION = 87.02
ORBITAL_SEMIMAJOR_AXIS = 8757.86
PERIAPSIS_ALTITUDE = 341.26
PERIAPSIS_ARGUMENT_ANGLE = 285.89
PERIAPSIS_TIME = 2022-06-16T00:37:19.000Z
SPACECRAFT_ORIENTATION = (0.0,1.0,0.0)
^MEX_ORIENTATION_DESC = "MEX_ORIENTATION_DESC.TXT"
SPACECRAFT_POINTING_MODE = NADIR
^MEX_POINTING_DESC = "MEX_POINTING_DESC.TXT"
RIGHT_ASCENSION = -1e+32
DECLINATION = -1e+32
OFFSET_ANGLE = -1e+32
SPACECRAFT_SOLAR_DISTANCE = 2.06673e+08
TARGET_NAME = MARS
/* CAMERA DATA ELEMENTS */
DETECTOR_TEMPERATURE = 19.1861
FOCAL_PLANE_TEMPERATURE = 9.6028
INST_CMPRS_NAME = "DISCRETE COSINE TRANSFORMATION (DCT)"
INST_CMPRS_RATIO = 10.8531
INST_CMPRS_QUALITY = 0
INST_CMPRS_QUANTZ_TBL_ID = 0
INSTRUMENT_TEMPERATURE = 11.4379
LENS_TEMPERATURE = 10.2145
MACROPIXEL_SIZE = 2
PIXEL_SUBSAMPLING_FLAG = N
SIGNAL_CHAIN_ID = 1
/* RADIOMETRIC DATA ELEMENTS */
BANDWIDTH = 178.0
CENTER_FILTER_WAVELENGTH = 679.0
RADIANCE_OFFSET = 5.70518
RADIANCE_SCALING_FACTOR = 0.049329
REFLECTANCE_SCALING_FACTOR = 0.00111583
MEX:REFLECTANCE_OFFSET = 0.129053
/* IMAGE OBJECT DEFINITIONS */
OBJECT = IMAGE
  INTERCHANGE_FORMAT = BINARY
  LINES = 37138
  LINE_SAMPLES = 8135
  SAMPLE_TYPE = UNSIGNED_INTEGER
  SAMPLE_BITS = 8
  BANDS = 1
  BAND_STORAGE_TYPE = BAND_SEQUENTIAL
  MAXIMUM = 255
  MEAN = 105.071
  MINIMUM = 1
  STANDARD_DEVIATION = 98.2371
END_OBJECT = IMAGE
/* MAP OBJECT DEFINITIONS */
OBJECT = IMAGE_MAP_PROJECTION
  ^DATA_SET_MAP_PROJECTION_CATALOG= "DSMAP.CAT"
  A_AXIS_RADIUS = 3396.0
  B_AXIS_RADIUS = 3396.0
  C_AXIS_RADIUS = 3396.0
  CENTER_LATITUDE = 0.0
  CENTER_LONGITUDE = 304.0
  COORDINATE_SYSTEM_NAME = PLANETOGRAPHIC
  COORDINATE_SYSTEM_TYPE = "BODY-FIXED ROTATING"
  EASTERNMOST_LONGITUDE = 308.071
  FIRST_STANDARD_PARALLEL = "N/A"
  LINE_FIRST_PIXEL = 1
  LINE_LAST_PIXEL = 37138
  LINE_PROJECTION_OFFSET = -147335.75
  MAP_PROJECTION_ROTATION = 0.0
  MAP_PROJECTION_TYPE = SINUSOIDAL
  MAP_RESOLUTION = 2370.85521546667
  MAP_SCALE = 0.025
  MAXIMUM_LATITUDE = -62.1453
  MINIMUM_LATITUDE = -77.9294
  POSITIVE_LONGITUDE_DIRECTION = EAST
  REFERENCE_LATITUDE = "N/A"
  REFERENCE_LONGITUDE = "N/A"
  SAMPLE_FIRST_PIXEL = 1
  SAMPLE_LAST_PIXEL = 8135
  SAMPLE_PROJECTION_OFFSET = 3623.25
  SECOND_STANDARD_PARALLEL = "N/A"
  WESTERNMOST_LONGITUDE = 296.857
END_OBJECT = IMAGE_MAP_PROJECTION
END
