PDS_VERSION_ID = PDS3
/* FILE DATA ELEMENTS */
RECORD_TYPE = UNDEFINED
/* POINTERS TO DATA OBJECTS */
^IMAGE = ("HN317_0000_ND4.TIF")
/* IDENTIFICATION DATA ELEMENTS */
DATA_SET_ID = "MEX-M-HRSC-4-REFDR-MAPPROJECT-EXT8-V4.0"
DATA_SET_NAME = "MARS EXPRESS HRSC MAP PROJECTED REFDR EXTENSION8 V4.0"
DETECTOR_ID = MEX_HRSC_NADIR
EVENT_TYPE = "MARS-LOCAL-CARTOGRAPHY-Pf-Tc-Ts"
INSTRUMENT_HOST_ID = MEX
INSTRUMENT_HOST_NAME = "MARS EXPRESS"
INSTRUMENT_ID = HRSC
INSTRUMENT_NAME = "HIGH RESOLUTION STEREO CAMERA"
MISSION_NAME = "MARS EXPRESS"
MISSION_PHASE_NAME = ME_Phase_46
PROCESSING_LEVEL_ID = 4
PRODUCT_CREATION_TIME = 2023-01-28T22:22:56.000Z
PRODUCT_ID = "HN317_0000_ND4.TIF"
RELEASE_ID = 0004
REVISION_ID = 0000
/* QUALITY DATA ELEMENTS */
DATA_QUALITY_ID = 1
DATA_QUALITY_DESC = "Data calculated based on original SPICE kernels"
/* TIME DATA ELEMENTS */
SPACECRAFT_CLOCK_START_COUNT = "1/0603520147.25679"
SPACECRAFT_CLOCK_STOP_COUNT = "1/0603520499.25894"
START_TIME = 2022-06-17T04:30:17.438Z
STOP_TIME = 2022-06-17T04:35:00.430Z
/* ORBITAL DATA ELEMENTS */
ASCENDING_NODE_LONGITUDE = 139.58
MAXIMUM_RESOLUTION = 0.0135
FOOTPRINT_POINT_LATITUDE = (-85.603,-85.1866,-84.859,-84.8507, -84.825,-84.3956,-83.82,-83.214, -82.5839,-81.9349,-81.2713,-80.9348, -80.5958,-80.2545,-79.9111,-79.5657, -79.2186,-78.8699,-78.5198,-78.1683, -77.8155,-77.4617,-77.1068,-76.751, -76.3944,-76.0369,-75.4993,-75.1402, -74.7804,-74.42,-74.0593,-73.6981, -73.3366,-72.9746,-72.4308,-72.068, -71.705,-71.3413,-70.9781,-70.4327, -70.0685,-69.7048,-69.1586,-68.7945, -68.4304,-68.0663,-67.7022,-67.5201, -67.5171,-67.5987,-67.6521,-67.6531, -67.6538,-68.0206,-68.3876,-68.7546, -69.1217,-69.4889,-69.8562,-70.2235, -70.5908,-70.9582,-71.3255,-71.6928, -72.0601,-72.4273,-72.7944,-73.1614, -73.5283,-73.8951,-74.2617,-74.6282, -74.9944,-75.5433,-75.9088,-76.2741, -76.639,-77.0036,-77.3677,-77.7314, -78.0946,-78.4572,-78.8193,-79.1807, -79.5414,-79.9013,-80.2603,-80.6184, -80.9755,-81.3313,-81.6858,-82.0389, -82.3904,-82.7402,-83.4326,-84.1143, -84.7809,-85.4263,-85.6124,-85.603)
FOOTPRINT_POINT_LONGITUDE = (233.097,225.897,221.623,221.526,221.28 ,225.431,229.784,233.384,236.379, 238.892,241.023,241.967,242.844,243.658 ,244.417,245.123,245.783,246.401,246.98 ,247.524,248.034,248.515,248.968, 249.396,249.8,250.182,250.718,251.052, 251.369,251.67,251.957,252.231,252.493, 252.741,253.09,253.311,253.523,253.72, 253.917,254.192,254.361,254.53,254.766, 254.916,255.06,255.199,255.332,255.397, 255.398,257.107,258.516,258.548,258.563 ,258.473,258.38,258.283,258.182,258.077 ,257.967,257.853,257.735,257.613, 257.485,257.351,257.213,257.068,256.916 ,256.756,256.589,256.416,256.233,256.04 ,255.839,255.517,255.287,255.045, 254.789,254.519,254.232,253.928,253.605 ,253.262,252.895,252.504,252.086, 251.635,251.152,250.632,250.072,249.463 ,248.8,248.08,247.294,246.436,244.428, 241.964,238.863,234.865,233.454, 233.097)
ORBIT_NUMBER = 23317
ORBITAL_ECCENTRICITY = 0.575
ORBITAL_INCLINATION = 87.02
ORBITAL_SEMIMAJOR_AXIS = 8757.85
PERIAPSIS_ALTITUDE = 340.79
PERIAPSIS_ARGUMENT_ANGLE = 285.19
PERIAPSIS_TIME = 2022-06-17T04:33:14.000Z
SPACECRAFT_ORIENTATION = (0.0,1.0,0.0)
^MEX_ORIENTATION_DESC = "MEX_ORIENTATION_DESC.TXT"
SPACECRAFT_POINTING_MODE = NADIR
^MEX_POINTING_DESC = "MEX_POINTING_DESC.TXT"
RIGHT_ASCENSION = -1e+32
DECLINATION = -1e+32
OFFSET_ANGLE = -1e+32
SPACECRAFT_SOLAR_DISTANCE = 2.06661e+08
TARGET_NAME = MARS
/* CAMERA DATA ELEMENTS */
DETECTOR_TEMPERATURE = 18.3705
FOCAL_PLANE_TEMPERATURE = 9.8067
INST_CMPRS_NAME = "DISCRETE COSINE TRANSFORMATION (DCT)"
INST_CMPRS_RATIO = 4.80797
INST_CMPRS_QUALITY = 0
INST_CMPRS_QUANTZ_TBL_ID = 0
INSTRUMENT_TEMPERATURE = 10.8262
LENS_TEMPERATURE = 9.8067
MACROPIXEL_SIZE = 1
MISSING_FRAMES = 0
PIXEL_SUBSAMPLING_FLAG = N
SIGNAL_CHAIN_ID = 0
/* RADIOMETRIC DATA ELEMENTS */
BANDWIDTH = 177.0
CENTER_FILTER_WAVELENGTH = 677.5
RADIANCE_OFFSET = 4.91462
RADIANCE_SCALING_FACTOR = 0.0564899
REFLECTANCE_SCALING_FACTOR = 0.00128165
MEX:REFLECTANCE_OFFSET = 0.111504
/* IMAGE OBJECT DEFINITIONS */
OBJECT = IMAGE
  INTERCHANGE_FORMAT = BINARY
  LINES = 85817
  LINE_SAMPLES = 24973
  SAMPLE_TYPE = UNSIGNED_INTEGER
  SAMPLE_BITS = 8
  BANDS = 1
  BAND_STORAGE_TYPE = BAND_SEQUENTIAL
  MAXIMUM = 254
  MEAN = 106.182
  MINIMUM = 1
  STANDARD_DEVIATION = 67.8646
END_OBJECT = IMAGE
/* MAP OBJECT DEFINITIONS */
OBJECT = IMAGE_MAP_PROJECTION
  ^DATA_SET_MAP_PROJECTION_CATALOG= "DSMAP.CAT"
  A_AXIS_RADIUS = 3396.0
  B_AXIS_RADIUS = 3396.0
  C_AXIS_RADIUS = 3396.0
  CENTER_LATITUDE = 0.0
  CENTER_LONGITUDE = 252.0
  COORDINATE_SYSTEM_NAME = PLANETOGRAPHIC
  COORDINATE_SYSTEM_TYPE = "BODY-FIXED ROTATING"
  EASTERNMOST_LONGITUDE = 258.563
  FIRST_STANDARD_PARALLEL = "N/A"
  LINE_FIRST_PIXEL = 1
  LINE_LAST_PIXEL = 85817
  LINE_PROJECTION_OFFSET = -320148.0
  MAP_PROJECTION_ROTATION = 0.0
  MAP_PROJECTION_TYPE = SINUSOIDAL
  MAP_RESOLUTION = 4741.71043093333
  MAP_SCALE = 0.0125
  MAXIMUM_LATITUDE = -67.5171
  MINIMUM_LATITUDE = -85.61239999999999
  POSITIVE_LONGITUDE_DIRECTION = EAST
  REFERENCE_LATITUDE = "N/A"
  REFERENCE_LONGITUDE = "N/A"
  SAMPLE_FIRST_PIXEL = 1
  SAMPLE_LAST_PIXEL = 24973
  SAMPLE_PROJECTION_OFFSET = 13139.0
  SECOND_STANDARD_PARALLEL = "N/A"
  WESTERNMOST_LONGITUDE = 221.28
END_OBJECT = IMAGE_MAP_PROJECTION
END
