PDS_VERSION_ID = PDS3
/* FILE DATA ELEMENTS */
RECORD_TYPE = UNDEFINED
/* POINTERS TO DATA OBJECTS */
^IMAGE = ("HN317_0000_P14.TIF")
/* IDENTIFICATION DATA ELEMENTS */
DATA_SET_ID = "MEX-M-HRSC-4-REFDR-MAPPROJECT-EXT8-V4.0"
DATA_SET_NAME = "MARS EXPRESS HRSC MAP PROJECTED REFDR EXTENSION8 V4.0"
DETECTOR_ID = MEX_HRSC_P1
EVENT_TYPE = "MARS-LOCAL-CARTOGRAPHY-Pf-Tc-Ts"
INSTRUMENT_HOST_ID = MEX
INSTRUMENT_HOST_NAME = "MARS EXPRESS"
INSTRUMENT_ID = HRSC
INSTRUMENT_NAME = "HIGH RESOLUTION STEREO CAMERA"
MISSION_NAME = "MARS EXPRESS"
MISSION_PHASE_NAME = ME_Phase_46
PROCESSING_LEVEL_ID = 4
PRODUCT_CREATION_TIME = 2023-01-28T22:22:56.000Z
PRODUCT_ID = "HN317_0000_P14.TIF"
RELEASE_ID = 0004
REVISION_ID = 0000
/* QUALITY DATA ELEMENTS */
DATA_QUALITY_ID = 1
DATA_QUALITY_DESC = "Data calculated based on original SPICE kernels"
/* TIME DATA ELEMENTS */
SPACECRAFT_CLOCK_START_COUNT = "1/0603520147.25679"
SPACECRAFT_CLOCK_STOP_COUNT = "1/0603520499.25894"
START_TIME = 2022-06-17T04:30:39.164Z
STOP_TIME = 2022-06-17T04:35:21.325Z
/* ORBITAL DATA ELEMENTS */
ASCENDING_NODE_LONGITUDE = 139.58
MAXIMUM_RESOLUTION = 0.0277
FOOTPRINT_POINT_LATITUDE = (-85.5225,-84.8041,-84.7963,-84.8169, -84.4048,-84.1174,-83.6685,-83.36, -82.8859,-82.5632,-82.2365,-81.9063, -81.5719,-81.2348,-80.7244,-80.3813, -80.0359,-79.6888,-79.1652,-78.8143, -78.4623,-78.1093,-77.7552,-77.4002, -77.0448,-76.6883,-76.3278,-75.9702, -75.6124,-75.0748,-74.7158,-74.3568, -73.9972,-73.6374,-73.2763,-72.9165, -72.5574,-72.1971,-71.4798,-71.1175, -70.7577,-70.22,-69.8581,-69.4994, -69.1403,-68.7812,-68.2427,-67.7049, -67.5256,-67.5029,-67.5714,-67.6382, -67.6393,-67.6401,-68.5426,-68.9039, -69.2658,-69.6278,-69.9895,-70.3523, -70.7156,-71.0791,-71.4424,-71.8056, -72.1709,-72.5355,-73.0816,-73.4455, -73.8111,-74.176,-74.7231,-75.0879, -75.4528,-75.818,-76.183,-76.7298, -77.0982,-77.4621,-77.8264,-78.3721, -78.7355,-79.0984,-79.461,-80.0027, -80.3639,-80.7242,-81.0847,-81.4416, -81.7982,-82.154,-82.5092,-83.0362, -83.385,-83.7319,-84.0765,-84.5853, -85.0833,-85.4082,-85.5673,-85.5225)
FOOTPRINT_POINT_LONGITUDE = (233.607,222.367,222.273,221.578, 225.526,227.826,230.899,232.711,235.125 ,236.56,237.87,239.067,240.174,241.193, 242.576,243.414,244.195,244.921,245.918 ,246.53,247.103,247.64,248.144,248.619, 249.065,249.487,249.889,250.266,250.621 ,251.121,251.433,251.729,252.011, 252.279,252.538,252.781,253.011,253.233 ,253.641,253.839,254.024,254.283, 254.454,254.612,254.765,254.911,255.121 ,255.318,255.381,255.389,256.808,258.55 ,258.581,258.592,258.363,258.265, 258.164,258.058,257.947,257.833,257.714 ,257.59,257.461,257.325,257.186,257.04, 256.806,256.64,256.469,256.288,255.999, 255.794,255.578,255.351,255.112,254.726 ,254.447,254.154,253.843,253.339, 252.975,252.586,252.17,251.486,250.987, 250.449,249.868,249.235,248.546,247.795 ,246.972,245.578,244.524,243.353, 242.045,239.772,237.03,234.874,233.679, 233.607)
ORBIT_NUMBER = 23317
ORBITAL_ECCENTRICITY = 0.575
ORBITAL_INCLINATION = 87.02
ORBITAL_SEMIMAJOR_AXIS = 8757.85
PERIAPSIS_ALTITUDE = 340.79
PERIAPSIS_ARGUMENT_ANGLE = 285.19
PERIAPSIS_TIME = 2022-06-17T04:33:14.000Z
SPACECRAFT_ORIENTATION = (0.0,1.0,0.0)
^MEX_ORIENTATION_DESC = "MEX_ORIENTATION_DESC.TXT"
SPACECRAFT_POINTING_MODE = NADIR
^MEX_POINTING_DESC = "MEX_POINTING_DESC.TXT"
RIGHT_ASCENSION = -1e+32
DECLINATION = -1e+32
OFFSET_ANGLE = -1e+32
SPACECRAFT_SOLAR_DISTANCE = 2.06661e+08
TARGET_NAME = MARS
/* CAMERA DATA ELEMENTS */
DETECTOR_TEMPERATURE = 17.351
FOCAL_PLANE_TEMPERATURE = 9.8067
INST_CMPRS_NAME = "DISCRETE COSINE TRANSFORMATION (DCT)"
INST_CMPRS_RATIO = 4.69269
INST_CMPRS_QUALITY = 0
INST_CMPRS_QUANTZ_TBL_ID = 0
INSTRUMENT_TEMPERATURE = 10.8262
LENS_TEMPERATURE = 9.8067
MACROPIXEL_SIZE = 2
MISSING_FRAMES = 1
PIXEL_SUBSAMPLING_FLAG = N
SIGNAL_CHAIN_ID = 3
/* RADIOMETRIC DATA ELEMENTS */
BANDWIDTH = 174.0
CENTER_FILTER_WAVELENGTH = 675.0
RADIANCE_OFFSET = 5.5176
RADIANCE_SCALING_FACTOR = 0.0571622
REFLECTANCE_SCALING_FACTOR = 0.00131314
MEX:REFLECTANCE_OFFSET = 0.126751
/* IMAGE OBJECT DEFINITIONS */
OBJECT = IMAGE
  INTERCHANGE_FORMAT = BINARY
  LINES = 42909
  LINE_SAMPLES = 12487
  SAMPLE_TYPE = UNSIGNED_INTEGER
  SAMPLE_BITS = 8
  BANDS = 1
  BAND_STORAGE_TYPE = BAND_SEQUENTIAL
  MAXIMUM = 255
  MEAN = 108.757
  MINIMUM = 1
  STANDARD_DEVIATION = 71.0753
END_OBJECT = IMAGE
/* MAP OBJECT DEFINITIONS */
OBJECT = IMAGE_MAP_PROJECTION
  ^DATA_SET_MAP_PROJECTION_CATALOG= "DSMAP.CAT"
  A_AXIS_RADIUS = 3396.0
  B_AXIS_RADIUS = 3396.0
  C_AXIS_RADIUS = 3396.0
  CENTER_LATITUDE = 0.0
  CENTER_LONGITUDE = 252.0
  COORDINATE_SYSTEM_NAME = PLANETOGRAPHIC
  COORDINATE_SYSTEM_TYPE = "BODY-FIXED ROTATING"
  EASTERNMOST_LONGITUDE = 258.592
  FIRST_STANDARD_PARALLEL = "N/A"
  LINE_FIRST_PIXEL = 1
  LINE_LAST_PIXEL = 42909
  LINE_PROJECTION_OFFSET = -160074.25
  MAP_PROJECTION_ROTATION = 0.0
  MAP_PROJECTION_TYPE = SINUSOIDAL
  MAP_RESOLUTION = 2370.85521546667
  MAP_SCALE = 0.025
  MAXIMUM_LATITUDE = -67.5029
  MINIMUM_LATITUDE = -85.5673
  POSITIVE_LONGITUDE_DIRECTION = EAST
  REFERENCE_LATITUDE = "N/A"
  REFERENCE_LONGITUDE = "N/A"
  SAMPLE_FIRST_PIXEL = 1
  SAMPLE_LAST_PIXEL = 12487
  SAMPLE_PROJECTION_OFFSET = 6569.25
  SECOND_STANDARD_PARALLEL = "N/A"
  WESTERNMOST_LONGITUDE = 221.578
END_OBJECT = IMAGE_MAP_PROJECTION
END
