PDS_VERSION_ID = PDS3
/* FILE DATA ELEMENTS */
RECORD_TYPE = UNDEFINED
/* POINTERS TO DATA OBJECTS */
^IMAGE = ("HN318_0000_IR4.TIF")
/* IDENTIFICATION DATA ELEMENTS */
DATA_SET_ID = "MEX-M-HRSC-4-REFDR-MAPPROJECT-EXT8-V4.0"
DATA_SET_NAME = "MARS EXPRESS HRSC MAP PROJECTED REFDR EXTENSION8 V4.0"
DETECTOR_ID = MEX_HRSC_IR
EVENT_TYPE = "MARS-REGIONAL-MAPPING-Gl-Pf-La"
INSTRUMENT_HOST_ID = MEX
INSTRUMENT_HOST_NAME = "MARS EXPRESS"
INSTRUMENT_ID = HRSC
INSTRUMENT_NAME = "HIGH RESOLUTION STEREO CAMERA"
MISSION_NAME = "MARS EXPRESS"
MISSION_PHASE_NAME = ME_Phase_46
PROCESSING_LEVEL_ID = 4
PRODUCT_CREATION_TIME = 2023-01-28T22:22:56.000Z
PRODUCT_ID = "HN318_0000_IR4.TIF"
RELEASE_ID = 0004
REVISION_ID = 0000
/* QUALITY DATA ELEMENTS */
DATA_QUALITY_ID = 1
DATA_QUALITY_DESC = "Data calculated based on original SPICE kernels"
/* TIME DATA ELEMENTS */
SPACECRAFT_CLOCK_START_COUNT = "1/0603545425.24861"
SPACECRAFT_CLOCK_STOP_COUNT = "1/0603545632.49908"
START_TIME = 2022-06-17T11:31:57.452Z
STOP_TIME = 2022-06-17T11:34:20.037Z
/* ORBITAL DATA ELEMENTS */
ASCENDING_NODE_LONGITUDE = 139.55
MAXIMUM_RESOLUTION = 0.0281
FOOTPRINT_POINT_LATITUDE = (-77.3572,-77.2784,-77.2031,-77.1199, -77.1172,-77.186,-77.0016,-76.8203, -76.6394,-76.4576,-76.2761,-76.0964, -75.8272,-75.6416,-75.4615,-75.1916, -74.8296,-74.6426,-74.4612,-74.2809, -74.0068,-73.7344,-73.5527,-73.3714, -73.1918,-73.0105,-72.8279,-72.6462, -72.2869,-72.1057,-71.9247,-71.7433, -71.4711,-71.2895,-71.1079,-70.9263, -70.7447,-70.5633,-70.3814,-70.1994, -69.9298,-69.5686,-69.293,-69.1101, -68.7499,-68.479,-68.2091,-68.1192, -68.0949,-68.1297,-68.1539,-68.186, -68.2083,-68.2371,-68.2383,-68.2392, -68.6002,-68.9648,-69.3264,-69.5996, -69.874,-70.0573,-70.2415,-70.4248, -70.6072,-70.7909,-71.0658,-71.2501, -71.4333,-71.6156,-71.891,-72.1647, -72.3485,-72.6224,-72.8058,-72.9897, -73.2639,-73.4475,-73.6319,-73.8153, -73.9994,-74.1843,-74.4588,-74.6435, -74.8279,-75.0124,-75.1969,-75.3813, -75.5652,-75.7498,-75.9339,-76.1185, -76.3029,-76.4877,-76.6728,-76.95, -77.1344,-77.3191,-77.4115,-77.3572)
FOOTPRINT_POINT_LONGITUDE = (153.258,151.375,149.82,148.294,148.247 ,148.085,148.295,148.492,148.683, 148.869,149.05,149.222,149.47,149.64, 149.796,150.022,150.312,150.461,150.597 ,150.728,150.924,151.11,151.23,151.347, 151.459,151.57,151.68,151.786,151.987, 152.086,152.182,152.276,152.414,152.504 ,152.591,152.677,152.761,152.843, 152.924,153.003,153.115,153.26,153.371, 153.441,153.573,153.67,153.762,153.793, 153.801,154.495,155.003,155.739,156.287 ,157.065,157.098,157.11,157.024,156.94, 156.847,156.778,156.708,156.66,156.612, 156.562,156.51,156.458,156.377,156.323, 156.266,156.206,156.117,156.022,155.959 ,155.858,155.79,155.722,155.613,155.539 ,155.465,155.387,155.309,155.229, 155.102,155.017,154.929,154.839,154.746 ,154.651,154.552,154.452,154.348, 154.242,154.133,154.021,153.907,153.728 ,153.603,153.476,153.41,153.258)
ORBIT_NUMBER = 23318
ORBITAL_ECCENTRICITY = 0.575
ORBITAL_INCLINATION = 87.02
ORBITAL_SEMIMAJOR_AXIS = 8759.26
PERIAPSIS_ALTITUDE = 341.99
PERIAPSIS_ARGUMENT_ANGLE = 285.04
PERIAPSIS_TIME = 2022-06-17T11:32:14.000Z
SPACECRAFT_ORIENTATION = (0.0,1.0,0.0)
^MEX_ORIENTATION_DESC = "MEX_ORIENTATION_DESC.TXT"
SPACECRAFT_POINTING_MODE = ACROSSTRACK
^MEX_POINTING_DESC = "MEX_POINTING_DESC.TXT"
RIGHT_ASCENSION = -1e+32
DECLINATION = -1e+32
OFFSET_ANGLE = -0.269
SPACECRAFT_SOLAR_DISTANCE = 2.06658e+08
TARGET_NAME = MARS
/* CAMERA DATA ELEMENTS */
DETECTOR_TEMPERATURE = 17.1471
FOCAL_PLANE_TEMPERATURE = 8.5833
INST_CMPRS_NAME = "DISCRETE COSINE TRANSFORMATION (DCT)"
INST_CMPRS_RATIO = 5.81572
INST_CMPRS_QUALITY = 0
INST_CMPRS_QUANTZ_TBL_ID = 0
INSTRUMENT_TEMPERATURE = 11.6418
LENS_TEMPERATURE = 9.3989
MACROPIXEL_SIZE = 2
MISSING_FRAMES = 0
PIXEL_SUBSAMPLING_FLAG = N
SIGNAL_CHAIN_ID = 3
/* RADIOMETRIC DATA ELEMENTS */
BANDWIDTH = 81.0
CENTER_FILTER_WAVELENGTH = 955.5
RADIANCE_OFFSET = 1.27467
RADIANCE_SCALING_FACTOR = 0.00473902
REFLECTANCE_SCALING_FACTOR = 0.000436637
MEX:REFLECTANCE_OFFSET = 0.117443
/* IMAGE OBJECT DEFINITIONS */
OBJECT = IMAGE
  INTERCHANGE_FORMAT = BINARY
  LINES = 22192
  LINE_SAMPLES = 5839
  SAMPLE_TYPE = UNSIGNED_INTEGER
  SAMPLE_BITS = 8
  BANDS = 1
  BAND_STORAGE_TYPE = BAND_SEQUENTIAL
  MAXIMUM = 254
  MEAN = 117.136
  MINIMUM = 1
  STANDARD_DEVIATION = 37.0713
END_OBJECT = IMAGE
/* MAP OBJECT DEFINITIONS */
OBJECT = IMAGE_MAP_PROJECTION
  ^DATA_SET_MAP_PROJECTION_CATALOG= "DSMAP.CAT"
  A_AXIS_RADIUS = 3396.0
  B_AXIS_RADIUS = 3396.0
  C_AXIS_RADIUS = 3396.0
  CENTER_LATITUDE = 0.0
  CENTER_LONGITUDE = 154.0
  COORDINATE_SYSTEM_NAME = PLANETOGRAPHIC
  COORDINATE_SYSTEM_TYPE = "BODY-FIXED ROTATING"
  EASTERNMOST_LONGITUDE = 157.11
  FIRST_STANDARD_PARALLEL = "N/A"
  LINE_FIRST_PIXEL = 1
  LINE_LAST_PIXEL = 22192
  LINE_PROJECTION_OFFSET = -161474.25
  MAP_PROJECTION_ROTATION = 0.0
  MAP_PROJECTION_TYPE = SINUSOIDAL
  MAP_RESOLUTION = 2370.85521546667
  MAP_SCALE = 0.025
  MAXIMUM_LATITUDE = -68.0949
  MINIMUM_LATITUDE = -77.4115
  POSITIVE_LONGITUDE_DIRECTION = EAST
  REFERENCE_LATITUDE = "N/A"
  REFERENCE_LONGITUDE = "N/A"
  SAMPLE_FIRST_PIXEL = 1
  SAMPLE_LAST_PIXEL = 5839
  SAMPLE_PROJECTION_OFFSET = 3136.75
  SECOND_STANDARD_PARALLEL = "N/A"
  WESTERNMOST_LONGITUDE = 148.085
END_OBJECT = IMAGE_MAP_PROJECTION
END
