PDS_VERSION_ID = PDS3
/* FILE DATA ELEMENTS */
RECORD_TYPE = UNDEFINED
/* POINTERS TO DATA OBJECTS */
^IMAGE = ("HN318_0000_RE4.TIF")
/* IDENTIFICATION DATA ELEMENTS */
DATA_SET_ID = "MEX-M-HRSC-4-REFDR-MAPPROJECT-EXT8-V4.0"
DATA_SET_NAME = "MARS EXPRESS HRSC MAP PROJECTED REFDR EXTENSION8 V4.0"
DETECTOR_ID = MEX_HRSC_RED
EVENT_TYPE = "MARS-REGIONAL-MAPPING-Gl-Pf-La"
INSTRUMENT_HOST_ID = MEX
INSTRUMENT_HOST_NAME = "MARS EXPRESS"
INSTRUMENT_ID = HRSC
INSTRUMENT_NAME = "HIGH RESOLUTION STEREO CAMERA"
MISSION_NAME = "MARS EXPRESS"
MISSION_PHASE_NAME = ME_Phase_46
PROCESSING_LEVEL_ID = 4
PRODUCT_CREATION_TIME = 2023-01-28T22:22:56.000Z
PRODUCT_ID = "HN318_0000_RE4.TIF"
RELEASE_ID = 0004
REVISION_ID = 0000
/* QUALITY DATA ELEMENTS */
DATA_QUALITY_ID = 1
DATA_QUALITY_DESC = "Data calculated based on original SPICE kernels"
/* TIME DATA ELEMENTS */
SPACECRAFT_CLOCK_START_COUNT = "1/0603545425.24861"
SPACECRAFT_CLOCK_STOP_COUNT = "1/0603545632.49908"
START_TIME = 2022-06-17T11:31:05.918Z
STOP_TIME = 2022-06-17T11:33:27.921Z
/* ORBITAL DATA ELEMENTS */
ASCENDING_NODE_LONGITUDE = 139.55
MAXIMUM_RESOLUTION = 0.0283
FOOTPRINT_POINT_LATITUDE = (-77.5593,-77.5134,-77.45,-77.3414, -77.3388,-77.2544,-76.9922,-76.6375, -76.1921,-75.9215,-75.7399,-75.4751, -75.2939,-75.1114,-74.9277,-74.577, -74.3954,-74.2129,-73.8528,-73.6717, -73.4898,-73.3068,-73.0323,-72.8512, -72.6687,-72.3924,-72.2077,-72.0246, -71.8411,-71.6582,-71.4751,-71.2004, -71.0172,-70.8343,-70.6508,-70.4677, -70.2858,-70.0992,-69.9145,-69.7314, -69.5459,-69.1844,-68.9995,-68.7228, -68.4454,-68.2603,-68.1676,-68.1371, -68.1718,-68.1904,-68.21,-68.2254, -68.2467,-68.2474,-68.2481,-68.4359, -68.7158,-69.0853,-69.2732,-69.4607, -69.646,-69.9233,-70.1082,-70.2921, -70.5705,-70.8475,-71.0323,-71.2165, -71.4945,-71.68,-71.8645,-72.0507, -72.3279,-72.5138,-72.6982,-72.8834, -73.067,-73.2529,-73.4375,-73.7135, -73.8975,-74.0812,-74.2635,-74.4495, -74.6325,-74.8156,-74.9985,-75.1815, -75.3644,-75.5477,-75.8216,-76.0043, -76.1866,-76.3687,-76.7317,-76.9132, -77.0948,-77.3666,-77.4571,-77.5593)
FOOTPRINT_POINT_LONGITUDE = (153.156,151.813,150.236,147.997, 147.948,147.959,148.261,148.646,149.098 ,149.355,149.521,149.76,149.916,150.067 ,150.215,150.497,150.634,150.767, 151.023,151.147,151.268,151.386,151.558 ,151.669,151.777,151.936,152.038, 152.138,152.236,152.332,152.426,152.562 ,152.651,152.738,152.823,152.906, 152.987,153.067,153.145,153.221,153.296 ,153.442,153.512,153.615,153.714, 153.779,153.811,153.821,154.628,155.128 ,155.694,156.201,157.03,157.062,157.073 ,157.029,156.965,156.882,156.834, 156.785,156.74,156.671,156.623,156.577, 156.5,156.423,156.37,156.317,156.232, 156.173,156.114,156.051,155.958,155.891 ,155.826,155.757,155.69,155.617,155.544 ,155.434,155.357,155.28,155.204,155.116 ,155.034,154.949,154.861,154.772,154.68 ,154.584,154.437,154.335,154.232, 154.126,153.906,153.791,153.672,153.488 ,153.425,153.156)
ORBIT_NUMBER = 23318
ORBITAL_ECCENTRICITY = 0.575
ORBITAL_INCLINATION = 87.02
ORBITAL_SEMIMAJOR_AXIS = 8759.26
PERIAPSIS_ALTITUDE = 341.99
PERIAPSIS_ARGUMENT_ANGLE = 285.04
PERIAPSIS_TIME = 2022-06-17T11:32:14.000Z
SPACECRAFT_ORIENTATION = (0.0,1.0,0.0)
^MEX_ORIENTATION_DESC = "MEX_ORIENTATION_DESC.TXT"
SPACECRAFT_POINTING_MODE = ACROSSTRACK
^MEX_POINTING_DESC = "MEX_POINTING_DESC.TXT"
RIGHT_ASCENSION = -1e+32
DECLINATION = -1e+32
OFFSET_ANGLE = -0.269
SPACECRAFT_SOLAR_DISTANCE = 2.06658e+08
TARGET_NAME = MARS
/* CAMERA DATA ELEMENTS */
DETECTOR_TEMPERATURE = 18.5744
FOCAL_PLANE_TEMPERATURE = 8.5833
INST_CMPRS_NAME = "DISCRETE COSINE TRANSFORMATION (DCT)"
INST_CMPRS_RATIO = 10.2293
INST_CMPRS_QUALITY = 0
INST_CMPRS_QUANTZ_TBL_ID = 0
INSTRUMENT_TEMPERATURE = 11.6418
LENS_TEMPERATURE = 9.3989
MACROPIXEL_SIZE = 2
MISSING_FRAMES = 0
PIXEL_SUBSAMPLING_FLAG = N
SIGNAL_CHAIN_ID = 3
/* RADIOMETRIC DATA ELEMENTS */
BANDWIDTH = 48.0
CENTER_FILTER_WAVELENGTH = 748.0
RADIANCE_OFFSET = 1.4928
RADIANCE_SCALING_FACTOR = 0.00411181
REFLECTANCE_SCALING_FACTOR = 0.000400744
MEX:REFLECTANCE_OFFSET = 0.145491
/* IMAGE OBJECT DEFINITIONS */
OBJECT = IMAGE
  INTERCHANGE_FORMAT = BINARY
  LINES = 22192
  LINE_SAMPLES = 5839
  SAMPLE_TYPE = UNSIGNED_INTEGER
  SAMPLE_BITS = 8
  BANDS = 1
  BAND_STORAGE_TYPE = BAND_SEQUENTIAL
  MAXIMUM = 255
  MEAN = 107.258
  MINIMUM = 1
  STANDARD_DEVIATION = 37.6137
END_OBJECT = IMAGE
/* MAP OBJECT DEFINITIONS */
OBJECT = IMAGE_MAP_PROJECTION
  ^DATA_SET_MAP_PROJECTION_CATALOG= "DSMAP.CAT"
  A_AXIS_RADIUS = 3396.0
  B_AXIS_RADIUS = 3396.0
  C_AXIS_RADIUS = 3396.0
  CENTER_LATITUDE = 0.0
  CENTER_LONGITUDE = 154.0
  COORDINATE_SYSTEM_NAME = PLANETOGRAPHIC
  COORDINATE_SYSTEM_TYPE = "BODY-FIXED ROTATING"
  EASTERNMOST_LONGITUDE = 157.073
  FIRST_STANDARD_PARALLEL = "N/A"
  LINE_FIRST_PIXEL = 1
  LINE_LAST_PIXEL = 22192
  LINE_PROJECTION_OFFSET = -161474.25
  MAP_PROJECTION_ROTATION = 0.0
  MAP_PROJECTION_TYPE = SINUSOIDAL
  MAP_RESOLUTION = 2370.85521546667
  MAP_SCALE = 0.025
  MAXIMUM_LATITUDE = -68.1371
  MINIMUM_LATITUDE = -77.55929999999999
  POSITIVE_LONGITUDE_DIRECTION = EAST
  REFERENCE_LATITUDE = "N/A"
  REFERENCE_LONGITUDE = "N/A"
  SAMPLE_FIRST_PIXEL = 1
  SAMPLE_LAST_PIXEL = 5839
  SAMPLE_PROJECTION_OFFSET = 3136.75
  SECOND_STANDARD_PARALLEL = "N/A"
  WESTERNMOST_LONGITUDE = 147.948
END_OBJECT = IMAGE_MAP_PROJECTION
END
