PDS_VERSION_ID = PDS3
/* FILE DATA ELEMENTS */
RECORD_TYPE = UNDEFINED
/* POINTERS TO DATA OBJECTS */
^IMAGE = ("HN318_0000_S24.TIF")
/* IDENTIFICATION DATA ELEMENTS */
DATA_SET_ID = "MEX-M-HRSC-4-REFDR-MAPPROJECT-EXT8-V4.0"
DATA_SET_NAME = "MARS EXPRESS HRSC MAP PROJECTED REFDR EXTENSION8 V4.0"
DETECTOR_ID = MEX_HRSC_S2
EVENT_TYPE = "MARS-REGIONAL-MAPPING-Gl-Pf-La"
INSTRUMENT_HOST_ID = MEX
INSTRUMENT_HOST_NAME = "MARS EXPRESS"
INSTRUMENT_ID = HRSC
INSTRUMENT_NAME = "HIGH RESOLUTION STEREO CAMERA"
MISSION_NAME = "MARS EXPRESS"
MISSION_PHASE_NAME = ME_Phase_46
PROCESSING_LEVEL_ID = 4
PRODUCT_CREATION_TIME = 2023-01-28T22:22:56.000Z
PRODUCT_ID = "HN318_0000_S24.TIF"
RELEASE_ID = 0004
REVISION_ID = 0000
/* QUALITY DATA ELEMENTS */
DATA_QUALITY_ID = 1
DATA_QUALITY_DESC = "Data calculated based on original SPICE kernels"
/* TIME DATA ELEMENTS */
SPACECRAFT_CLOCK_START_COUNT = "1/0603545425.24861"
SPACECRAFT_CLOCK_STOP_COUNT = "1/0603545632.49908"
START_TIME = 2022-06-17T11:31:00.310Z
STOP_TIME = 2022-06-17T11:33:22.789Z
/* ORBITAL DATA ELEMENTS */
ASCENDING_NODE_LONGITUDE = 139.55
MAXIMUM_RESOLUTION = 0.0289
FOOTPRINT_POINT_LATITUDE = (-77.589,-77.5585,-77.4959,-77.4231, -77.3725,-77.3699,-77.2692,-77.0078, -76.6525,-76.2073,-75.9348,-75.7523, -75.4882,-75.3068,-75.0318,-74.8479, -74.4972,-74.3139,-74.1316,-73.7704, -73.5887,-73.3133,-73.1288,-72.946, -72.7643,-72.5811,-72.3948,-72.2089, -71.9328,-71.7487,-71.4729,-71.2891, -71.1051,-70.9211,-70.645,-70.4608, -70.2788,-70.0906,-69.8124,-69.5352, -69.1716,-68.986,-68.7993,-68.6148, -68.4286,-68.2424,-68.1491,-68.1309, -68.1561,-68.1763,-68.199,-68.2211, -68.2371,-68.2376,-68.2383,-68.4277, -68.6153,-68.8037,-68.9872,-69.1733, -69.3655,-69.5518,-69.8307,-70.1093, -70.2941,-70.48,-70.6666,-70.8517, -71.0376,-71.2222,-71.408,-71.5951, -71.7804,-72.0605,-72.3388,-72.5257, -72.711,-72.8969,-73.0811,-73.2678, -73.4533,-73.7301,-73.915,-74.0991, -74.2817,-74.4689,-74.744,-74.9276, -75.111,-75.2944,-75.5699,-75.8445, -76.0276,-76.2102,-76.5745,-76.8471, -77.029,-77.3921,-77.4827,-77.589)
FOOTPRINT_POINT_LONGITUDE = (153.159,152.22,150.573,148.958,147.962 ,147.913,147.943,148.246,148.632, 149.086,149.345,149.513,149.753,149.909 ,150.136,150.283,150.562,150.698,150.83 ,151.084,151.207,151.386,151.502, 151.616,151.726,151.834,151.94,152.043, 152.193,152.291,152.433,152.525,152.615 ,152.703,152.832,152.915,152.997, 153.077,153.194,153.307,153.453,153.524 ,153.593,153.661,153.727,153.792, 153.824,153.831,154.42,154.95,155.61, 156.37,157.04,157.072,157.083,157.039, 156.997,156.952,156.914,156.871,156.818 ,156.773,156.704,156.633,156.586, 156.536,156.484,156.433,156.38,156.327, 156.271,156.212,156.154,156.061,155.967 ,155.9,155.835,155.766,155.7,155.626, 155.553,155.443,155.366,155.289,155.213 ,155.124,155.0,154.914,154.825,154.734, 154.592,154.445,154.343,154.24,154.025, 153.857,153.74,153.496,153.433,153.159)
ORBIT_NUMBER = 23318
ORBITAL_ECCENTRICITY = 0.575
ORBITAL_INCLINATION = 87.02
ORBITAL_SEMIMAJOR_AXIS = 8759.26
PERIAPSIS_ALTITUDE = 341.99
PERIAPSIS_ARGUMENT_ANGLE = 285.04
PERIAPSIS_TIME = 2022-06-17T11:32:14.000Z
SPACECRAFT_ORIENTATION = (0.0,1.0,0.0)
^MEX_ORIENTATION_DESC = "MEX_ORIENTATION_DESC.TXT"
SPACECRAFT_POINTING_MODE = ACROSSTRACK
^MEX_POINTING_DESC = "MEX_POINTING_DESC.TXT"
RIGHT_ASCENSION = -1e+32
DECLINATION = -1e+32
OFFSET_ANGLE = -0.269
SPACECRAFT_SOLAR_DISTANCE = 2.06658e+08
TARGET_NAME = MARS
/* CAMERA DATA ELEMENTS */
DETECTOR_TEMPERATURE = 18.5744
FOCAL_PLANE_TEMPERATURE = 8.5833
INST_CMPRS_NAME = "DISCRETE COSINE TRANSFORMATION (DCT)"
INST_CMPRS_RATIO = 13.9138
INST_CMPRS_QUALITY = 0
INST_CMPRS_QUANTZ_TBL_ID = 0
INSTRUMENT_TEMPERATURE = 11.6418
LENS_TEMPERATURE = 9.3989
MACROPIXEL_SIZE = 2
MISSING_FRAMES = 0
PIXEL_SUBSAMPLING_FLAG = N
SIGNAL_CHAIN_ID = 1
/* RADIOMETRIC DATA ELEMENTS */
BANDWIDTH = 178.0
CENTER_FILTER_WAVELENGTH = 679.0
RADIANCE_OFFSET = 6.39256
RADIANCE_SCALING_FACTOR = 0.0169821
REFLECTANCE_SCALING_FACTOR = 0.000384085
MEX:REFLECTANCE_OFFSET = 0.144581
/* IMAGE OBJECT DEFINITIONS */
OBJECT = IMAGE
  INTERCHANGE_FORMAT = BINARY
  LINES = 22192
  LINE_SAMPLES = 5839
  SAMPLE_TYPE = UNSIGNED_INTEGER
  SAMPLE_BITS = 8
  BANDS = 1
  BAND_STORAGE_TYPE = BAND_SEQUENTIAL
  MAXIMUM = 255
  MEAN = 87.5713
  MINIMUM = 1
  STANDARD_DEVIATION = 33.3473
END_OBJECT = IMAGE
/* MAP OBJECT DEFINITIONS */
OBJECT = IMAGE_MAP_PROJECTION
  ^DATA_SET_MAP_PROJECTION_CATALOG= "DSMAP.CAT"
  A_AXIS_RADIUS = 3396.0
  B_AXIS_RADIUS = 3396.0
  C_AXIS_RADIUS = 3396.0
  CENTER_LATITUDE = 0.0
  CENTER_LONGITUDE = 154.0
  COORDINATE_SYSTEM_NAME = PLANETOGRAPHIC
  COORDINATE_SYSTEM_TYPE = "BODY-FIXED ROTATING"
  EASTERNMOST_LONGITUDE = 157.083
  FIRST_STANDARD_PARALLEL = "N/A"
  LINE_FIRST_PIXEL = 1
  LINE_LAST_PIXEL = 22192
  LINE_PROJECTION_OFFSET = -161474.25
  MAP_PROJECTION_ROTATION = 0.0
  MAP_PROJECTION_TYPE = SINUSOIDAL
  MAP_RESOLUTION = 2370.85521546667
  MAP_SCALE = 0.025
  MAXIMUM_LATITUDE = -68.1309
  MINIMUM_LATITUDE = -77.589
  POSITIVE_LONGITUDE_DIRECTION = EAST
  REFERENCE_LATITUDE = "N/A"
  REFERENCE_LONGITUDE = "N/A"
  SAMPLE_FIRST_PIXEL = 1
  SAMPLE_LAST_PIXEL = 5839
  SAMPLE_PROJECTION_OFFSET = 3136.75
  SECOND_STANDARD_PARALLEL = "N/A"
  WESTERNMOST_LONGITUDE = 147.913
END_OBJECT = IMAGE_MAP_PROJECTION
END
