PDS_VERSION_ID = PDS3
/* FILE DATA ELEMENTS */
RECORD_TYPE = UNDEFINED
/* POINTERS TO DATA OBJECTS */
^IMAGE = ("HN321_0000_GR4.TIF")
/* IDENTIFICATION DATA ELEMENTS */
DATA_SET_ID = "MEX-M-HRSC-4-REFDR-MAPPROJECT-EXT8-V4.0"
DATA_SET_NAME = "MARS EXPRESS HRSC MAP PROJECTED REFDR EXTENSION8 V4.0"
DETECTOR_ID = MEX_HRSC_GREEN
EVENT_TYPE = "MARS-TERMINATOR-CALIBRATION-Tc"
INSTRUMENT_HOST_ID = MEX
INSTRUMENT_HOST_NAME = "MARS EXPRESS"
INSTRUMENT_ID = HRSC
INSTRUMENT_NAME = "HIGH RESOLUTION STEREO CAMERA"
MISSION_NAME = "MARS EXPRESS"
MISSION_PHASE_NAME = ME_Phase_46
PROCESSING_LEVEL_ID = 4
PRODUCT_CREATION_TIME = 2023-01-28T22:22:56.000Z
PRODUCT_ID = "HN321_0000_GR4.TIF"
RELEASE_ID = 0004
REVISION_ID = 0000
/* QUALITY DATA ELEMENTS */
DATA_QUALITY_ID = 1
DATA_QUALITY_DESC = "Data calculated based on original SPICE kernels"
/* TIME DATA ELEMENTS */
SPACECRAFT_CLOCK_START_COUNT = "1/0603622823.25684"
SPACECRAFT_CLOCK_STOP_COUNT = "1/0603623214.46804"
START_TIME = 2022-06-18T09:02:35.339Z
STOP_TIME = 2022-06-18T09:05:03.692Z
/* ORBITAL DATA ELEMENTS */
ASCENDING_NODE_LONGITUDE = 139.5
MAXIMUM_RESOLUTION = 0.2109
FOOTPRINT_POINT_LATITUDE = (22.2072,21.077,20.39,19.7078,19.0296, 18.355,17.6852,17.0184,16.354,15.6918, 15.0308,14.2873,13.6276,13.5452,13.5104 ,13.5038,13.488,13.4628,13.4286,13.3832 ,13.3271,13.2593,13.179,13.0863,12.9775 ,12.8518,12.7091,12.5478,12.3654, 12.1598,11.9284,11.6679,11.3735,11.0422 ,10.6694,10.465,10.2483,10.0183,9.77447 ,9.50821,9.21858,8.74804,8.57688, 8.55338,9.56207,10.2752,11.0891,11.8978 ,12.7025,13.5033,14.3001,15.0938, 15.4892,15.8829,16.2746,16.6643,17.0515 ,17.4358,17.8162,18.1927,18.6534, 18.7442,18.7778,19.0023,19.2065,19.3936 ,19.5659,19.7241,19.8711,20.0079,20.257 ,20.4778,20.6749,20.8521,21.0122,21.158 ,21.2905,21.4113,21.5215,21.6222, 21.7142,21.7981,21.9444,22.0655,22.1649 ,22.2443,22.3042,22.3369,22.3639, 22.3869,22.4017,22.4072,22.4024,22.4052 ,22.3832,22.3261,22.2837,22.2383,22.226 ,22.2072)
FOOTPRINT_POINT_LONGITUDE = (217.842,217.313,217.0,216.694,216.395, 216.103,215.818,215.539,215.266,214.997 ,214.733,214.441,214.187,214.155,214.16 ,215.557,216.274,217.005,217.749, 218.511,219.29,220.088,220.906,221.742, 222.606,223.498,224.418,225.369,226.355 ,227.38,228.449,229.568,230.746,231.988 ,233.302,233.99,234.699,235.431,236.186 ,236.984,237.826,239.151,239.619, 239.683,240.532,241.152,241.892,242.685 ,243.539,244.461,245.462,246.56,247.149 ,247.768,248.422,249.113,249.846, 250.627,251.466,252.367,253.612,253.877 ,253.969,252.92,251.946,251.032,250.173 ,249.371,248.61,247.89,246.535,245.285, 244.124,243.035,242.01,241.029,240.096, 239.204,238.349,237.523,236.729,235.96, 234.496,233.118,231.818,230.572,229.366 ,228.485,227.333,226.281,225.281, 224.316,223.375,222.09,221.213,219.724, 218.898,218.095,217.897,217.842)
ORBIT_NUMBER = 23321
ORBITAL_ECCENTRICITY = 0.575
ORBITAL_INCLINATION = 87.03
ORBITAL_SEMIMAJOR_AXIS = 8756.78
PERIAPSIS_ALTITUDE = 340.65
PERIAPSIS_ARGUMENT_ANGLE = 284.52
PERIAPSIS_TIME = 2022-06-18T08:29:08.000Z
SPACECRAFT_ORIENTATION = (0.0,1.0,0.0)
^MEX_ORIENTATION_DESC = "MEX_ORIENTATION_DESC.TXT"
SPACECRAFT_POINTING_MODE = FIXED
^MEX_POINTING_DESC = "MEX_POINTING_DESC.TXT"
RIGHT_ASCENSION = -1e+32
DECLINATION = -1e+32
OFFSET_ANGLE = -1e+32
SPACECRAFT_SOLAR_DISTANCE = 2.06651e+08
TARGET_NAME = MARS
/* CAMERA DATA ELEMENTS */
DETECTOR_TEMPERATURE = 18.5744
FOCAL_PLANE_TEMPERATURE = 9.195
INST_CMPRS_NAME = "DISCRETE COSINE TRANSFORMATION (DCT)"
INST_CMPRS_RATIO = 6.4561
INST_CMPRS_QUALITY = 0
INST_CMPRS_QUANTZ_TBL_ID = 0
INSTRUMENT_TEMPERATURE = 11.6418
LENS_TEMPERATURE = 9.6028
MACROPIXEL_SIZE = 2
MISSING_FRAMES = 0
PIXEL_SUBSAMPLING_FLAG = N
SIGNAL_CHAIN_ID = 2
/* RADIOMETRIC DATA ELEMENTS */
BANDWIDTH = 88.0
CENTER_FILTER_WAVELENGTH = 538.0
RADIANCE_OFFSET = 0.691142
RADIANCE_SCALING_FACTOR = 0.010785
REFLECTANCE_SCALING_FACTOR = 0.000396538
MEX:REFLECTANCE_OFFSET = 0.0254117
/* IMAGE OBJECT DEFINITIONS */
OBJECT = IMAGE
  INTERCHANGE_FORMAT = BINARY
  LINES = 4016
  LINE_SAMPLES = 11127
  SAMPLE_TYPE = UNSIGNED_INTEGER
  SAMPLE_BITS = 8
  BANDS = 1
  BAND_STORAGE_TYPE = BAND_SEQUENTIAL
  MAXIMUM = 255
  MEAN = 165.611
  MINIMUM = 1
  STANDARD_DEVIATION = 25.6573
END_OBJECT = IMAGE
/* MAP OBJECT DEFINITIONS */
OBJECT = IMAGE_MAP_PROJECTION
  ^DATA_SET_MAP_PROJECTION_CATALOG= "DSMAP.CAT"
  A_AXIS_RADIUS = 3396.0
  B_AXIS_RADIUS = 3396.0
  C_AXIS_RADIUS = 3396.0
  CENTER_LATITUDE = 18.439
  CENTER_LONGITUDE = 226.292
  COORDINATE_SYSTEM_NAME = PLANETOGRAPHIC
  COORDINATE_SYSTEM_TYPE = "BODY-FIXED ROTATING"
  EASTERNMOST_LONGITUDE = 253.969
  FIRST_STANDARD_PARALLEL = "N/A"
  LINE_FIRST_PIXEL = 1
  LINE_LAST_PIXEL = 4016
  LINE_PROJECTION_OFFSET = 1500.0
  MAP_PROJECTION_ROTATION = 0.0
  MAP_PROJECTION_TYPE = ORTHOGRAPHIC
  MAP_RESOLUTION = 296.356901933333
  MAP_SCALE = 0.2
  MAXIMUM_LATITUDE = 22.4072
  MINIMUM_LATITUDE = 8.553380000000001
  POSITIVE_LONGITUDE_DIRECTION = EAST
  REFERENCE_LATITUDE = "N/A"
  REFERENCE_LONGITUDE = "N/A"
  SAMPLE_FIRST_PIXEL = 1
  SAMPLE_LAST_PIXEL = 11127
  SAMPLE_PROJECTION_OFFSET = 3491.0
  SECOND_STANDARD_PARALLEL = "N/A"
  WESTERNMOST_LONGITUDE = 214.155
END_OBJECT = IMAGE_MAP_PROJECTION
END
