PDS_VERSION_ID = PDS3
/* FILE DATA ELEMENTS */
RECORD_TYPE = UNDEFINED
/* POINTERS TO DATA OBJECTS */
^IMAGE = ("HN321_0000_S24.TIF")
/* IDENTIFICATION DATA ELEMENTS */
DATA_SET_ID = "MEX-M-HRSC-4-REFDR-MAPPROJECT-EXT8-V4.0"
DATA_SET_NAME = "MARS EXPRESS HRSC MAP PROJECTED REFDR EXTENSION8 V4.0"
DETECTOR_ID = MEX_HRSC_S2
EVENT_TYPE = "MARS-TERMINATOR-CALIBRATION-Tc"
INSTRUMENT_HOST_ID = MEX
INSTRUMENT_HOST_NAME = "MARS EXPRESS"
INSTRUMENT_ID = HRSC
INSTRUMENT_NAME = "HIGH RESOLUTION STEREO CAMERA"
MISSION_NAME = "MARS EXPRESS"
MISSION_PHASE_NAME = ME_Phase_46
PROCESSING_LEVEL_ID = 4
PRODUCT_CREATION_TIME = 2023-01-28T22:22:56.000Z
PRODUCT_ID = "HN321_0000_S24.TIF"
RELEASE_ID = 0004
REVISION_ID = 0000
/* QUALITY DATA ELEMENTS */
DATA_QUALITY_ID = 1
DATA_QUALITY_DESC = "Data calculated based on original SPICE kernels"
/* TIME DATA ELEMENTS */
SPACECRAFT_CLOCK_START_COUNT = "1/0603622823.25684"
SPACECRAFT_CLOCK_STOP_COUNT = "1/0603623214.46804"
START_TIME = 2022-06-18T09:04:59.356Z
STOP_TIME = 2022-06-18T09:07:27.702Z
/* ORBITAL DATA ELEMENTS */
ASCENDING_NODE_LONGITUDE = 139.5
MAXIMUM_RESOLUTION = 0.4569
FOOTPRINT_POINT_LATITUDE = (29.269,28.365,27.6524,26.9488,26.2534, 25.5653,24.2098,22.879,21.5663,20.2677, 20.1869,20.1669,20.1228,20.0877,20.0303 ,19.9569,19.8857,19.8029,19.7085, 19.6103,19.4904,19.3569,19.2106,19.0469 ,18.8617,18.6484,18.3926,18.0974, 17.6755,17.3232,16.9281,16.4792,16.2343 ,15.9765,15.7025,15.4026,15.0825, 14.7382,14.5556,14.5322,15.2516,15.9747 ,16.6933,17.407,18.1153,18.8168,19.511, 20.4453,20.7731,21.0944,21.4099,21.7171 ,22.0774,22.3543,22.5998,22.803,22.8814 ,22.9361,22.9539,22.9613,22.9851, 23.5769,23.9529,24.3129,24.6194,24.8903 ,25.1338,25.3602,25.5674,25.7574, 25.9333,26.2464,26.5248,26.7732,26.9976 ,27.2012,27.3869,27.5567,27.7126,27.856 ,27.9882,28.1102,28.3273,28.5131,28.672 ,28.8082,28.9243,29.0241,29.1059, 29.1508,29.2181,29.2704,29.2985,29.3187 ,29.3321,29.335,29.3282,29.3075,29.3051 ,29.269)
FOOTPRINT_POINT_LONGITUDE = (218.344,217.859,217.487,217.126, 216.777,216.439,215.79,215.175,214.589, 214.028,213.993,214.0,215.552,216.349, 217.366,218.406,219.257,220.124,221.003 ,221.845,222.759,223.688,224.625, 225.592,226.6,227.673,228.859,230.13, 231.812,233.127,234.517,236.006,236.785 ,237.583,238.408,239.288,240.202, 241.159,241.657,241.72,242.534,243.413, 244.354,245.367,246.462,247.654,248.961 ,251.002,251.849,252.756,253.719, 254.752,256.207,257.46,258.902,260.583, 261.546,262.629,263.891,264.524,264.633 ,262.145,260.638,259.093,257.762, 256.564,255.469,254.411,253.423,252.505 ,251.637,250.09,248.654,247.335,246.095 ,244.928,243.82,242.766,241.762,240.798 ,239.875,238.984,237.296,235.711, 234.214,232.796,231.446,230.159,228.916 ,227.992,226.537,225.15,224.074,223.031 ,222.02,221.029,220.057,218.644,218.415 ,218.344)
ORBIT_NUMBER = 23321
ORBITAL_ECCENTRICITY = 0.575
ORBITAL_INCLINATION = 87.03
ORBITAL_SEMIMAJOR_AXIS = 8756.78
PERIAPSIS_ALTITUDE = 340.65
PERIAPSIS_ARGUMENT_ANGLE = 284.52
PERIAPSIS_TIME = 2022-06-18T08:29:08.000Z
SPACECRAFT_ORIENTATION = (0.0,1.0,0.0)
^MEX_ORIENTATION_DESC = "MEX_ORIENTATION_DESC.TXT"
SPACECRAFT_POINTING_MODE = FIXED
^MEX_POINTING_DESC = "MEX_POINTING_DESC.TXT"
RIGHT_ASCENSION = -1e+32
DECLINATION = -1e+32
OFFSET_ANGLE = -1e+32
SPACECRAFT_SOLAR_DISTANCE = 2.06651e+08
TARGET_NAME = MARS
/* CAMERA DATA ELEMENTS */
DETECTOR_TEMPERATURE = 18.5744
FOCAL_PLANE_TEMPERATURE = 9.195
INST_CMPRS_NAME = "DISCRETE COSINE TRANSFORMATION (DCT)"
INST_CMPRS_RATIO = 18.739
INST_CMPRS_QUALITY = 0
INST_CMPRS_QUANTZ_TBL_ID = 0
INSTRUMENT_TEMPERATURE = 11.6418
LENS_TEMPERATURE = 9.6028
MACROPIXEL_SIZE = 4
MISSING_FRAMES = 0
PIXEL_SUBSAMPLING_FLAG = N
SIGNAL_CHAIN_ID = 3
/* RADIOMETRIC DATA ELEMENTS */
BANDWIDTH = 178.0
CENTER_FILTER_WAVELENGTH = 679.0
RADIANCE_OFFSET = 0.451232
RADIANCE_SCALING_FACTOR = 0.0439856
REFLECTANCE_SCALING_FACTOR = 0.000994755
MEX:REFLECTANCE_OFFSET = 0.0102048
/* IMAGE OBJECT DEFINITIONS */
OBJECT = IMAGE
  INTERCHANGE_FORMAT = BINARY
  LINES = 2008
  LINE_SAMPLES = 5564
  SAMPLE_TYPE = UNSIGNED_INTEGER
  SAMPLE_BITS = 8
  BANDS = 1
  BAND_STORAGE_TYPE = BAND_SEQUENTIAL
  MAXIMUM = 255
  MEAN = 136.063
  MINIMUM = 42
  STANDARD_DEVIATION = 28.7324
END_OBJECT = IMAGE
/* MAP OBJECT DEFINITIONS */
OBJECT = IMAGE_MAP_PROJECTION
  ^DATA_SET_MAP_PROJECTION_CATALOG= "DSMAP.CAT"
  A_AXIS_RADIUS = 3396.0
  B_AXIS_RADIUS = 3396.0
  C_AXIS_RADIUS = 3396.0
  CENTER_LATITUDE = 18.439
  CENTER_LONGITUDE = 226.292
  COORDINATE_SYSTEM_NAME = PLANETOGRAPHIC
  COORDINATE_SYSTEM_TYPE = "BODY-FIXED ROTATING"
  EASTERNMOST_LONGITUDE = 264.633
  FIRST_STANDARD_PARALLEL = "N/A"
  LINE_FIRST_PIXEL = 1
  LINE_LAST_PIXEL = 2008
  LINE_PROJECTION_OFFSET = 749.75
  MAP_PROJECTION_ROTATION = 0.0
  MAP_PROJECTION_TYPE = ORTHOGRAPHIC
  MAP_RESOLUTION = 148.178450966667
  MAP_SCALE = 0.4
  MAXIMUM_LATITUDE = 29.335
  MINIMUM_LATITUDE = 14.5322
  POSITIVE_LONGITUDE_DIRECTION = EAST
  REFERENCE_LATITUDE = "N/A"
  REFERENCE_LONGITUDE = "N/A"
  SAMPLE_FIRST_PIXEL = 1
  SAMPLE_LAST_PIXEL = 5564
  SAMPLE_PROJECTION_OFFSET = 1745.25
  SECOND_STANDARD_PARALLEL = "N/A"
  WESTERNMOST_LONGITUDE = 213.993
END_OBJECT = IMAGE_MAP_PROJECTION
END
