PDS_VERSION_ID = PDS3
/* FILE DATA ELEMENTS */
RECORD_TYPE = UNDEFINED
/* POINTERS TO DATA OBJECTS */
^IMAGE = ("HN324_0000_RE4.TIF")
/* IDENTIFICATION DATA ELEMENTS */
DATA_SET_ID = "MEX-M-HRSC-4-REFDR-MAPPROJECT-EXT8-V4.0"
DATA_SET_NAME = "MARS EXPRESS HRSC MAP PROJECTED REFDR EXTENSION8 V4.0"
DETECTOR_ID = MEX_HRSC_RED
EVENT_TYPE = "MARS-LOCAL-CARTOGRAPHY-Gl-Pf-Ts"
INSTRUMENT_HOST_ID = MEX
INSTRUMENT_HOST_NAME = "MARS EXPRESS"
INSTRUMENT_ID = HRSC
INSTRUMENT_NAME = "HIGH RESOLUTION STEREO CAMERA"
MISSION_NAME = "MARS EXPRESS"
MISSION_PHASE_NAME = ME_Phase_46
PROCESSING_LEVEL_ID = 4
PRODUCT_CREATION_TIME = 2023-01-28T22:22:56.000Z
PRODUCT_ID = "HN324_0000_RE4.TIF"
RELEASE_ID = 0004
REVISION_ID = 0000
/* QUALITY DATA ELEMENTS */
DATA_QUALITY_ID = 1
DATA_QUALITY_DESC = "Data calculated based on original SPICE kernels"
/* TIME DATA ELEMENTS */
SPACECRAFT_CLOCK_START_COUNT = "1/0603696131.25676"
SPACECRAFT_CLOCK_STOP_COUNT = "1/0603696493.32533"
START_TIME = 2022-06-19T05:22:52.489Z
STOP_TIME = 2022-06-19T05:27:47.824Z
/* ORBITAL DATA ELEMENTS */
ASCENDING_NODE_LONGITUDE = 139.45
MAXIMUM_RESOLUTION = 0.0282
FOOTPRINT_POINT_LATITUDE = (-86.1826,-85.9824,-85.7079,-85.3219, -85.3126,-85.2351,-84.9575,-84.6603, -84.3657,-84.0937,-83.6694,-83.3773, -83.0811,-82.7769,-82.3147,-82.0005, -81.6815,-81.3599,-81.0355,-80.7081, -80.3767,-79.8782,-79.543,-79.2059, -78.8671,-78.5265,-78.1843,-77.8409, -77.4963,-77.1501,-76.4545,-75.9299, -75.5794,-75.228,-74.149,-73.6166, -73.0826,-72.7264,-72.1915,-71.8325, -71.474,-71.1145,-70.5742,-70.2136, -69.6729,-69.3118,-68.95,-68.5883, -68.2261,-67.6826,-67.5011,-67.4674, -67.5471,-67.6066,-67.6076,-67.6084, -67.9737,-68.3388,-68.8861,-69.4329, -69.7974,-70.1639,-70.709,-71.2537, -71.6153,-71.9782,-72.3408,-72.7029, -73.0644,-73.6062,-73.9671,-74.3275, -75.4243,-75.9615,-76.4977,-76.8539, -77.3877,-77.7427,-78.097,-78.4501, -78.8033,-79.1549,-79.6796,-80.2054, -80.7267,-81.2444,-81.5886,-81.9311, -82.2712,-82.7785,-83.1142,-83.4472, -83.7771,-84.1032,-84.5858,-85.0593, -85.5813,-85.9322,-86.1024,-86.1826)
FOOTPRINT_POINT_LONGITUDE = (232.862,229.295,225.276,220.785,220.69 ,221.184,224.78,227.997,230.714,232.897 ,235.815,237.551,239.136,240.593, 242.558,243.741,244.834,245.846,246.784 ,247.656,248.468,249.584,250.268, 250.909,251.51,252.075,252.607,253.107, 253.58,254.026,254.847,255.407,255.756, 256.089,257.006,257.41,257.786,258.023, 258.36,258.571,258.774,258.968,259.244, 259.419,259.668,259.826,259.978,260.123 ,260.263,260.463,260.528,260.539, 262.127,263.664,263.695,263.706,263.617 ,263.525,263.38,263.227,263.12,263.006, 262.832,262.647,262.519,262.383,262.241 ,262.093,261.939,261.695,261.522, 261.342,260.734,260.4,260.038,259.782, 259.368,259.072,258.757,258.425,258.069 ,257.692,257.082,256.393,255.635, 254.791,254.166,253.489,252.756,251.525 ,250.603,249.588,248.469,247.233, 245.098,242.541,238.989,235.997,234.308 ,232.862)
ORBIT_NUMBER = 23324
ORBITAL_ECCENTRICITY = 0.575
ORBITAL_INCLINATION = 87.02
ORBITAL_SEMIMAJOR_AXIS = 8756.97
PERIAPSIS_ALTITUDE = 340.98
PERIAPSIS_ARGUMENT_ANGLE = 284.02
PERIAPSIS_TIME = 2022-06-19T05:26:08.000Z
SPACECRAFT_ORIENTATION = (0.0,1.0,0.0)
^MEX_ORIENTATION_DESC = "MEX_ORIENTATION_DESC.TXT"
SPACECRAFT_POINTING_MODE = NADIR
^MEX_POINTING_DESC = "MEX_POINTING_DESC.TXT"
RIGHT_ASCENSION = -1e+32
DECLINATION = -1e+32
OFFSET_ANGLE = -1e+32
SPACECRAFT_SOLAR_DISTANCE = 2.06646e+08
TARGET_NAME = MARS
/* CAMERA DATA ELEMENTS */
DETECTOR_TEMPERATURE = 18.5744
FOCAL_PLANE_TEMPERATURE = 8.7872
INST_CMPRS_NAME = "DISCRETE COSINE TRANSFORMATION (DCT)"
INST_CMPRS_RATIO = 7.12961
INST_CMPRS_QUALITY = 0
INST_CMPRS_QUANTZ_TBL_ID = 0
INSTRUMENT_TEMPERATURE = 11.234
LENS_TEMPERATURE = 7.3599
MACROPIXEL_SIZE = 2
PIXEL_SUBSAMPLING_FLAG = N
SIGNAL_CHAIN_ID = 3
/* RADIOMETRIC DATA ELEMENTS */
BANDWIDTH = 48.0
CENTER_FILTER_WAVELENGTH = 748.0
RADIANCE_OFFSET = 1.3771
RADIANCE_SCALING_FACTOR = 0.0128779
REFLECTANCE_SCALING_FACTOR = 0.00125495
MEX:REFLECTANCE_OFFSET = 0.134198
/* IMAGE OBJECT DEFINITIONS */
OBJECT = IMAGE
  INTERCHANGE_FORMAT = BINARY
  LINES = 44222
  LINE_SAMPLES = 13064
  SAMPLE_TYPE = UNSIGNED_INTEGER
  SAMPLE_BITS = 8
  BANDS = 1
  BAND_STORAGE_TYPE = BAND_SEQUENTIAL
  MAXIMUM = 255
  MEAN = 109.538
  MINIMUM = 1
  STANDARD_DEVIATION = 71.7207
END_OBJECT = IMAGE
/* MAP OBJECT DEFINITIONS */
OBJECT = IMAGE_MAP_PROJECTION
  ^DATA_SET_MAP_PROJECTION_CATALOG= "DSMAP.CAT"
  A_AXIS_RADIUS = 3396.0
  B_AXIS_RADIUS = 3396.0
  C_AXIS_RADIUS = 3396.0
  CENTER_LATITUDE = 0.0
  CENTER_LONGITUDE = 257.0
  COORDINATE_SYSTEM_NAME = PLANETOGRAPHIC
  COORDINATE_SYSTEM_TYPE = "BODY-FIXED ROTATING"
  EASTERNMOST_LONGITUDE = 263.706
  FIRST_STANDARD_PARALLEL = "N/A"
  LINE_FIRST_PIXEL = 1
  LINE_LAST_PIXEL = 44222
  LINE_PROJECTION_OFFSET = -159905.25
  MAP_PROJECTION_ROTATION = 0.0
  MAP_PROJECTION_TYPE = SINUSOIDAL
  MAP_RESOLUTION = 2370.85521546667
  MAP_SCALE = 0.025
  MAXIMUM_LATITUDE = -67.4674
  MINIMUM_LATITUDE = -86.18259999999999
  POSITIVE_LONGITUDE_DIRECTION = EAST
  REFERENCE_LATITUDE = "N/A"
  REFERENCE_LONGITUDE = "N/A"
  SAMPLE_FIRST_PIXEL = 1
  SAMPLE_LAST_PIXEL = 13064
  SAMPLE_PROJECTION_OFFSET = 6983.75
  SECOND_STANDARD_PARALLEL = "N/A"
  WESTERNMOST_LONGITUDE = 220.69
END_OBJECT = IMAGE_MAP_PROJECTION
END
