PDS_VERSION_ID = PDS3
/* FILE DATA ELEMENTS */
RECORD_TYPE = UNDEFINED
/* POINTERS TO DATA OBJECTS */
^IMAGE = ("HN324_0000_S14.TIF")
/* IDENTIFICATION DATA ELEMENTS */
DATA_SET_ID = "MEX-M-HRSC-4-REFDR-MAPPROJECT-EXT8-V4.0"
DATA_SET_NAME = "MARS EXPRESS HRSC MAP PROJECTED REFDR EXTENSION8 V4.0"
DETECTOR_ID = MEX_HRSC_S1
EVENT_TYPE = "MARS-LOCAL-CARTOGRAPHY-Gl-Pf-Ts"
INSTRUMENT_HOST_ID = MEX
INSTRUMENT_HOST_NAME = "MARS EXPRESS"
INSTRUMENT_ID = HRSC
INSTRUMENT_NAME = "HIGH RESOLUTION STEREO CAMERA"
MISSION_NAME = "MARS EXPRESS"
MISSION_PHASE_NAME = ME_Phase_46
PROCESSING_LEVEL_ID = 4
PRODUCT_CREATION_TIME = 2023-01-28T22:22:56.000Z
PRODUCT_ID = "HN324_0000_S14.TIF"
RELEASE_ID = 0004
REVISION_ID = 0000
/* QUALITY DATA ELEMENTS */
DATA_QUALITY_ID = 1
DATA_QUALITY_DESC = "Data calculated based on original SPICE kernels"
/* TIME DATA ELEMENTS */
SPACECRAFT_CLOCK_START_COUNT = "1/0603696131.25676"
SPACECRAFT_CLOCK_STOP_COUNT = "1/0603696493.32533"
START_TIME = 2022-06-19T05:23:53.441Z
STOP_TIME = 2022-06-19T05:28:46.448Z
/* ORBITAL DATA ELEMENTS */
ASCENDING_NODE_LONGITUDE = 139.45
MAXIMUM_RESOLUTION = 0.0287
FOOTPRINT_POINT_LATITUDE = (-85.9686,-85.5555,-85.1924,-85.1841, -85.2228,-84.8411,-84.5705,-84.2885, -83.9967,-83.6974,-83.2358,-82.9201, -82.6009,-82.2757,-81.9476,-81.4502, -81.1149,-80.7772,-80.2653,-79.9218, -79.5777,-79.0588,-78.7118,-77.6619, -77.3117,-76.9575,-76.6051,-76.0784, -75.726,-75.3733,-75.0206,-74.6678, -74.3148,-73.7855,-73.2557,-72.726, -72.3723,-72.0202,-71.6684,-71.1403, -70.7893,-70.2625,-69.5607,-68.8604, -68.3362,-67.6385,-67.4647,-67.4341, -67.5221,-67.5683,-67.5693,-67.5701, -68.2721,-68.9761,-69.3291,-69.6823, -70.2093,-70.5671,-70.9189,-71.2766, -71.6332,-71.989,-72.3452,-72.7021, -73.0592,-73.4166,-73.7742,-74.132, -74.49,-75.0277,-75.3864,-75.7452, -76.104,-76.4629,-76.8223,-77.3641, -77.9024,-78.9814,-79.339,-79.6979, -80.0528,-80.4097,-80.7656,-81.1218, -81.4798,-81.8326,-82.1852,-82.5361, -82.8857,-83.2325,-83.5778,-83.9212, -84.2616,-84.5979,-84.9285,-85.2561, -85.5731,-85.8847,-86.0378,-85.9686)
FOOTPRINT_POINT_LONGITUDE = (234.643,227.758,223.191,223.097, 222.021,226.638,229.334,231.773,233.978 ,235.966,238.608,240.179,241.601, 242.915,244.114,245.731,246.707,247.609 ,248.841,249.595,250.293,251.256, 251.844,253.407,253.865,254.301,254.711 ,255.278,255.633,255.97,256.288,256.591 ,256.879,257.284,257.661,258.013, 258.235,258.445,258.645,258.93,259.109, 259.365,259.682,259.974,260.178,260.432 ,260.492,260.502,262.466,263.74,263.772 ,263.784,263.607,263.416,263.316, 263.211,263.044,262.931,262.809,262.686 ,262.556,262.42,262.279,262.13,261.976, 261.814,261.644,261.466,261.279,260.981 ,260.77,260.547,260.312,260.064,259.802 ,259.377,258.915,257.846,257.441, 257.008,256.542,256.04,255.499,254.914, 254.273,253.581,252.825,251.997,251.087 ,250.081,248.966,247.722,246.329, 244.759,242.984,240.955,238.64,235.957, 234.454,234.643)
ORBIT_NUMBER = 23324
ORBITAL_ECCENTRICITY = 0.575
ORBITAL_INCLINATION = 87.02
ORBITAL_SEMIMAJOR_AXIS = 8756.97
PERIAPSIS_ALTITUDE = 340.98
PERIAPSIS_ARGUMENT_ANGLE = 284.02
PERIAPSIS_TIME = 2022-06-19T05:26:08.000Z
SPACECRAFT_ORIENTATION = (0.0,1.0,0.0)
^MEX_ORIENTATION_DESC = "MEX_ORIENTATION_DESC.TXT"
SPACECRAFT_POINTING_MODE = NADIR
^MEX_POINTING_DESC = "MEX_POINTING_DESC.TXT"
RIGHT_ASCENSION = -1e+32
DECLINATION = -1e+32
OFFSET_ANGLE = -1e+32
SPACECRAFT_SOLAR_DISTANCE = 2.06646e+08
TARGET_NAME = MARS
/* CAMERA DATA ELEMENTS */
DETECTOR_TEMPERATURE = 17.7588
FOCAL_PLANE_TEMPERATURE = 8.7872
INST_CMPRS_NAME = "DISCRETE COSINE TRANSFORMATION (DCT)"
INST_CMPRS_RATIO = 9.58427
INST_CMPRS_QUALITY = 0
INST_CMPRS_QUANTZ_TBL_ID = 0
INSTRUMENT_TEMPERATURE = 11.234
LENS_TEMPERATURE = 7.3599
MACROPIXEL_SIZE = 2
PIXEL_SUBSAMPLING_FLAG = N
SIGNAL_CHAIN_ID = 1
/* RADIOMETRIC DATA ELEMENTS */
BANDWIDTH = 180.0
CENTER_FILTER_WAVELENGTH = 677.0
RADIANCE_OFFSET = 5.88729
RADIANCE_SCALING_FACTOR = 0.0566691
REFLECTANCE_SCALING_FACTOR = 0.00126253
MEX:REFLECTANCE_OFFSET = 0.131163
/* IMAGE OBJECT DEFINITIONS */
OBJECT = IMAGE
  INTERCHANGE_FORMAT = BINARY
  LINES = 44222
  LINE_SAMPLES = 13064
  SAMPLE_TYPE = UNSIGNED_INTEGER
  SAMPLE_BITS = 8
  BANDS = 1
  BAND_STORAGE_TYPE = BAND_SEQUENTIAL
  MAXIMUM = 255
  MEAN = 111.374
  MINIMUM = 1
  STANDARD_DEVIATION = 73.8969
END_OBJECT = IMAGE
/* MAP OBJECT DEFINITIONS */
OBJECT = IMAGE_MAP_PROJECTION
  ^DATA_SET_MAP_PROJECTION_CATALOG= "DSMAP.CAT"
  A_AXIS_RADIUS = 3396.0
  B_AXIS_RADIUS = 3396.0
  C_AXIS_RADIUS = 3396.0
  CENTER_LATITUDE = 0.0
  CENTER_LONGITUDE = 257.0
  COORDINATE_SYSTEM_NAME = PLANETOGRAPHIC
  COORDINATE_SYSTEM_TYPE = "BODY-FIXED ROTATING"
  EASTERNMOST_LONGITUDE = 263.784
  FIRST_STANDARD_PARALLEL = "N/A"
  LINE_FIRST_PIXEL = 1
  LINE_LAST_PIXEL = 44222
  LINE_PROJECTION_OFFSET = -159905.25
  MAP_PROJECTION_ROTATION = 0.0
  MAP_PROJECTION_TYPE = SINUSOIDAL
  MAP_RESOLUTION = 2370.85521546667
  MAP_SCALE = 0.025
  MAXIMUM_LATITUDE = -67.4341
  MINIMUM_LATITUDE = -86.0378
  POSITIVE_LONGITUDE_DIRECTION = EAST
  REFERENCE_LATITUDE = "N/A"
  REFERENCE_LONGITUDE = "N/A"
  SAMPLE_FIRST_PIXEL = 1
  SAMPLE_LAST_PIXEL = 13064
  SAMPLE_PROJECTION_OFFSET = 6983.75
  SECOND_STANDARD_PARALLEL = "N/A"
  WESTERNMOST_LONGITUDE = 222.021
END_OBJECT = IMAGE_MAP_PROJECTION
END
