PDS_VERSION_ID = PDS3
/* FILE DATA ELEMENTS */
RECORD_TYPE = UNDEFINED
/* POINTERS TO DATA OBJECTS */
^IMAGE = ("HN325_0000_S14.TIF")
/* IDENTIFICATION DATA ELEMENTS */
DATA_SET_ID = "MEX-M-HRSC-4-REFDR-MAPPROJECT-EXT8-V4.0"
DATA_SET_NAME = "MARS EXPRESS HRSC MAP PROJECTED REFDR EXTENSION8 V4.0"
DETECTOR_ID = MEX_HRSC_S1
EVENT_TYPE = "MARS-REGIONAL-MAPPING-Gl-Pf-La"
INSTRUMENT_HOST_ID = MEX
INSTRUMENT_HOST_NAME = "MARS EXPRESS"
INSTRUMENT_ID = HRSC
INSTRUMENT_NAME = "HIGH RESOLUTION STEREO CAMERA"
MISSION_NAME = "MARS EXPRESS"
MISSION_PHASE_NAME = ME_Phase_46
PROCESSING_LEVEL_ID = 4
PRODUCT_CREATION_TIME = 2023-01-28T22:22:56.000Z
PRODUCT_ID = "HN325_0000_S14.TIF"
RELEASE_ID = 0004
REVISION_ID = 0000
/* QUALITY DATA ELEMENTS */
DATA_QUALITY_ID = 1
DATA_QUALITY_DESC = "Data calculated based on original SPICE kernels"
/* TIME DATA ELEMENTS */
SPACECRAFT_CLOCK_START_COUNT = "1/0603721410.23944"
SPACECRAFT_CLOCK_STOP_COUNT = "1/0603721613.47206"
START_TIME = 2022-06-19T12:25:07.158Z
STOP_TIME = 2022-06-19T12:27:26.675Z
/* ORBITAL DATA ELEMENTS */
ASCENDING_NODE_LONGITUDE = 139.43
MAXIMUM_RESOLUTION = 0.0287
FOOTPRINT_POINT_LATITUDE = (-77.6957,-77.6264,-77.5859,-77.5138, -77.4436,-77.4407,-77.5168,-77.3426, -77.081,-76.9061,-76.6437,-76.4691, -76.2945,-76.0323,-75.8573,-75.5946, -75.3322,-75.1568,-74.894,-74.7187, -74.5429,-74.2814,-74.1044,-73.8431, -73.6674,-73.3188,-73.055,-72.88, -72.6172,-72.4425,-72.2681,-72.0062, -71.8317,-71.6564,-71.4811,-71.3069, -71.131,-70.9549,-70.7798,-70.6039, -70.4295,-70.2539,-69.9906,-69.815, -69.6399,-69.4649,-69.1164,-68.8561, -68.7695,-68.7306,-68.7757,-68.8352, -68.8745,-68.8756,-68.8765,-69.2271, -69.4031,-69.5793,-69.8449,-70.0221, -70.1988,-70.3749,-70.6392,-70.8152, -70.9923,-71.1687,-71.3458,-71.5237, -71.7016,-71.9651,-72.1427,-72.4089, -72.6747,-72.8519,-73.116,-73.3815, -73.5593,-73.8252,-74.0037,-74.1817, -74.3601,-74.5379,-74.804,-74.982, -75.1602,-75.3386,-75.5182,-75.7852, -75.9643,-76.2319,-76.4102,-76.5888, -76.767,-76.9456,-77.1241,-77.3026, -77.481,-77.6594,-77.7485,-77.6957)
FOOTPRINT_POINT_LONGITUDE = (156.119,154.515,153.668,152.281,151.05 ,151.001,150.712,150.949,151.293, 151.515,151.835,152.039,152.238,152.526 ,152.713,152.982,153.241,153.409, 153.651,153.808,153.962,154.18,154.328, 154.532,154.668,154.924,155.113,155.234 ,155.41,155.524,155.634,155.796,155.9, 156.004,156.106,156.204,156.303,156.4, 156.493,156.586,156.675,156.763,156.893 ,156.978,157.06,157.141,157.295,157.405 ,157.441,157.457,158.42,159.778,160.841 ,160.875,160.886,160.78,160.725,160.67, 160.585,160.526,160.467,160.406,160.312 ,160.248,160.183,160.117,160.049,159.98 ,159.909,159.799,159.725,159.61,159.491 ,159.409,159.283,159.153,159.064, 158.926,158.831,158.734,158.635,158.534 ,158.376,158.268,158.158,158.044, 157.928,157.747,157.623,157.43,157.297, 157.16,157.02,156.875,156.726,156.573, 156.415,156.253,156.169,156.119)
ORBIT_NUMBER = 23325
ORBITAL_ECCENTRICITY = 0.575
ORBITAL_INCLINATION = 87.02
ORBITAL_SEMIMAJOR_AXIS = 8758.1
PERIAPSIS_ALTITUDE = 342.02
PERIAPSIS_ARGUMENT_ANGLE = 283.86
PERIAPSIS_TIME = 2022-06-19T12:25:07.000Z
SPACECRAFT_ORIENTATION = (0.0,1.0,0.0)
^MEX_ORIENTATION_DESC = "MEX_ORIENTATION_DESC.TXT"
SPACECRAFT_POINTING_MODE = ACROSSTRACK
^MEX_POINTING_DESC = "MEX_POINTING_DESC.TXT"
RIGHT_ASCENSION = -1e+32
DECLINATION = -1e+32
OFFSET_ANGLE = 0.148
SPACECRAFT_SOLAR_DISTANCE = 2.06645e+08
TARGET_NAME = MARS
/* CAMERA DATA ELEMENTS */
DETECTOR_TEMPERATURE = 16.1276
FOCAL_PLANE_TEMPERATURE = 8.3794
INST_CMPRS_NAME = "DISCRETE COSINE TRANSFORMATION (DCT)"
INST_CMPRS_RATIO = 13.2071
INST_CMPRS_QUALITY = 0
INST_CMPRS_QUANTZ_TBL_ID = 0
INSTRUMENT_TEMPERATURE = 10.6223
LENS_TEMPERATURE = 8.9911
MACROPIXEL_SIZE = 2
MISSING_FRAMES = 0
PIXEL_SUBSAMPLING_FLAG = N
SIGNAL_CHAIN_ID = 1
/* RADIOMETRIC DATA ELEMENTS */
BANDWIDTH = 180.0
CENTER_FILTER_WAVELENGTH = 677.0
RADIANCE_OFFSET = 6.33763
RADIANCE_SCALING_FACTOR = 0.0183131
REFLECTANCE_SCALING_FACTOR = 0.000407993
MEX:REFLECTANCE_OFFSET = 0.141195
/* IMAGE OBJECT DEFINITIONS */
OBJECT = IMAGE
  INTERCHANGE_FORMAT = BINARY
  LINES = 21532
  LINE_SAMPLES = 6508
  SAMPLE_TYPE = UNSIGNED_INTEGER
  SAMPLE_BITS = 8
  BANDS = 1
  BAND_STORAGE_TYPE = BAND_SEQUENTIAL
  MAXIMUM = 255
  MEAN = 96.2627
  MINIMUM = 1
  STANDARD_DEVIATION = 33.5525
END_OBJECT = IMAGE
/* MAP OBJECT DEFINITIONS */
OBJECT = IMAGE_MAP_PROJECTION
  ^DATA_SET_MAP_PROJECTION_CATALOG= "DSMAP.CAT"
  A_AXIS_RADIUS = 3396.0
  B_AXIS_RADIUS = 3396.0
  C_AXIS_RADIUS = 3396.0
  CENTER_LATITUDE = 0.0
  CENTER_LONGITUDE = 157.0
  COORDINATE_SYSTEM_NAME = PLANETOGRAPHIC
  COORDINATE_SYSTEM_TYPE = "BODY-FIXED ROTATING"
  EASTERNMOST_LONGITUDE = 160.886
  FIRST_STANDARD_PARALLEL = "N/A"
  LINE_FIRST_PIXEL = 1
  LINE_LAST_PIXEL = 21532
  LINE_PROJECTION_OFFSET = -162996.25
  MAP_PROJECTION_ROTATION = 0.0
  MAP_PROJECTION_TYPE = SINUSOIDAL
  MAP_RESOLUTION = 2370.85521546667
  MAP_SCALE = 0.025
  MAXIMUM_LATITUDE = -68.7306
  MINIMUM_LATITUDE = -77.74850000000001
  POSITIVE_LONGITUDE_DIRECTION = EAST
  REFERENCE_LATITUDE = "N/A"
  REFERENCE_LONGITUDE = "N/A"
  SAMPLE_FIRST_PIXEL = 1
  SAMPLE_LAST_PIXEL = 6508
  SAMPLE_PROJECTION_OFFSET = 3241.75
  SECOND_STANDARD_PARALLEL = "N/A"
  WESTERNMOST_LONGITUDE = 150.712
END_OBJECT = IMAGE_MAP_PROJECTION
END
