PDS_VERSION_ID = PDS3
/* FILE DATA ELEMENTS */
RECORD_TYPE = UNDEFINED
/* POINTERS TO DATA OBJECTS */
^IMAGE = ("HN330_0000_ND4.TIF")
/* IDENTIFICATION DATA ELEMENTS */
DATA_SET_ID = "MEX-M-HRSC-4-REFDR-MAPPROJECT-EXT8-V4.0"
DATA_SET_NAME = "MARS EXPRESS HRSC MAP PROJECTED REFDR EXTENSION8 V4.0"
DETECTOR_ID = MEX_HRSC_NADIR
EVENT_TYPE = "MARS-REGIONAL-MAPPING-Pf-Mw-La"
INSTRUMENT_HOST_ID = MEX
INSTRUMENT_HOST_NAME = "MARS EXPRESS"
INSTRUMENT_ID = HRSC
INSTRUMENT_NAME = "HIGH RESOLUTION STEREO CAMERA"
MISSION_NAME = "MARS EXPRESS"
MISSION_PHASE_NAME = ME_Phase_46
PROCESSING_LEVEL_ID = 4
PRODUCT_CREATION_TIME = 2023-01-28T22:22:56.000Z
PRODUCT_ID = "HN330_0000_ND4.TIF"
RELEASE_ID = 0004
REVISION_ID = 0000
/* QUALITY DATA ELEMENTS */
DATA_QUALITY_ID = 1
DATA_QUALITY_DESC = "Data calculated based on original SPICE kernels"
/* TIME DATA ELEMENTS */
SPACECRAFT_CLOCK_START_COUNT = "1/0603847071.25713"
SPACECRAFT_CLOCK_STOP_COUNT = "1/0603847294.50257"
START_TIME = 2022-06-20T23:18:57.822Z
STOP_TIME = 2022-06-20T23:21:35.781Z
/* ORBITAL DATA ELEMENTS */
ASCENDING_NODE_LONGITUDE = 139.34
MAXIMUM_RESOLUTION = 0.0121
FOOTPRINT_POINT_LATITUDE = (-80.5775,-80.4798,-80.3935,-80.2413, -80.2373,-80.2231,-79.8378,-79.4502, -79.2556,-79.0605,-78.8651,-78.6692, -78.4731,-78.276,-77.9805,-77.783, -77.585,-77.3867,-77.188,-76.9893, -76.7902,-76.5909,-76.2915,-76.0917, -75.8916,-75.6913,-75.4909,-75.2905, -74.9892,-74.7881,-74.5869,-74.3857, -74.184,-73.8819,-73.6802,-73.3773, -73.1754,-72.9734,-72.7712,-72.3666, -71.9618,-71.5569,-71.1517,-70.7465, -70.3412,-70.2398,-70.2258,-70.3058, -70.3429,-70.3849,-70.3861,-70.3869, -70.7961,-71.0008,-71.2054,-71.4101, -71.6148,-71.8194,-72.0241,-72.2288, -72.4335,-72.6382,-72.8429,-73.0476, -73.2523,-73.4569,-73.6615,-73.8661, -74.0707,-74.2753,-74.4798,-74.6841, -74.8886,-75.093,-75.2973,-75.5016, -75.7057,-75.9099,-76.1139,-76.3178, -76.6236,-76.8273,-77.0309,-77.2344, -77.5395,-77.7427,-78.0473,-78.2502, -78.5542,-78.8578,-79.06,-79.262, -79.4637,-79.6653,-79.8666,-80.0677, -80.2685,-80.469,-80.5692,-80.5775)
FOOTPRINT_POINT_LONGITUDE = (362.888,360.716,359.038,356.454, 356.392,356.204,357.039,357.809,358.173 ,358.523,358.861,359.188,359.505, 359.804,360.243,360.522,360.79,361.048, 361.297,361.542,361.778,362.006,362.335 ,362.546,362.751,362.949,363.143, 363.332,363.602,363.775,363.944,364.109 ,364.265,364.5,364.65,364.864,365.004, 365.14,365.272,365.524,365.765,365.994, 366.212,366.42,366.619,366.667,366.674, 368.249,369.095,370.192,370.227,370.244 ,370.109,370.039,369.967,369.894, 369.819,369.741,369.663,369.583,369.5, 369.415,369.328,369.239,369.147,369.053 ,368.957,368.858,368.757,368.652, 368.545,368.431,368.321,368.206,368.086 ,367.962,367.835,367.704,367.569, 367.428,367.211,367.062,366.906,366.745 ,366.496,366.323,366.05,365.861,365.564 ,365.251,365.033,364.805,364.568, 364.322,364.067,363.801,363.524,363.235 ,363.086,362.888)
ORBIT_NUMBER = 23330
ORBITAL_ECCENTRICITY = 0.575
ORBITAL_INCLINATION = 87.02
ORBITAL_SEMIMAJOR_AXIS = 8756.76
PERIAPSIS_ALTITUDE = 341.6
PERIAPSIS_ARGUMENT_ANGLE = 282.99
PERIAPSIS_TIME = 2022-06-20T23:19:58.000Z
SPACECRAFT_ORIENTATION = (0.0,1.0,0.0)
^MEX_ORIENTATION_DESC = "MEX_ORIENTATION_DESC.TXT"
SPACECRAFT_POINTING_MODE = ACROSSTRACK
^MEX_POINTING_DESC = "MEX_POINTING_DESC.TXT"
RIGHT_ASCENSION = -1e+32
DECLINATION = -1e+32
OFFSET_ANGLE = 0.0
SPACECRAFT_SOLAR_DISTANCE = 2.06641e+08
TARGET_NAME = MARS
/* CAMERA DATA ELEMENTS */
DETECTOR_TEMPERATURE = 18.7783
FOCAL_PLANE_TEMPERATURE = 9.8067
INST_CMPRS_NAME = "DISCRETE COSINE TRANSFORMATION (DCT)"
INST_CMPRS_RATIO = 8.92201
INST_CMPRS_QUALITY = 0
INST_CMPRS_QUANTZ_TBL_ID = 0
INSTRUMENT_TEMPERATURE = 11.8457
LENS_TEMPERATURE = 10.0106
MACROPIXEL_SIZE = 1
MISSING_FRAMES = 0
PIXEL_SUBSAMPLING_FLAG = N
SIGNAL_CHAIN_ID = 0
/* RADIOMETRIC DATA ELEMENTS */
BANDWIDTH = 177.0
CENTER_FILTER_WAVELENGTH = 677.5
RADIANCE_OFFSET = 5.74171
RADIANCE_SCALING_FACTOR = 0.0507995
REFLECTANCE_SCALING_FACTOR = 0.00115233
MEX:REFLECTANCE_OFFSET = 0.130244
/* IMAGE OBJECT DEFINITIONS */
OBJECT = IMAGE
  INTERCHANGE_FORMAT = BINARY
  LINES = 49111
  LINE_SAMPLES = 14644
  SAMPLE_TYPE = UNSIGNED_INTEGER
  SAMPLE_BITS = 8
  BANDS = 1
  BAND_STORAGE_TYPE = BAND_SEQUENTIAL
  MAXIMUM = 255
  MEAN = 171.743
  MINIMUM = 1
  STANDARD_DEVIATION = 100.823
END_OBJECT = IMAGE
/* MAP OBJECT DEFINITIONS */
OBJECT = IMAGE_MAP_PROJECTION
  ^DATA_SET_MAP_PROJECTION_CATALOG= "DSMAP.CAT"
  A_AXIS_RADIUS = 3396.0
  B_AXIS_RADIUS = 3396.0
  C_AXIS_RADIUS = 3396.0
  CENTER_LATITUDE = 0.0
  CENTER_LONGITUDE = 6.0
  COORDINATE_SYSTEM_NAME = PLANETOGRAPHIC
  COORDINATE_SYSTEM_TYPE = "BODY-FIXED ROTATING"
  EASTERNMOST_LONGITUDE = 10.244
  FIRST_STANDARD_PARALLEL = "N/A"
  LINE_FIRST_PIXEL = 1
  LINE_LAST_PIXEL = 49111
  LINE_PROJECTION_OFFSET = -332992.0
  MAP_PROJECTION_ROTATION = 0.0
  MAP_PROJECTION_TYPE = SINUSOIDAL
  MAP_RESOLUTION = 4741.71043093333
  MAP_SCALE = 0.0125
  MAXIMUM_LATITUDE = -70.22580000000001
  MINIMUM_LATITUDE = -80.5775
  POSITIVE_LONGITUDE_DIRECTION = EAST
  REFERENCE_LATITUDE = "N/A"
  REFERENCE_LONGITUDE = "N/A"
  SAMPLE_FIRST_PIXEL = 1
  SAMPLE_LAST_PIXEL = 14644
  SAMPLE_PROJECTION_OFFSET = 7887.0
  SECOND_STANDARD_PARALLEL = "N/A"
  WESTERNMOST_LONGITUDE = -3.796
END_OBJECT = IMAGE_MAP_PROJECTION
END
