PDS_VERSION_ID = PDS3
/* FILE DATA ELEMENTS */
RECORD_TYPE = UNDEFINED
/* POINTERS TO DATA OBJECTS */
^IMAGE = ("HN350_0000_GR4.TIF")
/* IDENTIFICATION DATA ELEMENTS */
DATA_SET_ID = "MEX-M-HRSC-4-REFDR-MAPPROJECT-EXT8-V4.0"
DATA_SET_NAME = "MARS EXPRESS HRSC MAP PROJECTED REFDR EXTENSION8 V4.0"
DETECTOR_ID = MEX_HRSC_GREEN
EVENT_TYPE = "MARS-REGIONAL-MAPPING-Gl-Pf-La"
INSTRUMENT_HOST_ID = MEX
INSTRUMENT_HOST_NAME = "MARS EXPRESS"
INSTRUMENT_ID = HRSC
INSTRUMENT_NAME = "HIGH RESOLUTION STEREO CAMERA"
MISSION_NAME = "MARS EXPRESS"
MISSION_PHASE_NAME = ME_Phase_46
PROCESSING_LEVEL_ID = 4
PRODUCT_CREATION_TIME = 2023-01-28T22:22:56.000Z
PRODUCT_ID = "HN350_0000_GR4.TIF"
RELEASE_ID = 0004
REVISION_ID = 0000
/* QUALITY DATA ELEMENTS */
DATA_QUALITY_ID = 1
DATA_QUALITY_DESC = "Data calculated based on original SPICE kernels"
/* TIME DATA ELEMENTS */
SPACECRAFT_CLOCK_START_COUNT = "1/0604349846.23960"
SPACECRAFT_CLOCK_STOP_COUNT = "1/0604350050.55104"
START_TIME = 2022-06-26T18:58:38.328Z
STOP_TIME = 2022-06-26T19:00:57.467Z
/* ORBITAL DATA ELEMENTS */
ASCENDING_NODE_LONGITUDE = 138.99
MAXIMUM_RESOLUTION = 0.054
FOOTPRINT_POINT_LATITUDE = (-84.0766,-83.9941,-83.8659,-83.7238, -83.6334,-83.6285,-83.6391,-83.4778, -83.2339,-83.0701,-82.9054,-82.7397, -82.5732,-82.3221,-82.1539,-81.985, -81.8156,-81.6456,-81.4751,-81.3042, -81.1329,-80.8753,-80.6164,-80.4433, -80.2698,-80.096,-79.9221,-79.6607, -79.4859,-79.311,-79.1359,-78.9606, -78.7851,-78.6095,-78.4337,-78.0821, -77.9057,-77.641,-77.2875,-77.1102, -76.7557,-76.49,-76.1358,-75.7812, -75.4255,-75.0705,-74.9814,-74.9662, -75.0466,-75.0866,-75.1122,-75.1495, -75.1508,-75.1521,-75.3329,-75.6924, -75.8726,-76.0528,-76.2329,-76.413, -76.5932,-76.8634,-77.1334,-77.3135, -77.4939,-77.7642,-77.9442,-78.2143, -78.3942,-78.574,-78.7546,-78.9348, -79.2033,-79.3825,-79.6523,-79.8319, -80.0114,-80.1908,-80.3701,-80.5494, -80.7286,-80.9971,-81.2648,-81.4431, -81.6215,-81.7998,-81.9779,-82.1556, -82.4219,-82.5992,-82.7762,-82.9529, -83.1295,-83.3057,-83.4816,-83.6569, -83.8312,-84.0056,-84.0927,-84.0766)
FOOTPRINT_POINT_LONGITUDE = (117.209,114.938,111.923,109.079, 107.466,107.383,107.296,108.042,109.093 ,109.751,110.378,110.977,111.548, 112.358,112.868,113.356,113.824,114.272 ,114.702,115.114,115.509,116.073, 116.607,116.945,117.272,117.586,117.889 ,118.324,118.601,118.869,119.128, 119.378,119.619,119.853,120.079,120.51, 120.716,121.013,121.388,121.568,121.912 ,122.157,122.466,122.76,123.038,123.301 ,123.365,123.376,125.115,126.112, 126.815,127.973,128.018,128.033,127.96, 127.787,127.701,127.613,127.522,127.428 ,127.332,127.182,127.023,126.915, 126.806,126.635,126.515,126.328,126.198 ,126.062,125.931,125.793,125.556, 125.394,125.153,124.984,124.807,124.625 ,124.435,124.239,124.036,123.715, 123.366,123.122,122.871,122.609,122.336 ,122.047,121.59,121.267,120.929,120.573 ,120.2,119.807,119.393,118.952,118.479, 117.985,117.729,117.209)
ORBIT_NUMBER = 23350
ORBITAL_ECCENTRICITY = 0.575
ORBITAL_INCLINATION = 87.02
ORBITAL_SEMIMAJOR_AXIS = 8755.7
PERIAPSIS_ALTITUDE = 341.89
PERIAPSIS_ARGUMENT_ANGLE = 279.63
PERIAPSIS_TIME = 2022-06-26T18:59:35.000Z
SPACECRAFT_ORIENTATION = (0.0,1.0,0.0)
^MEX_ORIENTATION_DESC = "MEX_ORIENTATION_DESC.TXT"
SPACECRAFT_POINTING_MODE = ACROSSTRACK
^MEX_POINTING_DESC = "MEX_POINTING_DESC.TXT"
RIGHT_ASCENSION = -1e+32
DECLINATION = -1e+32
OFFSET_ANGLE = -0.539
SPACECRAFT_SOLAR_DISTANCE = 2.0667e+08
TARGET_NAME = MARS
/* CAMERA DATA ELEMENTS */
DETECTOR_TEMPERATURE = 17.9627
FOCAL_PLANE_TEMPERATURE = 7.9716
INST_CMPRS_NAME = "DISCRETE COSINE TRANSFORMATION (DCT)"
INST_CMPRS_RATIO = 10.3261
INST_CMPRS_QUALITY = 0
INST_CMPRS_QUANTZ_TBL_ID = 0
INSTRUMENT_TEMPERATURE = 10.8262
LENS_TEMPERATURE = 8.5833
MACROPIXEL_SIZE = 4
MISSING_FRAMES = 0
PIXEL_SUBSAMPLING_FLAG = N
SIGNAL_CHAIN_ID = 2
/* RADIOMETRIC DATA ELEMENTS */
BANDWIDTH = 88.0
CENTER_FILTER_WAVELENGTH = 538.0
RADIANCE_OFFSET = 1.74805
RADIANCE_SCALING_FACTOR = 0.0133021
REFLECTANCE_SCALING_FACTOR = 0.000489177
MEX:REFLECTANCE_OFFSET = 0.0642833
/* IMAGE OBJECT DEFINITIONS */
OBJECT = IMAGE
  INTERCHANGE_FORMAT = BINARY
  LINES = 10825
  LINE_SAMPLES = 3775
  SAMPLE_TYPE = UNSIGNED_INTEGER
  SAMPLE_BITS = 8
  BANDS = 1
  BAND_STORAGE_TYPE = BAND_SEQUENTIAL
  MAXIMUM = 255
  MEAN = 34.9286
  MINIMUM = 1
  STANDARD_DEVIATION = 27.7878
END_OBJECT = IMAGE
/* MAP OBJECT DEFINITIONS */
OBJECT = IMAGE_MAP_PROJECTION
  ^DATA_SET_MAP_PROJECTION_CATALOG= "DSMAP.CAT"
  A_AXIS_RADIUS = 3396.0
  B_AXIS_RADIUS = 3396.0
  C_AXIS_RADIUS = 3396.0
  CENTER_LATITUDE = 0.0
  CENTER_LONGITUDE = 122.0
  COORDINATE_SYSTEM_NAME = PLANETOGRAPHIC
  COORDINATE_SYSTEM_TYPE = "BODY-FIXED ROTATING"
  EASTERNMOST_LONGITUDE = 128.033
  FIRST_STANDARD_PARALLEL = "N/A"
  LINE_FIRST_PIXEL = 1
  LINE_LAST_PIXEL = 10825
  LINE_PROJECTION_OFFSET = -88881.375
  MAP_PROJECTION_ROTATION = 0.0
  MAP_PROJECTION_TYPE = SINUSOIDAL
  MAP_RESOLUTION = 1185.42760773333
  MAP_SCALE = 0.05
  MAXIMUM_LATITUDE = -74.9662
  MINIMUM_LATITUDE = -84.09269999999999
  POSITIVE_LONGITUDE_DIRECTION = EAST
  REFERENCE_LATITUDE = "N/A"
  REFERENCE_LONGITUDE = "N/A"
  SAMPLE_FIRST_PIXEL = 1
  SAMPLE_LAST_PIXEL = 3775
  SAMPLE_PROJECTION_OFFSET = 1942.125
  SECOND_STANDARD_PARALLEL = "N/A"
  WESTERNMOST_LONGITUDE = 107.296
END_OBJECT = IMAGE_MAP_PROJECTION
END
