PDS_VERSION_ID = PDS3
/* FILE DATA ELEMENTS */
RECORD_TYPE = UNDEFINED
/* POINTERS TO DATA OBJECTS */
^IMAGE = ("HN407_0000_GR4.TIF")
/* IDENTIFICATION DATA ELEMENTS */
DATA_SET_ID = "MEX-M-HRSC-4-REFDR-MAPPROJECT-EXT8-V4.0"
DATA_SET_NAME = "MARS EXPRESS HRSC MAP PROJECTED REFDR EXTENSION8 V4.0"
DETECTOR_ID = MEX_HRSC_GREEN
EVENT_TYPE = "MARS-LOCAL-CARTOGRAPHY-Gl-Pf-La"
INSTRUMENT_HOST_ID = MEX
INSTRUMENT_HOST_NAME = "MARS EXPRESS"
INSTRUMENT_ID = HRSC
INSTRUMENT_NAME = "HIGH RESOLUTION STEREO CAMERA"
MISSION_NAME = "MARS EXPRESS"
MISSION_PHASE_NAME = ME_Phase_47
PROCESSING_LEVEL_ID = 4
PRODUCT_CREATION_TIME = 2023-01-28T22:22:56.000Z
PRODUCT_ID = "HN407_0000_GR4.TIF"
RELEASE_ID = 0004
REVISION_ID = 0000
/* QUALITY DATA ELEMENTS */
DATA_QUALITY_ID = 1
DATA_QUALITY_DESC = "Data calculated based on original SPICE kernels"
/* TIME DATA ELEMENTS */
SPACECRAFT_CLOCK_START_COUNT = "1/0605783011.63578"
SPACECRAFT_CLOCK_STOP_COUNT = "1/0605783274.30809"
START_TIME = 2022-07-13T09:04:43.710Z
STOP_TIME = 2022-07-13T09:07:01.604Z
/* ORBITAL DATA ELEMENTS */
ASCENDING_NODE_LONGITUDE = 137.98
MAXIMUM_RESOLUTION = 0.0545
FOOTPRINT_POINT_LATITUDE = (-85.1078,-84.8879,-84.6513,-84.527, -84.3163,-84.308,-84.2637,-84.1479, -83.9692,-83.8469,-83.7221,-83.5946, -83.4651,-83.2671,-83.1331,-82.9289, -82.791,-82.6513,-82.4387,-82.2234, -82.0786,-81.8596,-81.7125,-81.5642, -81.4147,-81.2642,-81.0372,-80.8852, -80.7324,-80.579,-80.4249,-80.2709, -79.9596,-79.8042,-79.4903,-79.0959, -78.7784,-78.38,-78.0599,-77.8828, -77.6911,-77.499,-77.3066,-77.114, -76.9211,-76.7279,-76.6314,-76.5911, -76.6634,-76.7483,-76.8073,-76.894, -76.9376,-76.9402,-76.9421,-77.1402, -77.3383,-77.5365,-77.7352,-78.032, -78.2296,-78.4187,-78.7494,-78.9971, -79.3267,-79.4913,-79.6557,-79.8199, -79.984,-80.1478,-80.3931,-80.5562, -80.7191,-80.8817,-81.1249,-81.2866, -81.4479,-81.6891,-81.8493,-82.0091, -82.1682,-82.3268,-82.4849,-82.7206, -82.8769,-83.1099,-83.2641,-83.4174, -83.5697,-83.7209,-83.9455,-84.0935, -84.2402,-84.3853,-84.5288,-84.6704, -84.8102,-85.0158,-85.0832,-85.1078)
FOOTPRINT_POINT_LONGITUDE = (33.9451,31.0128,28.2779,26.9826, 24.9717,24.8966,24.3582,25.6381,27.4676 ,28.6282,29.7415,30.8036,31.8265, 33.2843,34.2123,35.5381,36.3826,37.1896 ,38.3353,39.4178,40.1107,41.1068, 41.7428,42.3521,42.9345,43.4949,44.3008 ,44.8191,45.319,45.8028,46.2687,46.7316 ,47.583,48.0108,48.7895,49.704,50.3801, 51.1735,51.767,52.0791,52.41,52.7278, 53.0353,53.3344,53.6226,53.9027,54.041, 54.0969,55.0878,56.3381,57.2742,58.7791 ,59.6067,59.6584,59.6745,59.4602, 59.2386,59.0092,58.7692,58.3988,58.1412 ,57.8861,57.4181,57.0478,56.5272, 56.2541,55.9721,55.6808,55.3794,55.0679 ,54.58,54.2405,53.8885,53.5241,52.9517, 52.5526,52.1371,51.4835,51.0263,50.5503 ,50.0549,49.5387,48.9998,48.1483,47.549 ,46.5969,45.9257,45.2235,44.4869, 43.7142,42.4831,41.6104,40.6936,39.7281 ,38.7102,37.6381,36.5066,34.69,34.05, 33.9451)
ORBIT_NUMBER = 23407
ORBITAL_ECCENTRICITY = 0.575
ORBITAL_INCLINATION = 87.03
ORBITAL_SEMIMAJOR_AXIS = 8752.27
PERIAPSIS_ALTITUDE = 342.31
PERIAPSIS_ARGUMENT_ANGLE = 270.07
PERIAPSIS_TIME = 2022-07-13T09:03:44.000Z
SPACECRAFT_ORIENTATION = (0.0,1.0,0.0)
^MEX_ORIENTATION_DESC = "MEX_ORIENTATION_DESC.TXT"
SPACECRAFT_POINTING_MODE = ACROSSTRACK
^MEX_POINTING_DESC = "MEX_POINTING_DESC.TXT"
RIGHT_ASCENSION = -1e+32
DECLINATION = -1e+32
OFFSET_ANGLE = 0.75
SPACECRAFT_SOLAR_DISTANCE = 2.07154e+08
TARGET_NAME = MARS
/* CAMERA DATA ELEMENTS */
DETECTOR_TEMPERATURE = 0.0
FOCAL_PLANE_TEMPERATURE = 0.0
INST_CMPRS_NAME = "DISCRETE COSINE TRANSFORMATION (DCT)"
INST_CMPRS_RATIO = 11.8803
INST_CMPRS_QUALITY = 0
INST_CMPRS_QUANTZ_TBL_ID = 0
INSTRUMENT_TEMPERATURE = 0.0
LENS_TEMPERATURE = 0.0
MACROPIXEL_SIZE = 4
MISSING_FRAMES = 0
PIXEL_SUBSAMPLING_FLAG = N
SIGNAL_CHAIN_ID = 2
/* RADIOMETRIC DATA ELEMENTS */
BANDWIDTH = 88.0
CENTER_FILTER_WAVELENGTH = 538.0
RADIANCE_OFFSET = 2.21458
RADIANCE_SCALING_FACTOR = 0.0122405
REFLECTANCE_SCALING_FACTOR = 0.000452249
MEX:REFLECTANCE_OFFSET = 0.0818218
/* IMAGE OBJECT DEFINITIONS */
OBJECT = IMAGE
  INTERCHANGE_FORMAT = BINARY
  LINES = 10597
  LINE_SAMPLES = 5989
  SAMPLE_TYPE = UNSIGNED_INTEGER
  SAMPLE_BITS = 8
  BANDS = 1
  BAND_STORAGE_TYPE = BAND_SEQUENTIAL
  MAXIMUM = 255
  MEAN = 112.746
  MINIMUM = 1
  STANDARD_DEVIATION = 94.1805
END_OBJECT = IMAGE
/* MAP OBJECT DEFINITIONS */
OBJECT = IMAGE_MAP_PROJECTION
  ^DATA_SET_MAP_PROJECTION_CATALOG= "DSMAP.CAT"
  A_AXIS_RADIUS = 3396.0
  B_AXIS_RADIUS = 3396.0
  C_AXIS_RADIUS = 3396.0
  CENTER_LATITUDE = 0.0
  CENTER_LONGITUDE = 49.0
  COORDINATE_SYSTEM_NAME = PLANETOGRAPHIC
  COORDINATE_SYSTEM_TYPE = "BODY-FIXED ROTATING"
  EASTERNMOST_LONGITUDE = 59.6745
  FIRST_STANDARD_PARALLEL = "N/A"
  LINE_FIRST_PIXEL = 1
  LINE_LAST_PIXEL = 10597
  LINE_PROJECTION_OFFSET = -90314.125
  MAP_PROJECTION_ROTATION = 0.0
  MAP_PROJECTION_TYPE = SINUSOIDAL
  MAP_RESOLUTION = 1185.42760773333
  MAP_SCALE = 0.05
  MAXIMUM_LATITUDE = -76.5911
  MINIMUM_LATITUDE = -85.1078
  POSITIVE_LONGITUDE_DIRECTION = EAST
  REFERENCE_LATITUDE = "N/A"
  REFERENCE_LONGITUDE = "N/A"
  SAMPLE_FIRST_PIXEL = 1
  SAMPLE_LAST_PIXEL = 5989
  SAMPLE_PROJECTION_OFFSET = 2931.625
  SECOND_STANDARD_PARALLEL = "N/A"
  WESTERNMOST_LONGITUDE = 24.3582
END_OBJECT = IMAGE_MAP_PROJECTION
END
