PDS_VERSION_ID = PDS3
/* FILE DATA ELEMENTS */
RECORD_TYPE = UNDEFINED
/* POINTERS TO DATA OBJECTS */
^IMAGE = ("HN407_0000_S24.TIF")
/* IDENTIFICATION DATA ELEMENTS */
DATA_SET_ID = "MEX-M-HRSC-4-REFDR-MAPPROJECT-EXT8-V4.0"
DATA_SET_NAME = "MARS EXPRESS HRSC MAP PROJECTED REFDR EXTENSION8 V4.0"
DETECTOR_ID = MEX_HRSC_S2
EVENT_TYPE = "MARS-LOCAL-CARTOGRAPHY-Gl-Pf-La"
INSTRUMENT_HOST_ID = MEX
INSTRUMENT_HOST_NAME = "MARS EXPRESS"
INSTRUMENT_ID = HRSC
INSTRUMENT_NAME = "HIGH RESOLUTION STEREO CAMERA"
MISSION_NAME = "MARS EXPRESS"
MISSION_PHASE_NAME = ME_Phase_47
PROCESSING_LEVEL_ID = 4
PRODUCT_CREATION_TIME = 2023-01-28T22:22:56.000Z
PRODUCT_ID = "HN407_0000_S24.TIF"
RELEASE_ID = 0004
REVISION_ID = 0000
/* QUALITY DATA ELEMENTS */
DATA_QUALITY_ID = 1
DATA_QUALITY_DESC = "Data calculated based on original SPICE kernels"
/* TIME DATA ELEMENTS */
SPACECRAFT_CLOCK_START_COUNT = "1/0605783011.63578"
SPACECRAFT_CLOCK_STOP_COUNT = "1/0605783274.30809"
START_TIME = 2022-07-13T09:04:07.000Z
STOP_TIME = 2022-07-13T09:07:01.870Z
/* ORBITAL DATA ELEMENTS */
ASCENDING_NODE_LONGITUDE = 137.98
MAXIMUM_RESOLUTION = 0.0289
FOOTPRINT_POINT_LATITUDE = (-85.2568,-85.0033,-84.7322,-84.3881, -84.3787,-84.2585,-84.0325,-83.7972, -83.5503,-83.3817,-83.1234,-82.948, -82.7709,-82.5892,-82.4027,-82.122, -81.7454,-81.5534,-81.3579,-81.1586, -80.9616,-80.7629,-80.5628,-80.2626, -79.956,-79.654,-79.4484,-79.2429, -79.036,-78.8268,-78.6171,-78.4073, -78.1962,-77.8786,-77.5613,-77.3483, -77.0284,-76.8146,-76.6011,-76.3871, -76.1726,-75.852,-75.6362,-75.3945, -75.1366,-74.8788,-74.6198,-74.2251, -74.0951,-74.0598,-74.1876,-74.2561, -74.3582,-74.4292,-74.4322,-74.4337, -74.6991,-74.9655,-75.2297,-75.6259, -76.0097,-76.2303,-76.4507,-76.7808, -77.1114,-77.3311,-77.5495,-77.8708, -78.1983,-78.4166,-78.7435,-79.0689, -79.2863,-79.5025,-79.7185,-80.041, -80.2554,-80.4689,-80.6819,-80.8947, -81.1066,-81.3186,-81.5282,-81.8422, -82.1543,-82.3611,-82.5661,-82.7714, -82.9742,-83.2749,-83.4742,-83.6709, -83.9634,-84.1553,-84.4384,-84.7147, -84.8939,-85.069,-85.1545,-85.2568)
FOOTPRINT_POINT_LONGITUDE = (32.4315,29.5281,26.8668,23.9939, 23.9222,24.2407,26.6834,28.9418,31.0351 ,32.3417,34.1784,35.3267,36.4179, 37.4568,38.4457,39.8399,41.5494,42.3457 ,43.1054,43.8298,44.5236,45.1871,45.822 ,46.7259,47.5713,48.3712,48.8756,49.361 ,49.8272,50.2742,50.7044,51.1191, 51.5179,52.0893,52.632,52.9772,53.4734, 53.7902,54.0972,54.3939,54.681,55.0963, 55.3605,55.6449,55.9395,56.2239,56.4971 ,56.8829,57.0088,57.0426,58.5242, 59.3571,60.6949,61.7507,61.7965,61.8127 ,61.6147,61.4089,61.1965,60.8626, 60.5199,60.3139,60.101,59.768,59.4168, 59.1725,58.9204,58.5296,58.1109,57.818, 57.3571,56.8689,56.5256,56.1688,55.7965 ,55.2083,54.7943,54.3619,53.9094, 53.4349,52.9378,52.4149,51.8687,50.994, 50.0486,49.3751,48.6659,47.9117,47.1172 ,45.8379,44.9165,43.9398,42.3509, 41.2046,39.3374,37.274,35.7802,34.1825, 33.3447,32.4315)
ORBIT_NUMBER = 23407
ORBITAL_ECCENTRICITY = 0.575
ORBITAL_INCLINATION = 87.03
ORBITAL_SEMIMAJOR_AXIS = 8752.27
PERIAPSIS_ALTITUDE = 342.31
PERIAPSIS_ARGUMENT_ANGLE = 270.07
PERIAPSIS_TIME = 2022-07-13T09:03:44.000Z
SPACECRAFT_ORIENTATION = (0.0,1.0,0.0)
^MEX_ORIENTATION_DESC = "MEX_ORIENTATION_DESC.TXT"
SPACECRAFT_POINTING_MODE = ACROSSTRACK
^MEX_POINTING_DESC = "MEX_POINTING_DESC.TXT"
RIGHT_ASCENSION = -1e+32
DECLINATION = -1e+32
OFFSET_ANGLE = 0.75
SPACECRAFT_SOLAR_DISTANCE = 2.07154e+08
TARGET_NAME = MARS
/* CAMERA DATA ELEMENTS */
DETECTOR_TEMPERATURE = 0.0
FOCAL_PLANE_TEMPERATURE = 0.0
INST_CMPRS_NAME = "DISCRETE COSINE TRANSFORMATION (DCT)"
INST_CMPRS_RATIO = 11.8368
INST_CMPRS_QUALITY = 0
INST_CMPRS_QUANTZ_TBL_ID = 0
INSTRUMENT_TEMPERATURE = 0.0
LENS_TEMPERATURE = 0.0
MACROPIXEL_SIZE = 2
MISSING_FRAMES = 0
PIXEL_SUBSAMPLING_FLAG = N
SIGNAL_CHAIN_ID = 1
/* RADIOMETRIC DATA ELEMENTS */
BANDWIDTH = 178.0
CENTER_FILTER_WAVELENGTH = 679.0
RADIANCE_OFFSET = 7.31491
RADIANCE_SCALING_FACTOR = 0.0422383
REFLECTANCE_SCALING_FACTOR = 0.000959897
MEX:REFLECTANCE_OFFSET = 0.166237
/* IMAGE OBJECT DEFINITIONS */
OBJECT = IMAGE
  INTERCHANGE_FORMAT = BINARY
  LINES = 21193
  LINE_SAMPLES = 11978
  SAMPLE_TYPE = UNSIGNED_INTEGER
  SAMPLE_BITS = 8
  BANDS = 1
  BAND_STORAGE_TYPE = BAND_SEQUENTIAL
  MAXIMUM = 255
  MEAN = 96.6109
  MINIMUM = 12
  STANDARD_DEVIATION = 83.0811
END_OBJECT = IMAGE
/* MAP OBJECT DEFINITIONS */
OBJECT = IMAGE_MAP_PROJECTION
  ^DATA_SET_MAP_PROJECTION_CATALOG= "DSMAP.CAT"
  A_AXIS_RADIUS = 3396.0
  B_AXIS_RADIUS = 3396.0
  C_AXIS_RADIUS = 3396.0
  CENTER_LATITUDE = 0.0
  CENTER_LONGITUDE = 49.0
  COORDINATE_SYSTEM_NAME = PLANETOGRAPHIC
  COORDINATE_SYSTEM_TYPE = "BODY-FIXED ROTATING"
  EASTERNMOST_LONGITUDE = 61.8127
  FIRST_STANDARD_PARALLEL = "N/A"
  LINE_FIRST_PIXEL = 1
  LINE_LAST_PIXEL = 21193
  LINE_PROJECTION_OFFSET = -180627.75
  MAP_PROJECTION_ROTATION = 0.0
  MAP_PROJECTION_TYPE = SINUSOIDAL
  MAP_RESOLUTION = 2370.85521546667
  MAP_SCALE = 0.025
  MAXIMUM_LATITUDE = -74.0598
  MINIMUM_LATITUDE = -85.2568
  POSITIVE_LONGITUDE_DIRECTION = EAST
  REFERENCE_LATITUDE = "N/A"
  REFERENCE_LONGITUDE = "N/A"
  SAMPLE_FIRST_PIXEL = 1
  SAMPLE_LAST_PIXEL = 11978
  SAMPLE_PROJECTION_OFFSET = 5863.75
  SECOND_STANDARD_PARALLEL = "N/A"
  WESTERNMOST_LONGITUDE = 23.9222
END_OBJECT = IMAGE_MAP_PROJECTION
END
