PDS_VERSION_ID = PDS3
/* FILE DATA ELEMENTS */
RECORD_TYPE = UNDEFINED
/* POINTERS TO DATA OBJECTS */
^IMAGE = ("HN418_0000_ND4.TIF")
/* IDENTIFICATION DATA ELEMENTS */
DATA_SET_ID = "MEX-M-HRSC-4-REFDR-MAPPROJECT-EXT8-V4.0"
DATA_SET_NAME = "MARS EXPRESS HRSC MAP PROJECTED REFDR EXTENSION8 V4.0"
DETECTOR_ID = MEX_HRSC_NADIR
EVENT_TYPE = "MARS-REGIONAL-MAPPING-Gl-Pf-La"
INSTRUMENT_HOST_ID = MEX
INSTRUMENT_HOST_NAME = "MARS EXPRESS"
INSTRUMENT_ID = HRSC
INSTRUMENT_NAME = "HIGH RESOLUTION STEREO CAMERA"
MISSION_NAME = "MARS EXPRESS"
MISSION_PHASE_NAME = ME_Phase_47
PROCESSING_LEVEL_ID = 4
PRODUCT_CREATION_TIME = 2023-01-28T22:22:56.000Z
PRODUCT_ID = "HN418_0000_ND4.TIF"
RELEASE_ID = 0004
REVISION_ID = 0000
/* QUALITY DATA ELEMENTS */
DATA_QUALITY_ID = 1
DATA_QUALITY_DESC = "Data calculated based on original SPICE kernels"
/* TIME DATA ELEMENTS */
SPACECRAFT_CLOCK_START_COUNT = "1/0606059627.25691"
SPACECRAFT_CLOCK_STOP_COUNT = "1/0606059904.07234"
START_TIME = 2022-07-16T13:54:54.203Z
STOP_TIME = 2022-07-16T13:58:14.212Z
/* ORBITAL DATA ELEMENTS */
ASCENDING_NODE_LONGITUDE = 137.8
MAXIMUM_RESOLUTION = 0.0126
FOOTPRINT_POINT_LATITUDE = (-83.578,-83.4248,-83.2777,-83.0253, -83.0189,-82.9904,-82.5062,-82.1103, -81.7083,-81.3014,-80.8898,-80.4752, -80.0571,-79.7418,-79.3844,-79.131, -78.8776,-78.6234,-78.3687,-78.1136, -77.8583,-77.6029,-77.2176,-76.9607, -76.7035,-76.4459,-76.1883,-75.9307, -75.6728,-75.4148,-75.1567,-74.8985, -74.6404,-74.3819,-74.1239,-73.8656, -73.6074,-73.3492,-73.0867,-72.8217, -72.5568,-72.2919,-72.0272,-71.7561, -71.349,-71.0778,-70.9423,-70.9295, -71.0243,-71.0793,-71.1124,-71.1567, -71.1584,-71.1594,-71.4335,-71.7077, -71.9822,-72.2568,-72.5247,-72.7928, -73.0611,-73.3296,-73.596,-73.8578, -74.1197,-74.3818,-74.644,-74.9063, -75.1687,-75.4312,-75.6939,-75.9565, -76.2193,-76.482,-76.7449,-77.0077, -77.2705,-77.5333,-77.796,-78.0587, -78.3213,-78.5837,-78.846,-79.1082, -79.3701,-79.6318,-79.8932,-80.1359, -80.5726,-81.008,-81.4419,-81.874, -82.3036,-82.5175,-82.7306,-82.9428, -83.154,-83.4689,-83.5732,-83.578)
FOOTPRINT_POINT_LONGITUDE = (365.893,363.047,360.663,357.138, 357.057,356.724,359.093,360.765,362.272 ,363.635,364.867,365.996,367.022, 367.734,368.498,368.99,369.466,369.918, 370.348,370.76,371.157,371.54,372.066, 372.402,372.722,373.029,373.325,373.61, 373.883,374.145,374.399,374.642,374.876 ,375.099,375.32,375.529,375.731,375.927 ,376.119,376.306,376.486,376.661, 376.829,376.996,377.235,377.388,377.463 ,377.47,379.086,380.165,380.886,381.966 ,382.012,382.033,381.92,381.803,381.681 ,381.556,381.43,381.299,381.164,381.025 ,380.881,380.735,380.584,380.427, 380.265,380.096,379.921,379.739,379.551 ,379.356,379.154,378.938,378.717, 378.489,378.247,377.996,377.735,377.461 ,377.174,376.872,376.555,376.224, 375.876,375.509,375.123,374.745,374.013 ,373.207,372.319,371.338,370.24,369.647 ,369.017,368.348,367.636,366.482,366.07 ,365.893)
ORBIT_NUMBER = 23418
ORBITAL_ECCENTRICITY = 0.575
ORBITAL_INCLINATION = 87.02
ORBITAL_SEMIMAJOR_AXIS = 8753.0
PERIAPSIS_ALTITUDE = 343.51
PERIAPSIS_ARGUMENT_ANGLE = 268.2
PERIAPSIS_TIME = 2022-07-16T13:52:58.000Z
SPACECRAFT_ORIENTATION = (0.0,1.0,0.0)
^MEX_ORIENTATION_DESC = "MEX_ORIENTATION_DESC.TXT"
SPACECRAFT_POINTING_MODE = ACROSSTRACK
^MEX_POINTING_DESC = "MEX_POINTING_DESC.TXT"
RIGHT_ASCENSION = -1e+32
DECLINATION = -1e+32
OFFSET_ANGLE = 0.269
SPACECRAFT_SOLAR_DISTANCE = 2.07315e+08
TARGET_NAME = MARS
/* CAMERA DATA ELEMENTS */
DETECTOR_TEMPERATURE = 18.1666
FOCAL_PLANE_TEMPERATURE = 7.5638
INST_CMPRS_NAME = "DISCRETE COSINE TRANSFORMATION (DCT)"
INST_CMPRS_RATIO = 9.11775
INST_CMPRS_QUALITY = 0
INST_CMPRS_QUANTZ_TBL_ID = 0
INSTRUMENT_TEMPERATURE = 11.0301
LENS_TEMPERATURE = 8.7872
MACROPIXEL_SIZE = 1
MISSING_FRAMES = 0
PIXEL_SUBSAMPLING_FLAG = N
SIGNAL_CHAIN_ID = 0
/* RADIOMETRIC DATA ELEMENTS */
BANDWIDTH = 177.0
CENTER_FILTER_WAVELENGTH = 677.5
RADIANCE_OFFSET = 6.04274
RADIANCE_SCALING_FACTOR = 0.0492346
REFLECTANCE_SCALING_FACTOR = 0.00112413
MEX:REFLECTANCE_OFFSET = 0.137968
/* IMAGE OBJECT DEFINITIONS */
OBJECT = IMAGE
  INTERCHANGE_FORMAT = BINARY
  LINES = 59999
  LINE_SAMPLES = 21348
  SAMPLE_TYPE = UNSIGNED_INTEGER
  SAMPLE_BITS = 8
  BANDS = 1
  BAND_STORAGE_TYPE = BAND_SEQUENTIAL
  MAXIMUM = 255
  MEAN = 131.503
  MINIMUM = 1
  STANDARD_DEVIATION = 89.466
END_OBJECT = IMAGE
/* MAP OBJECT DEFINITIONS */
OBJECT = IMAGE_MAP_PROJECTION
  ^DATA_SET_MAP_PROJECTION_CATALOG= "DSMAP.CAT"
  A_AXIS_RADIUS = 3396.0
  B_AXIS_RADIUS = 3396.0
  C_AXIS_RADIUS = 3396.0
  CENTER_LATITUDE = 0.0
  CENTER_LONGITUDE = 15.0
  COORDINATE_SYSTEM_NAME = PLANETOGRAPHIC
  COORDINATE_SYSTEM_TYPE = "BODY-FIXED ROTATING"
  EASTERNMOST_LONGITUDE = 22.033
  FIRST_STANDARD_PARALLEL = "N/A"
  LINE_FIRST_PIXEL = 1
  LINE_LAST_PIXEL = 59999
  LINE_PROJECTION_OFFSET = -336329.0
  MAP_PROJECTION_ROTATION = 0.0
  MAP_PROJECTION_TYPE = SINUSOIDAL
  MAP_RESOLUTION = 4741.71043093333
  MAP_SCALE = 0.0125
  MAXIMUM_LATITUDE = -70.9295
  MINIMUM_LATITUDE = -83.578
  POSITIVE_LONGITUDE_DIRECTION = EAST
  REFERENCE_LATITUDE = "N/A"
  REFERENCE_LONGITUDE = "N/A"
  SAMPLE_FIRST_PIXEL = 1
  SAMPLE_LAST_PIXEL = 21348
  SAMPLE_PROJECTION_OFFSET = 10576.0
  SECOND_STANDARD_PARALLEL = "N/A"
  WESTERNMOST_LONGITUDE = -3.276
END_OBJECT = IMAGE_MAP_PROJECTION
END
