PDS_VERSION_ID = PDS3
/* FILE DATA ELEMENTS */
RECORD_TYPE = UNDEFINED
/* POINTERS TO DATA OBJECTS */
^IMAGE = ("HN418_0000_P14.TIF")
/* IDENTIFICATION DATA ELEMENTS */
DATA_SET_ID = "MEX-M-HRSC-4-REFDR-MAPPROJECT-EXT8-V4.0"
DATA_SET_NAME = "MARS EXPRESS HRSC MAP PROJECTED REFDR EXTENSION8 V4.0"
DETECTOR_ID = MEX_HRSC_P1
EVENT_TYPE = "MARS-REGIONAL-MAPPING-Gl-Pf-La"
INSTRUMENT_HOST_ID = MEX
INSTRUMENT_HOST_NAME = "MARS EXPRESS"
INSTRUMENT_ID = HRSC
INSTRUMENT_NAME = "HIGH RESOLUTION STEREO CAMERA"
MISSION_NAME = "MARS EXPRESS"
MISSION_PHASE_NAME = ME_Phase_47
PROCESSING_LEVEL_ID = 4
PRODUCT_CREATION_TIME = 2023-01-28T22:22:56.000Z
PRODUCT_ID = "HN418_0000_P14.TIF"
RELEASE_ID = 0004
REVISION_ID = 0000
/* QUALITY DATA ELEMENTS */
DATA_QUALITY_ID = 1
DATA_QUALITY_DESC = "Data calculated based on original SPICE kernels"
/* TIME DATA ELEMENTS */
SPACECRAFT_CLOCK_START_COUNT = "1/0606059627.25691"
SPACECRAFT_CLOCK_STOP_COUNT = "1/0606059904.07234"
START_TIME = 2022-07-16T13:55:15.577Z
STOP_TIME = 2022-07-16T13:58:41.733Z
/* ORBITAL DATA ELEMENTS */
ASCENDING_NODE_LONGITUDE = 137.8
MAXIMUM_RESOLUTION = 0.0293
FOOTPRINT_POINT_LATITUDE = (-83.5005,-83.2828,-83.1077,-82.9596, -82.9535,-82.9818,-82.6016,-82.2156, -81.7244,-81.3268,-81.0264,-80.802, -80.5602,-80.1957,-79.9523,-79.5847, -79.3371,-78.9695,-78.7222,-78.4753, -78.2279,-77.8549,-77.6046,-77.3581, -77.1098,-76.7374,-76.3651,-76.1164, -75.7434,-75.3706,-75.1218,-74.8733, -74.6204,-74.2397,-73.8555,-73.6009, -73.3402,-73.0791,-72.8183,-72.5577, -72.2933,-72.0266,-71.7601,-71.4941, -71.0881,-70.9522,-70.9265,-70.9679, -71.0201,-71.0608,-71.1173,-71.1419, -71.1434,-71.1445,-71.4195,-71.693, -71.9621,-72.2317,-72.5017,-72.7699, -73.034,-73.4307,-73.6952,-73.9571, -74.2157,-74.4747,-74.862,-75.1194, -75.3719,-75.6256,-76.0069,-76.2616, -76.513,-76.766,-77.0225,-77.276, -77.5295,-77.7847,-78.0403,-78.2948, -78.6759,-78.9302,-79.3124,-79.5664, -79.8209,-80.0751,-80.4556,-80.7092, -80.9612,-81.2153,-81.4532,-81.8773, -82.1927,-82.4035,-82.6133,-82.8232, -83.2374,-83.4443,-83.5462,-83.5005)
FOOTPRINT_POINT_LONGITUDE = (366.305,362.227,359.47,357.397,357.316 ,356.705,358.591,360.27,362.151,363.49, 364.409,365.052,365.708,366.629,367.199 ,368.009,368.529,369.229,369.679, 370.104,370.511,371.095,371.471,371.808 ,372.141,372.613,373.055,373.337,373.74 ,374.119,374.362,374.594,374.823, 375.146,375.465,375.664,375.86,376.051, 376.234,376.411,376.585,376.754,376.918 ,377.075,377.306,377.38,377.394,378.126 ,379.136,380.009,381.388,382.078, 382.124,382.14,382.026,381.909,381.79, 381.667,381.54,381.409,381.276,381.068, 380.924,380.775,380.624,380.467,380.22, 380.05,379.876,379.696,379.413,379.216, 379.008,378.793,378.571,378.338,378.094 ,377.841,377.576,377.299,376.858, 376.547,376.051,375.699,375.329,374.939 ,374.314,373.868,373.396,372.896, 372.394,371.431,370.639,370.073,369.474 ,368.838,367.45,366.687,366.289, 366.305)
ORBIT_NUMBER = 23418
ORBITAL_ECCENTRICITY = 0.575
ORBITAL_INCLINATION = 87.02
ORBITAL_SEMIMAJOR_AXIS = 8753.0
PERIAPSIS_ALTITUDE = 343.51
PERIAPSIS_ARGUMENT_ANGLE = 268.2
PERIAPSIS_TIME = 2022-07-16T13:52:58.000Z
SPACECRAFT_ORIENTATION = (0.0,1.0,0.0)
^MEX_ORIENTATION_DESC = "MEX_ORIENTATION_DESC.TXT"
SPACECRAFT_POINTING_MODE = ACROSSTRACK
^MEX_POINTING_DESC = "MEX_POINTING_DESC.TXT"
RIGHT_ASCENSION = -1e+32
DECLINATION = -1e+32
OFFSET_ANGLE = 0.269
SPACECRAFT_SOLAR_DISTANCE = 2.07315e+08
TARGET_NAME = MARS
/* CAMERA DATA ELEMENTS */
DETECTOR_TEMPERATURE = 16.9432
FOCAL_PLANE_TEMPERATURE = 7.5638
INST_CMPRS_NAME = "DISCRETE COSINE TRANSFORMATION (DCT)"
INST_CMPRS_RATIO = 16.6538
INST_CMPRS_QUALITY = 0
INST_CMPRS_QUANTZ_TBL_ID = 0
INSTRUMENT_TEMPERATURE = 11.0301
LENS_TEMPERATURE = 8.7872
MACROPIXEL_SIZE = 2
MISSING_FRAMES = 0
PIXEL_SUBSAMPLING_FLAG = N
SIGNAL_CHAIN_ID = 3
/* RADIOMETRIC DATA ELEMENTS */
BANDWIDTH = 174.0
CENTER_FILTER_WAVELENGTH = 675.0
RADIANCE_OFFSET = 6.59618
RADIANCE_SCALING_FACTOR = 0.0344264
REFLECTANCE_SCALING_FACTOR = 0.000795868
MEX:REFLECTANCE_OFFSET = 0.15249
/* IMAGE OBJECT DEFINITIONS */
OBJECT = IMAGE
  INTERCHANGE_FORMAT = BINARY
  LINES = 30000
  LINE_SAMPLES = 10674
  SAMPLE_TYPE = UNSIGNED_INTEGER
  SAMPLE_BITS = 8
  BANDS = 1
  BAND_STORAGE_TYPE = BAND_SEQUENTIAL
  MAXIMUM = 255
  MEAN = 136.635
  MINIMUM = 1
  STANDARD_DEVIATION = 82.5428
END_OBJECT = IMAGE
/* MAP OBJECT DEFINITIONS */
OBJECT = IMAGE_MAP_PROJECTION
  ^DATA_SET_MAP_PROJECTION_CATALOG= "DSMAP.CAT"
  A_AXIS_RADIUS = 3396.0
  B_AXIS_RADIUS = 3396.0
  C_AXIS_RADIUS = 3396.0
  CENTER_LATITUDE = 0.0
  CENTER_LONGITUDE = 15.0
  COORDINATE_SYSTEM_NAME = PLANETOGRAPHIC
  COORDINATE_SYSTEM_TYPE = "BODY-FIXED ROTATING"
  EASTERNMOST_LONGITUDE = 22.14
  FIRST_STANDARD_PARALLEL = "N/A"
  LINE_FIRST_PIXEL = 1
  LINE_LAST_PIXEL = 30000
  LINE_PROJECTION_OFFSET = -168164.75
  MAP_PROJECTION_ROTATION = 0.0
  MAP_PROJECTION_TYPE = SINUSOIDAL
  MAP_RESOLUTION = 2370.85521546667
  MAP_SCALE = 0.025
  MAXIMUM_LATITUDE = -70.9265
  MINIMUM_LATITUDE = -83.5462
  POSITIVE_LONGITUDE_DIRECTION = EAST
  REFERENCE_LATITUDE = "N/A"
  REFERENCE_LONGITUDE = "N/A"
  SAMPLE_FIRST_PIXEL = 1
  SAMPLE_LAST_PIXEL = 10674
  SAMPLE_PROJECTION_OFFSET = 5287.75
  SECOND_STANDARD_PARALLEL = "N/A"
  WESTERNMOST_LONGITUDE = -3.295
END_OBJECT = IMAGE_MAP_PROJECTION
END
