PDS_VERSION_ID = PDS3
/* FILE DATA ELEMENTS */
RECORD_TYPE = UNDEFINED
/* POINTERS TO DATA OBJECTS */
^IMAGE = ("HN418_0000_RE4.TIF")
/* IDENTIFICATION DATA ELEMENTS */
DATA_SET_ID = "MEX-M-HRSC-4-REFDR-MAPPROJECT-EXT8-V4.0"
DATA_SET_NAME = "MARS EXPRESS HRSC MAP PROJECTED REFDR EXTENSION8 V4.0"
DETECTOR_ID = MEX_HRSC_RED
EVENT_TYPE = "MARS-REGIONAL-MAPPING-Gl-Pf-La"
INSTRUMENT_HOST_ID = MEX
INSTRUMENT_HOST_NAME = "MARS EXPRESS"
INSTRUMENT_ID = HRSC
INSTRUMENT_NAME = "HIGH RESOLUTION STEREO CAMERA"
MISSION_NAME = "MARS EXPRESS"
MISSION_PHASE_NAME = ME_Phase_47
PROCESSING_LEVEL_ID = 4
PRODUCT_CREATION_TIME = 2023-01-28T22:22:56.000Z
PRODUCT_ID = "HN418_0000_RE4.TIF"
RELEASE_ID = 0004
REVISION_ID = 0000
/* QUALITY DATA ELEMENTS */
DATA_QUALITY_ID = 1
DATA_QUALITY_DESC = "Data calculated based on original SPICE kernels"
/* TIME DATA ELEMENTS */
SPACECRAFT_CLOCK_START_COUNT = "1/0606059627.25691"
SPACECRAFT_CLOCK_STOP_COUNT = "1/0606059904.07234"
START_TIME = 2022-07-16T13:54:27.849Z
STOP_TIME = 2022-07-16T13:57:42.224Z
/* ORBITAL DATA ELEMENTS */
ASCENDING_NODE_LONGITUDE = 137.8
MAXIMUM_RESOLUTION = 0.0523
FOOTPRINT_POINT_LATITUDE = (-83.6873,-83.4211,-83.2398,-83.1126, -83.1064,-83.0084,-82.8127,-82.6173, -82.3168,-82.0127,-81.7051,-81.4983, -81.1848,-80.974,-80.6567,-80.444, -80.1232,-79.9079,-79.4789,-79.2605, -79.0422,-78.8245,-78.6053,-78.2755, -78.056,-77.8143,-77.4186,-77.1518, -76.7523,-76.4849,-76.2181,-75.9514, -75.5506,-75.2825,-75.0145,-74.746, -74.3408,-73.9403,-73.6712,-73.2677, -72.9986,-72.7291,-72.46,-72.1907, -71.7866,-71.3822,-71.1073,-70.9687, -70.9334,-70.9828,-71.0699,-71.1181, -71.1778,-71.1795,-71.1811,-71.5998, -71.8724,-72.2812,-72.5537,-72.8263, -73.0989,-73.3713,-73.7806,-74.0533, -74.4617,-74.7353,-75.1456,-75.4187, -75.6901,-75.9625,-76.2321,-76.5075, -76.7797,-77.1866,-77.4582,-77.7285, -77.9983,-78.3907,-78.6182,-78.8451, -79.0709,-79.409,-79.6348,-79.8596, -80.0843,-80.4204,-80.6442,-80.9808, -81.3136,-81.534,-81.8634,-82.084, -82.3019,-82.5188,-82.7341,-82.9494, -83.1644,-83.4832,-83.5901,-83.6873)
FOOTPRINT_POINT_LONGITUDE = (365.393,360.892,358.339,356.726, 356.651,356.718,357.722,358.671,360.003 ,361.233,362.37,363.081,364.084,364.713 ,365.602,366.16,366.952,367.451,368.387 ,368.824,369.244,369.647,370.034, 370.585,370.936,371.311,371.881,372.239 ,372.748,373.069,373.378,373.674, 374.097,374.364,374.622,374.869,375.221 ,375.558,375.771,376.077,376.272,376.46 ,376.642,376.817,377.069,377.309, 377.465,377.542,377.561,378.293,379.723 ,380.624,381.895,381.936,381.949, 381.775,381.656,381.471,381.343,381.21, 381.073,380.931,380.708,380.552,380.309 ,380.138,379.868,379.679,379.486, 379.283,379.077,378.851,378.621,378.259 ,378.004,377.738,377.461,377.032, 376.768,376.494,376.21,375.761,375.443, 375.113,374.766,374.217,373.827,373.2, 372.533,372.062,371.306,370.759,370.19, 369.587,368.952,368.272,367.546,366.374 ,365.95,365.393)
ORBIT_NUMBER = 23418
ORBITAL_ECCENTRICITY = 0.575
ORBITAL_INCLINATION = 87.02
ORBITAL_SEMIMAJOR_AXIS = 8753.0
PERIAPSIS_ALTITUDE = 343.51
PERIAPSIS_ARGUMENT_ANGLE = 268.2
PERIAPSIS_TIME = 2022-07-16T13:52:58.000Z
SPACECRAFT_ORIENTATION = (0.0,1.0,0.0)
^MEX_ORIENTATION_DESC = "MEX_ORIENTATION_DESC.TXT"
SPACECRAFT_POINTING_MODE = ACROSSTRACK
^MEX_POINTING_DESC = "MEX_POINTING_DESC.TXT"
RIGHT_ASCENSION = -1e+32
DECLINATION = -1e+32
OFFSET_ANGLE = 0.269
SPACECRAFT_SOLAR_DISTANCE = 2.07315e+08
TARGET_NAME = MARS
/* CAMERA DATA ELEMENTS */
DETECTOR_TEMPERATURE = 18.3705
FOCAL_PLANE_TEMPERATURE = 7.5638
INST_CMPRS_NAME = "DISCRETE COSINE TRANSFORMATION (DCT)"
INST_CMPRS_RATIO = 17.2864
INST_CMPRS_QUALITY = 0
INST_CMPRS_QUANTZ_TBL_ID = 0
INSTRUMENT_TEMPERATURE = 11.0301
LENS_TEMPERATURE = 8.7872
MACROPIXEL_SIZE = 4
MISSING_FRAMES = 0
PIXEL_SUBSAMPLING_FLAG = N
SIGNAL_CHAIN_ID = 2
/* RADIOMETRIC DATA ELEMENTS */
BANDWIDTH = 48.0
CENTER_FILTER_WAVELENGTH = 748.0
RADIANCE_OFFSET = 1.88059
RADIANCE_SCALING_FACTOR = 0.0130332
REFLECTANCE_SCALING_FACTOR = 0.00127832
MEX:REFLECTANCE_OFFSET = 0.184452
/* IMAGE OBJECT DEFINITIONS */
OBJECT = IMAGE
  INTERCHANGE_FORMAT = BINARY
  LINES = 15000
  LINE_SAMPLES = 5337
  SAMPLE_TYPE = UNSIGNED_INTEGER
  SAMPLE_BITS = 8
  BANDS = 1
  BAND_STORAGE_TYPE = BAND_SEQUENTIAL
  MAXIMUM = 255
  MEAN = 136.835
  MINIMUM = 1
  STANDARD_DEVIATION = 94.1484
END_OBJECT = IMAGE
/* MAP OBJECT DEFINITIONS */
OBJECT = IMAGE_MAP_PROJECTION
  ^DATA_SET_MAP_PROJECTION_CATALOG= "DSMAP.CAT"
  A_AXIS_RADIUS = 3396.0
  B_AXIS_RADIUS = 3396.0
  C_AXIS_RADIUS = 3396.0
  CENTER_LATITUDE = 0.0
  CENTER_LONGITUDE = 15.0
  COORDINATE_SYSTEM_NAME = PLANETOGRAPHIC
  COORDINATE_SYSTEM_TYPE = "BODY-FIXED ROTATING"
  EASTERNMOST_LONGITUDE = 21.949
  FIRST_STANDARD_PARALLEL = "N/A"
  LINE_FIRST_PIXEL = 1
  LINE_LAST_PIXEL = 15000
  LINE_PROJECTION_OFFSET = -84082.625
  MAP_PROJECTION_ROTATION = 0.0
  MAP_PROJECTION_TYPE = SINUSOIDAL
  MAP_RESOLUTION = 1185.42760773333
  MAP_SCALE = 0.05
  MAXIMUM_LATITUDE = -70.93340000000001
  MINIMUM_LATITUDE = -83.68729999999999
  POSITIVE_LONGITUDE_DIRECTION = EAST
  REFERENCE_LATITUDE = "N/A"
  REFERENCE_LONGITUDE = "N/A"
  SAMPLE_FIRST_PIXEL = 1
  SAMPLE_LAST_PIXEL = 5337
  SAMPLE_PROJECTION_OFFSET = 2643.625
  SECOND_STANDARD_PARALLEL = "N/A"
  WESTERNMOST_LONGITUDE = -3.349
END_OBJECT = IMAGE_MAP_PROJECTION
END
