PDS_VERSION_ID = PDS3
/* FILE DATA ELEMENTS */
RECORD_TYPE = UNDEFINED
/* POINTERS TO DATA OBJECTS */
^IMAGE = ("HN426_0000_GR4.TIF")
/* IDENTIFICATION DATA ELEMENTS */
DATA_SET_ID = "MEX-M-HRSC-4-REFDR-MAPPROJECT-EXT8-V4.0"
DATA_SET_NAME = "MARS EXPRESS HRSC MAP PROJECTED REFDR EXTENSION8 V4.0"
DETECTOR_ID = MEX_HRSC_GREEN
EVENT_TYPE = "MARS-REGIONAL-MAPPING-Gl-Pf-La"
INSTRUMENT_HOST_ID = MEX
INSTRUMENT_HOST_NAME = "MARS EXPRESS"
INSTRUMENT_ID = HRSC
INSTRUMENT_NAME = "HIGH RESOLUTION STEREO CAMERA"
MISSION_NAME = "MARS EXPRESS"
MISSION_PHASE_NAME = ME_Phase_47
PROCESSING_LEVEL_ID = 4
PRODUCT_CREATION_TIME = 2023-01-28T22:22:56.000Z
PRODUCT_ID = "HN426_0000_GR4.TIF"
RELEASE_ID = 0004
REVISION_ID = 0000
/* QUALITY DATA ELEMENTS */
DATA_QUALITY_ID = 1
DATA_QUALITY_DESC = "Data calculated based on original SPICE kernels"
/* TIME DATA ELEMENTS */
SPACECRAFT_CLOCK_START_COUNT = "1/0606260649.24895"
SPACECRAFT_CLOCK_STOP_COUNT = "1/0606260902.22406"
START_TIME = 2022-07-18T21:45:20.655Z
STOP_TIME = 2022-07-18T21:48:26.256Z
/* ORBITAL DATA ELEMENTS */
ASCENDING_NODE_LONGITUDE = 137.66
MAXIMUM_RESOLUTION = 0.0542
FOOTPRINT_POINT_LATITUDE = (-86.0222,-85.7918,-85.4615,-85.2707, -85.2629,-85.2312,-85.3877,-85.6081, -85.7445,-85.8705,-85.9868,-86.0931, -86.1866,-86.2675,-86.3339,-86.3854, -86.4221,-86.4431,-86.4446,-86.4254, -86.3904,-86.3403,-86.2754,-86.1967, -86.105,-86.0013,-85.8251,-85.6952, -85.5563,-85.409,-85.2549,-85.0943, -84.9275,-84.7554,-84.5784,-84.397, -84.2116,-84.0227,-83.8306,-83.6355, -83.4379,-83.1369,-82.9337,-82.7286, -82.3134,-81.8926,-81.4671,-80.8699, -80.6114,-80.4817,-80.4234,-80.5093, -80.6094,-80.6872,-80.8177,-80.8207, -80.8226,-81.0925,-81.362,-81.7505, -82.3113,-82.758,-83.091,-83.3122, -83.5325,-83.7517,-83.9699,-84.2946, -84.509,-84.722,-84.9328,-85.1415, -85.3475,-85.6498,-85.8464,-86.1342, -86.3193,-86.4985,-86.7534,-86.9119, -87.1292,-87.2577,-87.4212,-87.5425, -87.5977,-87.6301,-87.6395,-87.6242, -87.5845,-87.5233,-87.4405,-87.3386, -87.2205,-87.0156,-86.7837,-86.6168, -86.4415,-86.1656,-86.0706,-86.0222)
FOOTPRINT_POINT_LONGITUDE = (150.499,154.512,159.134,161.37,161.456 ,161.583,163.782,167.369,169.96,172.718 ,175.643,178.735,181.989,185.396, 188.939,192.595,196.344,200.153,205.907 ,209.717,213.468,217.13,220.677,224.088 ,227.348,230.448,234.785,237.466,239.98 ,242.327,244.535,246.604,248.533, 250.336,252.02,253.593,255.065,256.444, 257.736,258.942,260.082,261.658,262.636 ,263.555,265.241,266.748,268.1,269.758, 270.402,270.711,270.848,272.207,273.942 ,275.427,278.322,278.396,278.418, 277.962,277.476,276.72,275.477,274.345, 273.396,272.711,271.978,271.194,270.352 ,268.966,267.95,266.853,265.661,264.367 ,262.956,260.582,258.804,255.811, 253.555,251.065,246.827,243.621,238.174 ,234.084,227.241,219.596,214.128, 208.456,202.672,196.909,191.29,185.88, 180.788,176.056,171.679,165.833,160.778 ,157.809,155.126,151.578,150.509, 150.499)
ORBIT_NUMBER = 23426
ORBITAL_ECCENTRICITY = 0.575
ORBITAL_INCLINATION = 87.02
ORBITAL_SEMIMAJOR_AXIS = 8753.73
PERIAPSIS_ALTITUDE = 343.71
PERIAPSIS_ARGUMENT_ANGLE = 266.87
PERIAPSIS_TIME = 2022-07-18T21:45:17.000Z
SPACECRAFT_ORIENTATION = (0.0,1.0,0.0)
^MEX_ORIENTATION_DESC = "MEX_ORIENTATION_DESC.TXT"
SPACECRAFT_POINTING_MODE = NADIR
^MEX_POINTING_DESC = "MEX_POINTING_DESC.TXT"
RIGHT_ASCENSION = -1e+32
DECLINATION = -1e+32
OFFSET_ANGLE = -1e+32
SPACECRAFT_SOLAR_DISTANCE = 2.07445e+08
TARGET_NAME = MARS
/* CAMERA DATA ELEMENTS */
DETECTOR_TEMPERATURE = 18.5744
FOCAL_PLANE_TEMPERATURE = 9.195
INST_CMPRS_NAME = "DISCRETE COSINE TRANSFORMATION (DCT)"
INST_CMPRS_RATIO = 6.79639
INST_CMPRS_QUALITY = 0
INST_CMPRS_QUANTZ_TBL_ID = 0
INSTRUMENT_TEMPERATURE = 11.234
LENS_TEMPERATURE = 9.195
MACROPIXEL_SIZE = 4
MISSING_FRAMES = 0
PIXEL_SUBSAMPLING_FLAG = N
SIGNAL_CHAIN_ID = 2
/* RADIOMETRIC DATA ELEMENTS */
BANDWIDTH = 88.0
CENTER_FILTER_WAVELENGTH = 538.0
RADIANCE_OFFSET = 1.68159
RADIANCE_SCALING_FACTOR = 0.0251415
REFLECTANCE_SCALING_FACTOR = 0.000931513
MEX:REFLECTANCE_OFFSET = 0.0623045
/* IMAGE OBJECT DEFINITIONS */
OBJECT = IMAGE
  INTERCHANGE_FORMAT = BINARY
  LINES = 6967
  LINE_SAMPLES = 13730
  SAMPLE_TYPE = UNSIGNED_INTEGER
  SAMPLE_BITS = 8
  BANDS = 1
  BAND_STORAGE_TYPE = BAND_SEQUENTIAL
  MAXIMUM = 255
  MEAN = 113.929
  MINIMUM = 1
  STANDARD_DEVIATION = 79.6189
END_OBJECT = IMAGE
/* MAP OBJECT DEFINITIONS */
OBJECT = IMAGE_MAP_PROJECTION
  ^DATA_SET_MAP_PROJECTION_CATALOG= "DSMAP.CAT"
  A_AXIS_RADIUS = 3396.0
  B_AXIS_RADIUS = 3396.0
  C_AXIS_RADIUS = 3396.0
  CENTER_LATITUDE = -90.0
  CENTER_LONGITUDE = 0.0
  COORDINATE_SYSTEM_NAME = PLANETOGRAPHIC
  COORDINATE_SYSTEM_TYPE = "BODY-FIXED ROTATING"
  EASTERNMOST_LONGITUDE = 278.418
  FIRST_STANDARD_PARALLEL = "N/A"
  LINE_FIRST_PIXEL = 1
  LINE_LAST_PIXEL = 6967
  LINE_PROJECTION_OFFSET = 1585.125
  MAP_PROJECTION_ROTATION = 0.0
  MAP_PROJECTION_TYPE = STEREOGRAPHIC
  MAP_RESOLUTION = 1185.42760773333
  MAP_SCALE = 0.05
  MAXIMUM_LATITUDE = -80.4234
  MINIMUM_LATITUDE = -87.6395
  POSITIVE_LONGITUDE_DIRECTION = EAST
  REFERENCE_LATITUDE = "N/A"
  REFERENCE_LONGITUDE = "N/A"
  SAMPLE_FIRST_PIXEL = 1
  SAMPLE_LAST_PIXEL = 13730
  SAMPLE_PROJECTION_OFFSET = 11361.625
  SECOND_STANDARD_PARALLEL = "N/A"
  WESTERNMOST_LONGITUDE = 150.499
END_OBJECT = IMAGE_MAP_PROJECTION
END
