PDS_VERSION_ID = PDS3
/* FILE DATA ELEMENTS */
RECORD_TYPE = UNDEFINED
/* POINTERS TO DATA OBJECTS */
^IMAGE = ("HN463_0000_IR4.TIF")
/* IDENTIFICATION DATA ELEMENTS */
DATA_SET_ID = "MEX-M-HRSC-4-REFDR-MAPPROJECT-EXT8-V4.0"
DATA_SET_NAME = "MARS EXPRESS HRSC MAP PROJECTED REFDR EXTENSION8 V4.0"
DETECTOR_ID = MEX_HRSC_IR
EVENT_TYPE = "MARS-REGIONAL-MAPPING-Gl-La"
INSTRUMENT_HOST_ID = MEX
INSTRUMENT_HOST_NAME = "MARS EXPRESS"
INSTRUMENT_ID = HRSC
INSTRUMENT_NAME = "HIGH RESOLUTION STEREO CAMERA"
MISSION_NAME = "MARS EXPRESS"
MISSION_PHASE_NAME = ME_Phase_47
PROCESSING_LEVEL_ID = 4
PRODUCT_CREATION_TIME = 2023-01-28T22:22:56.000Z
PRODUCT_ID = "HN463_0000_IR4.TIF"
RELEASE_ID = 0004
REVISION_ID = 0000
/* QUALITY DATA ELEMENTS */
DATA_QUALITY_ID = 1
DATA_QUALITY_DESC = "Data calculated based on original SPICE kernels"
/* TIME DATA ELEMENTS */
SPACECRAFT_CLOCK_START_COUNT = "1/0607190987.25682"
SPACECRAFT_CLOCK_STOP_COUNT = "1/0607191251.57409"
START_TIME = 2022-07-29T16:10:28.242Z
STOP_TIME = 2022-07-29T16:13:32.748Z
/* ORBITAL DATA ELEMENTS */
ASCENDING_NODE_LONGITUDE = 137.01
MAXIMUM_RESOLUTION = 0.0592
FOOTPRINT_POINT_LATITUDE = (-84.1618,-84.2794,-84.3796,-84.4758, -84.4775,-84.5685,-84.81,-85.1701, -85.5314,-85.772,-86.0139,-86.2552, -86.6172,-86.8588,-87.1009,-87.3424, -87.7047,-87.9462,-88.188,-88.5506, -88.7923,-89.1543,-89.5146,-89.7504, -89.85,-89.6222,-89.3833,-89.1429, -88.7803,-88.5382,-88.1748,-87.8114, -87.569,-87.3266,-87.0843,-86.8418, -86.5984,-86.2351,-85.9932,-85.7498, -85.5067,-85.2652,-85.0231,-84.781, -84.5384,-84.2958,-84.0544,-83.8121, -83.4487,-83.3269,-83.2368,-83.2743, -83.2898,-83.285,-83.2504,-83.248, -83.2485,-83.7196,-83.9551,-84.1903, -84.4253,-84.6593,-84.893,-85.1256, -85.3581,-85.5892,-85.8205,-86.1654, -86.5026,-86.8348,-87.0519,-87.2646, -87.5729,-87.7691,-87.9558,-88.2098, -88.356,-88.4775,-88.5997,-88.6327, -88.6227,-88.5348,-88.3615,-88.1358, -87.9635,-87.7788,-87.5836,-87.2771, -86.8511,-86.5212,-86.1855,-85.8454, -85.6167,-85.2744,-84.9252,-84.6924, -84.4589,-84.3429,-84.1618)
FOOTPRINT_POINT_LONGITUDE = (308.499,304.934,301.02,295.325,295.181 ,293.565,293.51,293.469,293.397,293.351 ,293.27,293.197,293.069,292.958,292.819 ,292.677,292.409,292.186,291.883, 291.242,290.601,288.963,284.922,275.656 ,146.631,126.632,121.841,119.706,118.13 ,117.517,116.902,116.487,116.28,116.109 ,115.962,115.845,115.767,115.626,115.54 ,115.493,115.446,115.375,115.323, 115.274,115.239,115.206,115.159,115.129 ,115.088,115.084,115.079,111.817, 108.163,105.859,102.066,101.963,101.924 ,101.087,100.611,100.094,99.5275, 98.9168,98.2421,97.509,96.6842,95.7783, 94.7356,92.9074,90.8145,88.2461,86.2176 ,83.8764,79.6181,76.1361,71.9401,64.145 ,57.6906,50.0998,36.6669,26.7264,16.603 ,2.47775,350.513,341.174,336.184,332.0, 328.479,324.173,319.769,317.196,315.076 ,313.306,312.281,310.915,309.766, 309.081,308.454,308.155,308.499)
ORBIT_NUMBER = 23463
ORBITAL_ECCENTRICITY = 0.575
ORBITAL_INCLINATION = 87.03
ORBITAL_SEMIMAJOR_AXIS = 8754.37
PERIAPSIS_ALTITUDE = 344.12
PERIAPSIS_ARGUMENT_ANGLE = 260.64
PERIAPSIS_TIME = 2022-07-29T16:09:56.000Z
SPACECRAFT_ORIENTATION = (0.0,-1.0,0.0)
^MEX_ORIENTATION_DESC = "MEX_ORIENTATION_DESC.TXT"
SPACECRAFT_POINTING_MODE = ACROSSTRACK
^MEX_POINTING_DESC = "MEX_POINTING_DESC.TXT"
RIGHT_ASCENSION = -1e+32
DECLINATION = -1e+32
OFFSET_ANGLE = -2.155
SPACECRAFT_SOLAR_DISTANCE = 2.08191e+08
TARGET_NAME = MARS
/* CAMERA DATA ELEMENTS */
DETECTOR_TEMPERATURE = 16.9432
FOCAL_PLANE_TEMPERATURE = 7.5638
INST_CMPRS_NAME = "DISCRETE COSINE TRANSFORMATION (DCT)"
INST_CMPRS_RATIO = 8.67407
INST_CMPRS_QUALITY = 0
INST_CMPRS_QUANTZ_TBL_ID = 0
INSTRUMENT_TEMPERATURE = 11.0301
LENS_TEMPERATURE = 7.9716
MACROPIXEL_SIZE = 4
MISSING_FRAMES = 0
PIXEL_SUBSAMPLING_FLAG = N
SIGNAL_CHAIN_ID = 2
/* RADIOMETRIC DATA ELEMENTS */
BANDWIDTH = 81.0
CENTER_FILTER_WAVELENGTH = 955.5
RADIANCE_OFFSET = 1.38199
RADIANCE_SCALING_FACTOR = 0.00914916
REFLECTANCE_SCALING_FACTOR = 0.000855527
MEX:REFLECTANCE_OFFSET = 0.129228
/* IMAGE OBJECT DEFINITIONS */
OBJECT = IMAGE
  INTERCHANGE_FORMAT = BINARY
  LINES = 7527
  LINE_SAMPLES = 13919
  SAMPLE_TYPE = UNSIGNED_INTEGER
  SAMPLE_BITS = 8
  BANDS = 1
  BAND_STORAGE_TYPE = BAND_SEQUENTIAL
  MAXIMUM = 255
  MEAN = 129.532
  MINIMUM = 1
  STANDARD_DEVIATION = 87.73
END_OBJECT = IMAGE
/* MAP OBJECT DEFINITIONS */
OBJECT = IMAGE_MAP_PROJECTION
  ^DATA_SET_MAP_PROJECTION_CATALOG= "DSMAP.CAT"
  A_AXIS_RADIUS = 3396.0
  B_AXIS_RADIUS = 3396.0
  C_AXIS_RADIUS = 3396.0
  CENTER_LATITUDE = -90.0
  CENTER_LONGITUDE = 0.0
  COORDINATE_SYSTEM_NAME = PLANETOGRAPHIC
  COORDINATE_SYSTEM_TYPE = "BODY-FIXED ROTATING"
  EASTERNMOST_LONGITUDE = 360.0
  FIRST_STANDARD_PARALLEL = "N/A"
  LINE_FIRST_PIXEL = 1
  LINE_LAST_PIXEL = 7527
  LINE_PROJECTION_OFFSET = 4154.375
  MAP_PROJECTION_ROTATION = 0.0
  MAP_PROJECTION_TYPE = STEREOGRAPHIC
  MAP_RESOLUTION = 1185.42760773333
  MAP_SCALE = 0.05
  MAXIMUM_LATITUDE = -83.2368
  MINIMUM_LATITUDE = -90.0
  POSITIVE_LONGITUDE_DIRECTION = EAST
  REFERENCE_LATITUDE = "N/A"
  REFERENCE_LONGITUDE = "N/A"
  SAMPLE_FIRST_PIXEL = 1
  SAMPLE_LAST_PIXEL = 13919
  SAMPLE_PROJECTION_OFFSET = 5966.375
  SECOND_STANDARD_PARALLEL = "N/A"
  WESTERNMOST_LONGITUDE = 0.0
END_OBJECT = IMAGE_MAP_PROJECTION
END
