PDS_VERSION_ID = PDS3
/* FILE DATA ELEMENTS */
RECORD_TYPE = UNDEFINED
/* POINTERS TO DATA OBJECTS */
^IMAGE = ("HN463_0000_P14.TIF")
/* IDENTIFICATION DATA ELEMENTS */
DATA_SET_ID = "MEX-M-HRSC-4-REFDR-MAPPROJECT-EXT8-V4.0"
DATA_SET_NAME = "MARS EXPRESS HRSC MAP PROJECTED REFDR EXTENSION8 V4.0"
DETECTOR_ID = MEX_HRSC_P1
EVENT_TYPE = "MARS-REGIONAL-MAPPING-Gl-La"
INSTRUMENT_HOST_ID = MEX
INSTRUMENT_HOST_NAME = "MARS EXPRESS"
INSTRUMENT_ID = HRSC
INSTRUMENT_NAME = "HIGH RESOLUTION STEREO CAMERA"
MISSION_NAME = "MARS EXPRESS"
MISSION_PHASE_NAME = ME_Phase_47
PROCESSING_LEVEL_ID = 4
PRODUCT_CREATION_TIME = 2023-01-28T22:22:56.000Z
PRODUCT_ID = "HN463_0000_P14.TIF"
RELEASE_ID = 0004
REVISION_ID = 0000
/* QUALITY DATA ELEMENTS */
DATA_QUALITY_ID = 1
DATA_QUALITY_DESC = "Data calculated based on original SPICE kernels"
/* TIME DATA ELEMENTS */
SPACECRAFT_CLOCK_START_COUNT = "1/0607190987.25682"
SPACECRAFT_CLOCK_STOP_COUNT = "1/0607191251.57409"
START_TIME = 2022-07-29T16:10:34.056Z
STOP_TIME = 2022-07-29T16:13:39.030Z
/* ORBITAL DATA ELEMENTS */
ASCENDING_NODE_LONGITUDE = 137.01
MAXIMUM_RESOLUTION = 0.0292
FOOTPRINT_POINT_LATITUDE = (-84.204,-84.3182,-84.4122,-84.4895, -84.491,-84.5622,-84.8057,-85.1691, -85.5335,-85.7762,-86.0198,-86.263, -86.6278,-86.8713,-87.115,-87.3582, -87.6015,-87.9663,-88.2098,-88.5748, -88.818,-89.1823,-89.5446,-89.7806, -89.9127,-89.707,-89.3476,-89.1056, -88.8626,-88.6194,-88.2542,-88.0109, -87.7675,-87.524,-87.2806,-87.0372, -86.6719,-86.4277,-86.1851,-85.9421, -85.6975,-85.3335,-85.0906,-84.7264, -84.4829,-84.2401,-83.8765,-83.6339, -83.3906,-83.2679,-83.2519,-83.2739, -83.2878,-83.2765,-83.2317,-83.2293, -83.2288,-83.7035,-84.1755,-84.4111, -84.7632,-85.2302,-85.4625,-85.6952, -86.0402,-86.2685,-86.4935,-86.8266, -87.0444,-87.2577,-87.5671,-87.764, -87.951,-88.2055,-88.3518,-88.4732, -88.5946,-88.6265,-88.6152,-88.5247, -88.3496,-88.1215,-87.9477,-87.7614, -87.5645,-87.3603,-87.1498,-86.9348, -86.7163,-86.4934,-86.2685,-85.9271, -85.6973,-85.4658,-85.1186,-84.8844, -84.4152,-84.2971,-84.204)
FOOTPRINT_POINT_LONGITUDE = (308.647,304.892,300.765,295.365, 295.215,293.594,293.54,293.499,293.427, 293.382,293.302,293.229,293.102,292.991 ,292.853,292.712,292.544,292.218, 291.914,291.264,290.605,288.898,284.507 ,273.438,178.132,129.919,121.284, 119.379,118.322,117.64,116.975,116.658, 116.413,116.217,116.056,115.918,115.762 ,115.694,115.592,115.512,115.483, 115.383,115.327,115.256,115.227,115.19, 115.131,115.1,115.084,115.08,115.078, 112.882,109.935,105.851,102.037,101.929 ,101.892,101.036,100.04,99.4727,98.5282 ,97.0455,96.1843,95.1816,93.4969,92.18, 90.7411,88.1672,86.132,83.7827,79.5064, 76.0059,71.7983,63.9681,57.4841,49.8607 ,36.3791,26.4214,16.297,2.17203,350.277 ,340.979,336.011,331.845,328.34,325.368 ,322.832,320.647,318.75,317.103,315.651 ,313.781,312.702,311.738,310.449, 309.701,308.386,308.095,308.647)
ORBIT_NUMBER = 23463
ORBITAL_ECCENTRICITY = 0.575
ORBITAL_INCLINATION = 87.03
ORBITAL_SEMIMAJOR_AXIS = 8754.37
PERIAPSIS_ALTITUDE = 344.12
PERIAPSIS_ARGUMENT_ANGLE = 260.64
PERIAPSIS_TIME = 2022-07-29T16:09:56.000Z
SPACECRAFT_ORIENTATION = (0.0,-1.0,0.0)
^MEX_ORIENTATION_DESC = "MEX_ORIENTATION_DESC.TXT"
SPACECRAFT_POINTING_MODE = ACROSSTRACK
^MEX_POINTING_DESC = "MEX_POINTING_DESC.TXT"
RIGHT_ASCENSION = -1e+32
DECLINATION = -1e+32
OFFSET_ANGLE = -2.155
SPACECRAFT_SOLAR_DISTANCE = 2.08191e+08
TARGET_NAME = MARS
/* CAMERA DATA ELEMENTS */
DETECTOR_TEMPERATURE = 16.9432
FOCAL_PLANE_TEMPERATURE = 7.5638
INST_CMPRS_NAME = "DISCRETE COSINE TRANSFORMATION (DCT)"
INST_CMPRS_RATIO = 12.3261
INST_CMPRS_QUALITY = 0
INST_CMPRS_QUANTZ_TBL_ID = 0
INSTRUMENT_TEMPERATURE = 11.0301
LENS_TEMPERATURE = 7.9716
MACROPIXEL_SIZE = 2
MISSING_FRAMES = 0
PIXEL_SUBSAMPLING_FLAG = N
SIGNAL_CHAIN_ID = 3
/* RADIOMETRIC DATA ELEMENTS */
BANDWIDTH = 174.0
CENTER_FILTER_WAVELENGTH = 675.0
RADIANCE_OFFSET = 5.18964
RADIANCE_SCALING_FACTOR = 0.0300518
REFLECTANCE_SCALING_FACTOR = 0.000700615
MEX:REFLECTANCE_OFFSET = 0.120989
/* IMAGE OBJECT DEFINITIONS */
OBJECT = IMAGE
  INTERCHANGE_FORMAT = BINARY
  LINES = 15054
  LINE_SAMPLES = 27837
  SAMPLE_TYPE = UNSIGNED_INTEGER
  SAMPLE_BITS = 8
  BANDS = 1
  BAND_STORAGE_TYPE = BAND_SEQUENTIAL
  MAXIMUM = 255
  MEAN = 156.937
  MINIMUM = 1
  STANDARD_DEVIATION = 99.6271
END_OBJECT = IMAGE
/* MAP OBJECT DEFINITIONS */
OBJECT = IMAGE_MAP_PROJECTION
  ^DATA_SET_MAP_PROJECTION_CATALOG= "DSMAP.CAT"
  A_AXIS_RADIUS = 3396.0
  B_AXIS_RADIUS = 3396.0
  C_AXIS_RADIUS = 3396.0
  CENTER_LATITUDE = -90.0
  CENTER_LONGITUDE = 0.0
  COORDINATE_SYSTEM_NAME = PLANETOGRAPHIC
  COORDINATE_SYSTEM_TYPE = "BODY-FIXED ROTATING"
  EASTERNMOST_LONGITUDE = 360.0
  FIRST_STANDARD_PARALLEL = "N/A"
  LINE_FIRST_PIXEL = 1
  LINE_LAST_PIXEL = 15054
  LINE_PROJECTION_OFFSET = 8309.25
  MAP_PROJECTION_ROTATION = 0.0
  MAP_PROJECTION_TYPE = STEREOGRAPHIC
  MAP_RESOLUTION = 2370.85521546667
  MAP_SCALE = 0.025
  MAXIMUM_LATITUDE = -83.22880000000001
  MINIMUM_LATITUDE = -90.0
  POSITIVE_LONGITUDE_DIRECTION = EAST
  REFERENCE_LATITUDE = "N/A"
  REFERENCE_LONGITUDE = "N/A"
  SAMPLE_FIRST_PIXEL = 1
  SAMPLE_LAST_PIXEL = 27837
  SAMPLE_PROJECTION_OFFSET = 11933.25
  SECOND_STANDARD_PARALLEL = "N/A"
  WESTERNMOST_LONGITUDE = 0.0
END_OBJECT = IMAGE_MAP_PROJECTION
END
